PDS_VERSION_ID = PDS3
/* FILE DATA ELEMENTS */
RECORD_TYPE = STREAM
/* POINTERS TO DATA OBJECTS */
^COMPRESSED_FILE = "H1476_0000_P23.JP2"
/* IDENTIFICATION DATA ELEMENTS */
DATA_SET_ID = "MEX-M-HRSC-5-REFDR-MAPPROJECTED-V3.0"
DATA_SET_NAME = "MARS EXPRESS HRSC MAP PROJECTED REFDR V3.0"
DETECTOR_ID = MEX_HRSC_P2
EVENT_TYPE = "MARS-REGIONAL-MAPPING-Vo-Im-Eo"
INSTRUMENT_HOST_ID = MEX
INSTRUMENT_HOST_NAME = "MARS EXPRESS"
INSTRUMENT_ID = HRSC
INSTRUMENT_NAME = "HIGH RESOLUTION STEREO CAMERA"
MISSION_NAME = "MARS EXPRESS"
MISSION_PHASE_NAME = MR_Phase_5
PROCESSING_LEVEL_ID = 3
PRODUCT_CREATION_TIME = 2016-03-05T14:51:22.000Z
PRODUCT_ID = "H1476_0000_P23.JP2"
RELEASE_ID = 0019
REVISION_ID = 0000
/* QUALITY DATA ELEMENTS */
DATA_QUALITY_ID = 1
DATA_QUALITY_DESC = "Data calculated based on original SPICE kernels"
/* TIME DATA ELEMENTS */
SPACECRAFT_CLOCK_START_COUNT = "1/0058669844.57931"
SPACECRAFT_CLOCK_STOP_COUNT = "1/0058670353.06449"
START_TIME = 2005-03-12T01:11:02.934Z
STOP_TIME = 2005-03-12T01:19:19.064Z
/* ORBITAL DATA ELEMENTS */
ASCENDING_NODE_LONGITUDE = 197.57
MAXIMUM_RESOLUTION = 55
FOOTPRINT_POINT_LATITUDE = (76.024,76.1645,75.6405,75.115,74.587, 74.0576,73.2608,72.7281,72.1941,71.6594 ,71.1232,70.5862,70.0488,69.4942, 68.9382,68.1033,67.5464,66.9891,66.4313 ,65.8736,65.3158,64.7584,63.9216,63.085 ,62.1513,61.5074,60.8639,60.2212,59.579 ,58.9373,58.2964,57.64,56.9843,56.3132, 55.6348,54.9467,54.2512,53.5485,52.8312 ,52.1046,51.3687,50.6221,49.8608, 49.0879,48.3023,47.5033,46.6909,45.8636 ,44.6219,44.4084,44.3085,45.1319, 45.9586,46.7778,47.5823,48.3734,49.1507 ,49.9158,50.6697,51.4118,52.1406, 52.8582,53.5683,54.2674,54.9548,55.6373 ,56.3058,56.9696,57.6228,58.2701, 58.9075,59.5456,60.1841,60.8231,61.4626 ,62.1021,62.721,63.2742,63.8275,64.3805 ,64.9334,65.4861,66.0385,66.5904, 67.1419,67.6929,68.2434,68.7926,69.341, 70.1463,70.9386,71.4652,71.9904,72.5139 ,73.0353,73.8138,74.3298,74.8433, 75.3538,76.024)
FOOTPRINT_POINT_LONGITUDE = (336.8,339.313,339.952,340.547,341.1, 341.616,342.328,342.765,343.176,343.562 ,343.925,344.268,344.591,344.906, 345.205,345.622,345.883,346.13,346.364, 346.587,346.8,347.002,347.288,347.554, 347.83,348.009,348.18,348.342,348.496, 348.644,348.784,348.921,349.053,349.181 ,349.303,349.422,349.538,349.65,349.758 ,349.863,349.965,350.063,350.159, 350.252,350.342,350.429,350.513,350.595 ,350.71,349.233,347.969,347.908,347.84, 347.768,347.691,347.61,347.524,347.435, 347.34,347.24,347.135,347.025,346.911, 346.79,346.665,346.534,346.398,346.255, 346.106,345.951,345.789,345.619,345.438 ,345.247,345.046,344.833,344.614, 344.408,344.192,343.964,343.724,343.472 ,343.206,342.925,342.629,342.317, 341.987,341.637,341.266,340.681,340.049 ,339.595,339.113,338.6,338.053,337.164, 336.519,335.828,335.088,336.8)
ORBIT_NUMBER = 1476
ORBITAL_ECCENTRICITY = 0.566
ORBITAL_INCLINATION = 86.61
ORBITAL_SEMIMAJOR_AXIS = 8534.33
PERIAPSIS_ALTITUDE = 326.89
PERIAPSIS_ARGUMENT_ANGLE = 100.61
PERIAPSIS_TIME = 2005-03-12T01:10:44.000Z
SPACECRAFT_ORIENTATION = (0.0,1.0,0.0)
^MEX_ORIENTATION_DESC = "MEX_ORIENTATION_DESC.TXT"
SPACECRAFT_POINTING_MODE = ACROSSTRACK
^MEX_POINTING_DESC = "MEX_POINTING_DESC.TXT"
RIGHT_ASCENSION = -1e+32
DECLINATION = -1e+32
OFFSET_ANGLE = -1.28
SPACECRAFT_SOLAR_DISTANCE = 2.21341e+08
TARGET_NAME = MARS
/* CAMERA DATA ELEMENTS */
DETECTOR_TEMPERATURE = 18.3705
FOCAL_PLANE_TEMPERATURE = 7.9716
INST_CMPRS_NAME = "DISCRETE COSINE TRANSFORMATION (DCT)"
INST_CMPRS_RATIO = 11.6545
INST_CMPRS_QUALITY = 0
INST_CMPRS_QUANTZ_TBL_ID = 0
INSTRUMENT_TEMPERATURE = 11.0301
LENS_TEMPERATURE = 8.3794
MACROPIXEL_SIZE = 4
MISSING_FRAMES = 0
PIXEL_SUBSAMPLING_FLAG = N
SIGNAL_CHAIN_ID = 3
/* RADIOMETRIC DATA ELEMENTS */
BANDWIDTH = 177.0
CENTER_FILTER_WAVELENGTH = 676.5
RADIANCE_OFFSET = 2.91076
RADIANCE_SCALING_FACTOR = 0.0168567
REFLECTANCE_SCALING_FACTOR = 0.000437879
MEX:REFLECTANCE_OFFSET = 0.0756116
/* IMAGE OBJECT DEFINITIONS */
OBJECT = IMAGE
  INTERCHANGE_FORMAT = BINARY
  LINES = 37697
  LINE_SAMPLES = 7346
  SAMPLE_TYPE = UNSIGNED_INTEGER
  SAMPLE_BITS = 8
  BANDS = 1
  BAND_STORAGE_TYPE = BAND_SEQUENTIAL
  MAXIMUM = 229
  MEAN = 137.317
  MINIMUM = 85
  STANDARD_DEVIATION = 18.909
END_OBJECT = IMAGE
/* MAP OBJECT DEFINITIONS */
OBJECT = IMAGE_MAP_PROJECTION
  ^DATA_SET_MAP_PROJECTION_CATALOG= "DSMAP.CAT"
  A_AXIS_RADIUS = 3396.0
  B_AXIS_RADIUS = 3396.0
  C_AXIS_RADIUS = 3396.0
  CENTER_LATITUDE = 0.0
  CENTER_LONGITUDE = 346.0
  COORDINATE_SYSTEM_NAME = PLANETOGRAPHIC
  COORDINATE_SYSTEM_TYPE = "BODY-FIXED ROTATING"
  EASTERNMOST_LONGITUDE = 350.71
  FIRST_STANDARD_PARALLEL = "N/A"
  LINE_FIRST_PIXEL = 1
  LINE_LAST_PIXEL = 37697
  LINE_PROJECTION_OFFSET = 90278.125
  MAP_PROJECTION_ROTATION = 0.0
  MAP_PROJECTION_TYPE = SINUSOIDAL
  MAP_RESOLUTION = 1185.42760773333
  MAP_SCALE = 0.05
  MAXIMUM_LATITUDE = 76.1645
  MINIMUM_LATITUDE = 44.3085
  POSITIVE_LONGITUDE_DIRECTION = EAST
  REFERENCE_LATITUDE = "N/A"
  REFERENCE_LONGITUDE = "N/A"
  SAMPLE_FIRST_PIXEL = 1
  SAMPLE_LAST_PIXEL = 7346
  SAMPLE_PROJECTION_OFFSET = 3281.625
  SECOND_STANDARD_PARALLEL = "N/A"
  WESTERNMOST_LONGITUDE = 335.088
END_OBJECT = IMAGE_MAP_PROJECTION
/* The JPEG2000 image data file associated with this label. */
OBJECT = COMPRESSED_FILE
  FILE_NAME = "H1476_0000_P23.JP2"
  RECORD_TYPE = UNDEFINED
  FILE_RECORDS = UNK
  ENCODING_TYPE = "JP2"
  INTERCHANGE_FORMAT = BINARY
  UNCOMPRESSED_FILE_NAME = "H1476_0000_P23.IMG"
  REQUIRED_STORAGE_BYTES = "276951546"
  ^DESCRIPTION = "JP2INFO.TXT"
END_OBJECT = COMPRESSED_FILE
END
