PDS_VERSION_ID = PDS3
/* FILE DATA ELEMENTS */
RECORD_TYPE = STREAM
/* POINTERS TO DATA OBJECTS */
^COMPRESSED_FILE = "H1483_0000_RE3.JP2"
/* IDENTIFICATION DATA ELEMENTS */
DATA_SET_ID = "MEX-M-HRSC-5-REFDR-MAPPROJECTED-V3.0"
DATA_SET_NAME = "MARS EXPRESS HRSC MAP PROJECTED REFDR V3.0"
DETECTOR_ID = MEX_HRSC_RED
EVENT_TYPE = "MARS-REGIONAL-MAPPING-Te-Eo-Mw"
INSTRUMENT_HOST_ID = MEX
INSTRUMENT_HOST_NAME = "MARS EXPRESS"
INSTRUMENT_ID = HRSC
INSTRUMENT_NAME = "HIGH RESOLUTION STEREO CAMERA"
MISSION_NAME = "MARS EXPRESS"
MISSION_PHASE_NAME = MR_Phase_5
PROCESSING_LEVEL_ID = 3
PRODUCT_CREATION_TIME = 2016-03-05T14:51:22.000Z
PRODUCT_ID = "H1483_0000_RE3.JP2"
RELEASE_ID = 0019
REVISION_ID = 0000
/* QUALITY DATA ELEMENTS */
DATA_QUALITY_ID = 1
DATA_QUALITY_DESC = "Data calculated based on original SPICE kernels"
/* TIME DATA ELEMENTS */
SPACECRAFT_CLOCK_START_COUNT = "1/0058839249.57303"
SPACECRAFT_CLOCK_STOP_COUNT = "1/0058839777.02575"
START_TIME = 2005-03-14T00:14:22.568Z
STOP_TIME = 2005-03-14T00:27:29.893Z
/* ORBITAL DATA ELEMENTS */
ASCENDING_NODE_LONGITUDE = 197.41
MAXIMUM_RESOLUTION = 55.3
FOOTPRINT_POINT_LATITUDE = (76.9843,76.2299,75.4739,74.7161, 73.9569,73.1967,72.4296,71.642,70.8539, 70.0652,69.2757,68.4634,67.6482,66.8333 ,65.6108,64.7966,63.7523,62.9391, 62.0015,60.595,59.659,58.7246,57.7707, 56.8014,55.8143,54.8074,53.7788,52.728, 51.6524,50.5542,49.4298,48.2735,47.0902 ,45.8815,44.6781,42.8834,41.6844, 40.5041,39.3354,37.5867,36.4302,35.2777 ,34.1418,33.0093,31.8824,30.7661, 29.6534,28.5565,27.4641,27.4268,27.4481 ,27.4654,28.0071,29.097,30.1937,31.8437 ,32.9813,34.1074,35.2386,36.3797, 38.1133,39.8537,41.0257,42.2079,43.3974 ,45.1999,46.3996,48.1847,49.3399, 50.4611,51.5594,52.6321,53.6817,54.7079 ,55.7132,56.6985,57.6658,58.6183, 59.5491,60.4816,61.4155,62.35,63.2285, 64.038,64.6726,65.4828,66.6986,67.5083, 68.3181,69.5184,70.3007,71.083,71.8634, 72.637,73.3896,74.1399,74.8882,75.6332, 76.7458,76.9843)
FOOTPRINT_POINT_LONGITUDE = (19.3019,19.7995,20.2437,20.6431, 21.0041,21.3308,21.6309,21.9109,22.1662 ,22.4002,22.6164,22.8199,23.0085, 23.1821,23.4196,23.5629,23.7327,23.8549 ,23.9856,24.1637,24.2718,24.3723, 24.4676,24.5577,24.6433,24.7243,24.8016 ,24.8744,24.9448,25.0097,25.0725, 25.1333,25.1897,25.2418,25.2882,25.3523 ,25.3992,25.4338,25.4624,25.5074, 25.5344,25.5615,25.581,25.6014,25.6215, 25.6383,25.6563,25.6684,25.6814,24.8934 ,24.0783,22.8333,22.3482,22.389,22.4261 ,22.4732,22.5056,22.5301,22.5499,22.566 ,22.5827,22.5867,22.5831,22.5742, 22.5592,22.5247,22.4914,22.4289,22.3786 ,22.3215,22.2574,22.1862,22.1078, 22.0219,21.9284,21.8269,21.717,21.5979, 21.4701,21.3299,21.176,21.0071,20.8334, 20.6593,20.5126,20.3109,19.9745,19.7252 ,19.4531,19.0018,18.6726,18.3113,17.915 ,17.4818,17.0163,16.5027,15.9334, 15.3012,14.2099,19.3019)
ORBIT_NUMBER = 1483
ORBITAL_ECCENTRICITY = 0.566
ORBITAL_INCLINATION = 86.6
ORBITAL_SEMIMAJOR_AXIS = 8534.81
PERIAPSIS_ALTITUDE = 326.99
PERIAPSIS_ARGUMENT_ANGLE = 99.38
PERIAPSIS_TIME = 2005-03-14T00:13:56.000Z
SPACECRAFT_ORIENTATION = (0.0,1.0,0.0)
^MEX_ORIENTATION_DESC = "MEX_ORIENTATION_DESC.TXT"
SPACECRAFT_POINTING_MODE = ACROSSTRACK
^MEX_POINTING_DESC = "MEX_POINTING_DESC.TXT"
RIGHT_ASCENSION = -1e+32
DECLINATION = -1e+32
OFFSET_ANGLE = 0.6
SPACECRAFT_SOLAR_DISTANCE = 2.20968e+08
TARGET_NAME = MARS
/* CAMERA DATA ELEMENTS */
DETECTOR_TEMPERATURE = 18.7783
FOCAL_PLANE_TEMPERATURE = 8.5833
INST_CMPRS_NAME = "DISCRETE COSINE TRANSFORMATION (DCT)"
INST_CMPRS_RATIO = 18.1274
INST_CMPRS_QUALITY = 0
INST_CMPRS_QUANTZ_TBL_ID = 0
INSTRUMENT_TEMPERATURE = 11.4379
LENS_TEMPERATURE = 8.7872
MACROPIXEL_SIZE = 4
MISSING_FRAMES = 32
PIXEL_SUBSAMPLING_FLAG = N
SIGNAL_CHAIN_ID = 2
/* RADIOMETRIC DATA ELEMENTS */
BANDWIDTH = 48.0
CENTER_FILTER_WAVELENGTH = 748.0
RADIANCE_OFFSET = 0.580023
RADIANCE_SCALING_FACTOR = 0.0115068
REFLECTANCE_SCALING_FACTOR = 0.00128216
MEX:REFLECTANCE_OFFSET = 0.0646296
/* IMAGE OBJECT DEFINITIONS */
OBJECT = IMAGE
  INTERCHANGE_FORMAT = BINARY
  LINES = 58795
  LINE_SAMPLES = 5445
  SAMPLE_TYPE = UNSIGNED_INTEGER
  SAMPLE_BITS = 8
  BANDS = 1
  BAND_STORAGE_TYPE = BAND_SEQUENTIAL
  MAXIMUM = 216
  MEAN = 104.587
  MINIMUM = 33
  STANDARD_DEVIATION = 36.5435
END_OBJECT = IMAGE
/* MAP OBJECT DEFINITIONS */
OBJECT = IMAGE_MAP_PROJECTION
  ^DATA_SET_MAP_PROJECTION_CATALOG= "DSMAP.CAT"
  A_AXIS_RADIUS = 3396.0
  B_AXIS_RADIUS = 3396.0
  C_AXIS_RADIUS = 3396.0
  CENTER_LATITUDE = 0.0
  CENTER_LONGITUDE = 23.0
  COORDINATE_SYSTEM_NAME = PLANETOGRAPHIC
  COORDINATE_SYSTEM_TYPE = "BODY-FIXED ROTATING"
  EASTERNMOST_LONGITUDE = 25.6814
  FIRST_STANDARD_PARALLEL = "N/A"
  LINE_FIRST_PIXEL = 1
  LINE_LAST_PIXEL = 58795
  LINE_PROJECTION_OFFSET = 91282.375
  MAP_PROJECTION_ROTATION = 0.0
  MAP_PROJECTION_TYPE = SINUSOIDAL
  MAP_RESOLUTION = 1185.42760773333
  MAP_SCALE = 0.05
  MAXIMUM_LATITUDE = 76.9843
  MINIMUM_LATITUDE = 27.4268
  POSITIVE_LONGITUDE_DIRECTION = EAST
  REFERENCE_LATITUDE = "N/A"
  REFERENCE_LONGITUDE = "N/A"
  SAMPLE_FIRST_PIXEL = 1
  SAMPLE_LAST_PIXEL = 5445
  SAMPLE_PROJECTION_OFFSET = 2406.375
  SECOND_STANDARD_PARALLEL = "N/A"
  WESTERNMOST_LONGITUDE = 14.2099
END_OBJECT = IMAGE_MAP_PROJECTION
/* The JPEG2000 image data file associated with this label. */
OBJECT = COMPRESSED_FILE
  FILE_NAME = "H1483_0000_RE3.JP2"
  RECORD_TYPE = UNDEFINED
  FILE_RECORDS = UNK
  ENCODING_TYPE = "JP2"
  INTERCHANGE_FORMAT = BINARY
  UNCOMPRESSED_FILE_NAME = "H1483_0000_RE3.IMG"
  REQUIRED_STORAGE_BYTES = "320166000"
  ^DESCRIPTION = "JP2INFO.TXT"
END_OBJECT = COMPRESSED_FILE
END
