PDS_VERSION_ID = PDS3
/* FILE DATA ELEMENTS */
RECORD_TYPE = STREAM
/* POINTERS TO DATA OBJECTS */
^COMPRESSED_FILE = "H1483_0001_SR3.JP2"
/* IDENTIFICATION DATA ELEMENTS */
DATA_SET_ID = "MEX-M-HRSC-5-REFDR-MAPPROJECTED-V3.0"
DATA_SET_NAME = "MARS EXPRESS HRSC MAP PROJECTED REFDR V3.0"
DETECTOR_ID = MEX_HRSC_SRC
EVENT_TYPE = "MARS-REGIONAL-MAPPING-Te-Eo-Mw"
INSTRUMENT_HOST_ID = MEX
INSTRUMENT_HOST_NAME = "MARS EXPRESS"
INSTRUMENT_ID = HRSC
INSTRUMENT_NAME = "HIGH RESOLUTION STEREO CAMERA"
MISSION_NAME = "MARS EXPRESS"
MISSION_PHASE_NAME = MR_Phase_5
PROCESSING_LEVEL_ID = 3
PRODUCT_CREATION_TIME = 2016-03-05T14:51:22.000Z
PRODUCT_ID = "H1483_0001_SR3.JP2"
RELEASE_ID = 0019
REVISION_ID = 0000
/* QUALITY DATA ELEMENTS */
DATA_QUALITY_ID = 1
DATA_QUALITY_DESC = "Data calculated based on original SPICE kernels"
/* TIME DATA ELEMENTS */
SPACECRAFT_CLOCK_START_COUNT = "1/0058839249.57303"
SPACECRAFT_CLOCK_STOP_COUNT = "1/0058839777.02575"
IMAGE_TIME = 2005-03-14T00:22:55.474Z
START_TIME = 2005-03-14T00:22:55.216Z
STOP_TIME = 2005-03-14T00:22:55.732Z
/* ORBITAL DATA ELEMENTS */
ASCENDING_NODE_LONGITUDE = 197.41
MAXIMUM_RESOLUTION = 5.195
FOOTPRINT_POINT_LATITUDE = (46.5298,46.5272,46.5232,46.5182,46.514 ,46.5094,46.505,46.5023,46.4987,46.4957 ,46.4932,46.4904,46.4863,46.4824, 46.4786,46.4744,46.4716,46.468,46.4643, 46.4603,46.4574,46.4534,46.4502,46.4463 ,46.4437,46.4436,46.4435,46.4434, 46.4434,46.4433,46.4432,46.4431,46.443, 46.4429,46.4428,46.4427,46.4426,46.4425 ,46.4424,46.4423,46.4422,46.4421,46.442 ,46.4419,46.4418,46.4417,46.4416, 46.4416,46.4415,46.4414,46.4463,46.4493 ,46.4541,46.4594,46.4631,46.4678, 46.4721,46.4751,46.479,46.482,46.4842, 46.4875,46.4924,46.4974,46.4996,46.503, 46.5053,46.5082,46.5115,46.516,46.5184, 46.5212,46.5261,46.5299,46.53,46.5301, 46.5302,46.5303,46.5304,46.5305,46.5306 ,46.5307,46.5308,46.5309,46.531,46.5311 ,46.5312,46.5313,46.5314,46.5315, 46.5316,46.5317,46.5318,46.5319,46.532, 46.5321,46.5322,46.5323,46.5324, 46.5298)
FOOTPRINT_POINT_LONGITUDE = (23.8778,23.8779,23.8781,23.8783, 23.8784,23.8786,23.8788,23.8789,23.879, 23.8791,23.8792,23.8793,23.8795,23.8796 ,23.8798,23.88,23.8796,23.8797,23.8799, 23.88,23.8802,23.8803,23.8804,23.8806, 23.8793,23.8741,23.869,23.8639,23.8588, 23.8537,23.8485,23.8434,23.8383,23.8332 ,23.828,23.8229,23.8178,23.8127,23.8076 ,23.8024,23.7973,23.7922,23.7871,23.782 ,23.7768,23.7717,23.7666,23.7615, 23.7564,23.7512,23.7503,23.7502,23.75, 23.7497,23.7496,23.7494,23.7496,23.7495 ,23.7493,23.7492,23.7491,23.749,23.7488 ,23.7486,23.7485,23.7483,23.7483, 23.7481,23.748,23.7478,23.7477,23.7476, 23.7474,23.7474,23.7525,23.7576,23.7628 ,23.7679,23.773,23.7781,23.7833,23.7884 ,23.7935,23.7987,23.8038,23.8089, 23.8141,23.8192,23.8243,23.8295,23.8346 ,23.8397,23.8449,23.85,23.8551,23.8603, 23.8654,23.8705,23.8757,23.8778)
ORBIT_NUMBER = 1483
ORBITAL_ECCENTRICITY = 0.566
ORBITAL_INCLINATION = 86.6
ORBITAL_SEMIMAJOR_AXIS = 8534.81
PERIAPSIS_ALTITUDE = 326.99
PERIAPSIS_ARGUMENT_ANGLE = 99.38
PERIAPSIS_TIME = 2005-03-14T00:13:56.000Z
SPACECRAFT_ORIENTATION = (0.0,1.0,0.0)
^MEX_ORIENTATION_DESC = "MEX_ORIENTATION_DESC.TXT"
SPACECRAFT_POINTING_MODE = ACROSSTRACK
^MEX_POINTING_DESC = "MEX_POINTING_DESC.TXT"
RIGHT_ASCENSION = -1e+32
DECLINATION = -1e+32
OFFSET_ANGLE = 0.6
SPACECRAFT_SOLAR_DISTANCE = 2.20968e+08
TARGET_NAME = MARS
/* CAMERA DATA ELEMENTS */
BUFFER_MODE_ID = BUFFER_8
EXPOSURE_DURATION = 516.096
INST_CMPRS_NAME = NONE
INST_CMPRS_RATIO = 1.0
INST_CMPRS_QUALITY = -2147483648
INST_CMPRS_QUANTZ_TBL_ID = -2147483648
INSTRUMENT_TEMPERATURE = 18.8505
MISSING_FRAMES = 0
START_BIT = 0
/* RADIOMETRIC DATA ELEMENTS */
BANDWIDTH = 250.0
CENTER_FILTER_WAVELENGTH = 600.0
RADIANCE_OFFSET = -9.99e+31
RADIANCE_SCALING_FACTOR = -9.99e+31
REFLECTANCE_SCALING_FACTOR = -9.99e+31
MEX:REFLECTANCE_OFFSET = -9.99e+31
/* IMAGE OBJECT DEFINITIONS */
OBJECT = IMAGE
  INTERCHANGE_FORMAT = BINARY
  LINES = 1139
  LINE_SAMPLES = 1150
  SAMPLE_TYPE = UNSIGNED_INTEGER
  SAMPLE_BITS = 8
  BANDS = 1
  BAND_STORAGE_TYPE = BAND_SEQUENTIAL
  MAXIMUM = 11929
  MEAN = 11628.2
  MINIMUM = 11396
  STANDARD_DEVIATION = 186.283
END_OBJECT = IMAGE
/* MAP OBJECT DEFINITIONS */
OBJECT = IMAGE_MAP_PROJECTION
  ^DATA_SET_MAP_PROJECTION_CATALOG= "DSMAP.CAT"
  A_AXIS_RADIUS = 3396.19
  B_AXIS_RADIUS = 3396.19
  C_AXIS_RADIUS = 3396.19
  CENTER_LATITUDE = 0.0
  CENTER_LONGITUDE = 24.0
  COORDINATE_SYSTEM_NAME = PLANETOGRAPHIC
  COORDINATE_SYSTEM_TYPE = "BODY-FIXED ROTATING"
  EASTERNMOST_LONGITUDE = 23.8806
  FIRST_STANDARD_PARALLEL = "N/A"
  LINE_FIRST_PIXEL = 1
  LINE_LAST_PIXEL = 1139
  LINE_PROJECTION_OFFSET = 551043.0
  MAP_PROJECTION_ROTATION = 0.0
  MAP_PROJECTION_TYPE = SINUSOIDAL
  MAP_RESOLUTION = 11854.9393024378
  MAP_SCALE = 0.005
  MAXIMUM_LATITUDE = 46.5324
  MINIMUM_LATITUDE = 46.4414
  POSITIVE_LONGITUDE_DIRECTION = EAST
  REFERENCE_LATITUDE = "N/A"
  REFERENCE_LONGITUDE = "N/A"
  SAMPLE_FIRST_PIXEL = 1
  SAMPLE_LAST_PIXEL = 1150
  SAMPLE_PROJECTION_OFFSET = 1934.0
  SECOND_STANDARD_PARALLEL = "N/A"
  WESTERNMOST_LONGITUDE = 23.7474
END_OBJECT = IMAGE_MAP_PROJECTION
/* The JPEG2000 image data file associated with this label. */
OBJECT = COMPRESSED_FILE
  FILE_NAME = "H1483_0001_SR3.JP2"
  RECORD_TYPE = UNDEFINED
  FILE_RECORDS = UNK
  ENCODING_TYPE = "JP2"
  INTERCHANGE_FORMAT = BINARY
  UNCOMPRESSED_FILE_NAME = "H1483_0001_SR3.IMG"
  REQUIRED_STORAGE_BYTES = "1328250"
  ^DESCRIPTION = "JP2INFO.TXT"
END_OBJECT = COMPRESSED_FILE
END
