PDS_VERSION_ID = PDS3
/* FILE DATA ELEMENTS */
RECORD_TYPE = STREAM
/* POINTERS TO DATA OBJECTS */
^COMPRESSED_FILE = "H1485_0007_SR3.JP2"
/* IDENTIFICATION DATA ELEMENTS */
DATA_SET_ID = "MEX-M-HRSC-5-REFDR-MAPPROJECTED-V3.0"
DATA_SET_NAME = "MARS EXPRESS HRSC MAP PROJECTED REFDR V3.0"
DETECTOR_ID = MEX_HRSC_SRC
EVENT_TYPE = "MARS-REGIONAL-MAPPING-Pf-Eo"
INSTRUMENT_HOST_ID = MEX
INSTRUMENT_HOST_NAME = "MARS EXPRESS"
INSTRUMENT_ID = HRSC
INSTRUMENT_NAME = "HIGH RESOLUTION STEREO CAMERA"
MISSION_NAME = "MARS EXPRESS"
MISSION_PHASE_NAME = MR_Phase_5
PROCESSING_LEVEL_ID = 3
PRODUCT_CREATION_TIME = 2016-03-05T14:51:22.000Z
PRODUCT_ID = "H1485_0007_SR3.JP2"
RELEASE_ID = 0019
REVISION_ID = 0000
/* QUALITY DATA ELEMENTS */
DATA_QUALITY_ID = 1
DATA_QUALITY_DESC = "Data calculated based on original SPICE kernels"
/* TIME DATA ELEMENTS */
SPACECRAFT_CLOCK_START_COUNT = "1/0058887608.57954"
SPACECRAFT_CLOCK_STOP_COUNT = "1/0058888103.39697"
IMAGE_TIME = 2005-03-14T13:46:45.803Z
START_TIME = 2005-03-14T13:46:45.800Z
STOP_TIME = 2005-03-14T13:46:45.805Z
/* ORBITAL DATA ELEMENTS */
ASCENDING_NODE_LONGITUDE = 197.37
MAXIMUM_RESOLUTION = 4.05
FOOTPRINT_POINT_LATITUDE = (57.0523,57.0501,57.0466,57.0441, 57.0403,57.0374,57.0352,57.0317,57.0292 ,57.0259,57.0232,57.019,57.0172,57.0141 ,57.012,57.0088,57.0065,57.003,57.0008, 56.9982,56.9961,56.9939,56.9913,56.9877 ,56.9853,56.9833,56.9831,56.9829, 56.9827,56.9825,56.9823,56.9821,56.9819 ,56.9817,56.9815,56.9812,56.9809, 56.9807,56.9805,56.9803,56.9801,56.9799 ,56.9797,56.9795,56.9793,56.9791, 56.9789,56.9787,56.9785,56.9783,56.9787 ,56.9808,56.9839,56.9861,56.9891, 56.9913,56.9932,56.996,56.9989,57.0021, 57.0045,57.0073,57.0095,57.0123,57.0158 ,57.0188,57.0217,57.0257,57.0284, 57.0316,57.0335,57.0359,57.0379,57.0412 ,57.0436,57.0472,57.0475,57.0477,57.048 ,57.0482,57.0484,57.0486,57.0489, 57.0491,57.0493,57.0495,57.0497,57.0499 ,57.0501,57.0503,57.0505,57.0508,57.051 ,57.0512,57.0513,57.0515,57.0518,57.052 ,57.0522,57.0523)
FOOTPRINT_POINT_LONGITUDE = (185.399,185.399,185.4,185.4,185.401, 185.401,185.401,185.402,185.402,185.403 ,185.403,185.404,185.404,185.404, 185.405,185.405,185.405,185.406,185.406 ,185.406,185.407,185.407,185.407, 185.408,185.408,185.407,185.402,185.397 ,185.392,185.387,185.382,185.377, 185.372,185.367,185.362,185.356,185.349 ,185.343,185.339,185.334,185.329, 185.324,185.319,185.314,185.309,185.304 ,185.299,185.294,185.289,185.284, 185.281,185.28,185.28,185.28,185.279, 185.279,185.279,185.278,185.278,185.277 ,185.277,185.277,185.276,185.276, 185.275,185.275,185.275,185.274,185.274 ,185.273,185.273,185.273,185.272, 185.272,185.272,185.274,185.28,185.286, 185.293,185.298,185.303,185.308,185.314 ,185.319,185.324,185.33,185.335,185.34, 185.344,185.348,185.354,185.361,185.366 ,185.371,185.374,185.38,185.386,185.391 ,185.396,185.399)
ORBIT_NUMBER = 1485
ORBITAL_ECCENTRICITY = 0.566
ORBITAL_INCLINATION = 86.6
ORBITAL_SEMIMAJOR_AXIS = 8533.36
PERIAPSIS_ALTITUDE = 326.91
PERIAPSIS_ARGUMENT_ANGLE = 99.03
PERIAPSIS_TIME = 2005-03-14T13:40:37.000Z
SPACECRAFT_ORIENTATION = (0.0,1.0,0.0)
^MEX_ORIENTATION_DESC = "MEX_ORIENTATION_DESC.TXT"
SPACECRAFT_POINTING_MODE = NADIR
^MEX_POINTING_DESC = "MEX_POINTING_DESC.TXT"
RIGHT_ASCENSION = -1e+32
DECLINATION = -1e+32
OFFSET_ANGLE = -1e+32
SPACECRAFT_SOLAR_DISTANCE = 2.20862e+08
TARGET_NAME = MARS
/* CAMERA DATA ELEMENTS */
BUFFER_MODE_ID = BUFFER_8
EXPOSURE_DURATION = 5.04
INST_CMPRS_NAME = NONE
INST_CMPRS_RATIO = 1.0
INST_CMPRS_QUALITY = -2147483648
INST_CMPRS_QUANTZ_TBL_ID = -2147483648
INSTRUMENT_TEMPERATURE = 14.2424
MISSING_FRAMES = 0
START_BIT = 0
/* RADIOMETRIC DATA ELEMENTS */
BANDWIDTH = 250.0
CENTER_FILTER_WAVELENGTH = 600.0
RADIANCE_OFFSET = -9.99e+31
RADIANCE_SCALING_FACTOR = -9.99e+31
REFLECTANCE_SCALING_FACTOR = -9.99e+31
MEX:REFLECTANCE_OFFSET = -9.99e+31
/* IMAGE OBJECT DEFINITIONS */
OBJECT = IMAGE
  INTERCHANGE_FORMAT = BINARY
  LINES = 948
  LINE_SAMPLES = 959
  SAMPLE_TYPE = UNSIGNED_INTEGER
  SAMPLE_BITS = 8
  BANDS = 1
  BAND_STORAGE_TYPE = BAND_SEQUENTIAL
  MAXIMUM = 4578
  MEAN = 4204.73
  MINIMUM = 3607
  STANDARD_DEVIATION = 80.0311
END_OBJECT = IMAGE
/* MAP OBJECT DEFINITIONS */
OBJECT = IMAGE_MAP_PROJECTION
  ^DATA_SET_MAP_PROJECTION_CATALOG= "DSMAP.CAT"
  A_AXIS_RADIUS = 3396.19
  B_AXIS_RADIUS = 3396.19
  C_AXIS_RADIUS = 3396.19
  CENTER_LATITUDE = 0.0
  CENTER_LONGITUDE = 185.0
  COORDINATE_SYSTEM_NAME = PLANETOGRAPHIC
  COORDINATE_SYSTEM_TYPE = "BODY-FIXED ROTATING"
  EASTERNMOST_LONGITUDE = 185.408
  FIRST_STANDARD_PARALLEL = "N/A"
  LINE_FIRST_PIXEL = 1
  LINE_LAST_PIXEL = 948
  LINE_PROJECTION_OFFSET = 675303.0
  MAP_PROJECTION_ROTATION = 0.0
  MAP_PROJECTION_TYPE = SINUSOIDAL
  MAP_RESOLUTION = 11854.9393024378
  MAP_SCALE = 0.005
  MAXIMUM_LATITUDE = 57.0523
  MINIMUM_LATITUDE = 56.9783
  POSITIVE_LONGITUDE_DIRECTION = EAST
  REFERENCE_LATITUDE = "N/A"
  REFERENCE_LONGITUDE = "N/A"
  SAMPLE_FIRST_PIXEL = 1
  SAMPLE_LAST_PIXEL = 959
  SAMPLE_PROJECTION_OFFSET = -1704.0
  SECOND_STANDARD_PARALLEL = "N/A"
  WESTERNMOST_LONGITUDE = 185.272
END_OBJECT = IMAGE_MAP_PROJECTION
/* The JPEG2000 image data file associated with this label. */
OBJECT = COMPRESSED_FILE
  FILE_NAME = "H1485_0007_SR3.JP2"
  RECORD_TYPE = UNDEFINED
  FILE_RECORDS = UNK
  ENCODING_TYPE = "JP2"
  INTERCHANGE_FORMAT = BINARY
  UNCOMPRESSED_FILE_NAME = "H1485_0007_SR3.IMG"
  REQUIRED_STORAGE_BYTES = "927353"
  ^DESCRIPTION = "JP2INFO.TXT"
END_OBJECT = COMPRESSED_FILE
END
