PDS_VERSION_ID = PDS3
/* FILE DATA ELEMENTS */
RECORD_TYPE = STREAM
/* POINTERS TO DATA OBJECTS */
^COMPRESSED_FILE = "H1485_0009_IR3.JP2"
/* IDENTIFICATION DATA ELEMENTS */
DATA_SET_ID = "MEX-M-HRSC-5-REFDR-MAPPROJECTED-V3.0"
DATA_SET_NAME = "MARS EXPRESS HRSC MAP PROJECTED REFDR V3.0"
DETECTOR_ID = MEX_HRSC_IR
EVENT_TYPE = "MARS-LOCAL-MAPPING-Vo-Im-Fl"
INSTRUMENT_HOST_ID = MEX
INSTRUMENT_HOST_NAME = "MARS EXPRESS"
INSTRUMENT_ID = HRSC
INSTRUMENT_NAME = "HIGH RESOLUTION STEREO CAMERA"
MISSION_NAME = "MARS EXPRESS"
MISSION_PHASE_NAME = MR_Phase_5
PROCESSING_LEVEL_ID = 3
PRODUCT_CREATION_TIME = 2016-03-05T14:51:22.000Z
PRODUCT_ID = "H1485_0009_IR3.JP2"
RELEASE_ID = 0019
REVISION_ID = 0000
/* QUALITY DATA ELEMENTS */
DATA_QUALITY_ID = 1
DATA_QUALITY_DESC = "Data calculated based on original SPICE kernels"
/* TIME DATA ELEMENTS */
SPACECRAFT_CLOCK_START_COUNT = "1/0058888231.56182"
SPACECRAFT_CLOCK_STOP_COUNT = "1/0058889111.27923"
START_TIME = 2005-03-14T13:52:54.357Z
STOP_TIME = 2005-03-14T14:04:08.929Z
/* ORBITAL DATA ELEMENTS */
ASCENDING_NODE_LONGITUDE = 197.37
MAXIMUM_RESOLUTION = 127.8
FOOTPRINT_POINT_LATITUDE = (39.4818,39.489,39.4955,39.2457,38.6114 ,37.984,37.3634,36.7488,36.1402,35.5395 ,34.9418,34.3499,33.7637,33.1833, 32.6085,32.0392,31.4755,30.9175,30.3649 ,29.818,29.2764,28.7404,28.2097,27.6843 ,27.1641,26.6492,26.1398,25.6356, 25.1365,24.6426,24.1524,23.6686,23.1905 ,22.7168,22.248,21.7839,21.3249,20.8706 ,20.421,19.976,19.5355,18.6681,17.8174, 16.9857,16.1751,15.1821,14.4063,14.3791 ,14.4114,14.4339,14.4573,14.4951, 14.5411,14.5665,14.6069,14.6585,14.8721 ,15.6305,16.4064,17.1995,18.0105, 18.8398,19.6879,20.5546,20.9947,21.4403 ,21.8915,22.3457,22.8064,23.2712, 23.7416,24.2177,24.6975,25.1846,25.6763 ,26.1732,26.6753,27.1827,27.6958,28.214 ,28.7379,29.2673,29.8022,30.3427, 31.1637,31.7175,32.275,32.8421,33.4153, 33.9934,34.5766,35.1657,35.7606,36.3614 ,36.968,37.5807,38.1991,38.8234,39.4538 ,39.4818)
FOOTPRINT_POINT_LONGITUDE = (185.793,186.491,187.602,188.328,188.36 ,188.392,188.423,188.453,188.482, 188.512,188.54,188.567,188.593,188.619, 188.644,188.669,188.693,188.717,188.74, 188.763,188.785,188.807,188.829,188.851 ,188.872,188.893,188.913,188.934, 188.954,188.974,188.994,189.014,189.034 ,189.053,189.073,189.092,189.112, 189.131,189.15,189.169,189.188,189.226, 189.264,189.301,189.341,189.389,189.428 ,188.923,188.242,187.789,187.337, 186.603,185.755,185.303,184.624,183.773 ,183.378,183.467,183.554,183.64,183.724 ,183.807,183.888,183.967,184.006, 184.044,184.081,184.119,184.155,184.192 ,184.227,184.262,184.296,184.329, 184.361,184.393,184.424,184.454,184.484 ,184.512,184.54,184.566,184.592,184.617 ,184.652,184.674,184.696,184.716, 184.733,184.75,184.766,184.78,184.793, 184.804,184.814,184.822,184.828,184.833 ,184.835,185.793)
ORBIT_NUMBER = 1485
ORBITAL_ECCENTRICITY = 0.566
ORBITAL_INCLINATION = 86.6
ORBITAL_SEMIMAJOR_AXIS = 8533.36
PERIAPSIS_ALTITUDE = 326.91
PERIAPSIS_ARGUMENT_ANGLE = 99.03
PERIAPSIS_TIME = 2005-03-14T13:40:37.000Z
SPACECRAFT_ORIENTATION = (0.0,1.0,0.0)
^MEX_ORIENTATION_DESC = "MEX_ORIENTATION_DESC.TXT"
SPACECRAFT_POINTING_MODE = NADIR
^MEX_POINTING_DESC = "MEX_POINTING_DESC.TXT"
RIGHT_ASCENSION = -1e+32
DECLINATION = -1e+32
OFFSET_ANGLE = -1e+32
SPACECRAFT_SOLAR_DISTANCE = 2.20862e+08
TARGET_NAME = MARS
/* CAMERA DATA ELEMENTS */
DETECTOR_TEMPERATURE = 19.39
FOCAL_PLANE_TEMPERATURE = 8.5833
INST_CMPRS_NAME = "DISCRETE COSINE TRANSFORMATION (DCT)"
INST_CMPRS_RATIO = 20.1795
INST_CMPRS_QUALITY = 0
INST_CMPRS_QUANTZ_TBL_ID = 0
INSTRUMENT_TEMPERATURE = 13.6808
LENS_TEMPERATURE = 9.195
MACROPIXEL_SIZE = 4
MISSING_FRAMES = 0
PIXEL_SUBSAMPLING_FLAG = N
SIGNAL_CHAIN_ID = 2
/* RADIOMETRIC DATA ELEMENTS */
BANDWIDTH = 81.0
CENTER_FILTER_WAVELENGTH = 955.5
RADIANCE_OFFSET = 1.39069
RADIANCE_SCALING_FACTOR = 0.00995517
REFLECTANCE_SCALING_FACTOR = 0.00104764
MEX:REFLECTANCE_OFFSET = 0.146351
/* IMAGE OBJECT DEFINITIONS */
OBJECT = IMAGE
  INTERCHANGE_FORMAT = BINARY
  LINES = 14921
  LINE_SAMPLES = 2809
  SAMPLE_TYPE = UNSIGNED_INTEGER
  SAMPLE_BITS = 8
  BANDS = 1
  BAND_STORAGE_TYPE = BAND_SEQUENTIAL
  MAXIMUM = 193
  MEAN = 138.755
  MINIMUM = 61
  STANDARD_DEVIATION = 15.2007
END_OBJECT = IMAGE
/* MAP OBJECT DEFINITIONS */
OBJECT = IMAGE_MAP_PROJECTION
  ^DATA_SET_MAP_PROJECTION_CATALOG= "DSMAP.CAT"
  A_AXIS_RADIUS = 3396.0
  B_AXIS_RADIUS = 3396.0
  C_AXIS_RADIUS = 3396.0
  CENTER_LATITUDE = 0.0
  CENTER_LONGITUDE = 187.0
  COORDINATE_SYSTEM_NAME = PLANETOGRAPHIC
  COORDINATE_SYSTEM_TYPE = "BODY-FIXED ROTATING"
  EASTERNMOST_LONGITUDE = 189.428
  FIRST_STANDARD_PARALLEL = "N/A"
  LINE_FIRST_PIXEL = 1
  LINE_LAST_PIXEL = 14921
  LINE_PROJECTION_OFFSET = 23445.625
  MAP_PROJECTION_ROTATION = 0.0
  MAP_PROJECTION_TYPE = SINUSOIDAL
  MAP_RESOLUTION = 592.713803866667
  MAP_SCALE = 0.1
  MAXIMUM_LATITUDE = 39.4955
  MINIMUM_LATITUDE = 14.3791
  POSITIVE_LONGITUDE_DIRECTION = EAST
  REFERENCE_LATITUDE = "N/A"
  REFERENCE_LONGITUDE = "N/A"
  SAMPLE_FIRST_PIXEL = 1
  SAMPLE_LAST_PIXEL = 2809
  SAMPLE_PROJECTION_OFFSET = 1776.875
  SECOND_STANDARD_PARALLEL = "N/A"
  WESTERNMOST_LONGITUDE = 183.378
END_OBJECT = IMAGE_MAP_PROJECTION
/* The JPEG2000 image data file associated with this label. */
OBJECT = COMPRESSED_FILE
  FILE_NAME = "H1485_0009_IR3.JP2"
  RECORD_TYPE = UNDEFINED
  FILE_RECORDS = UNK
  ENCODING_TYPE = "JP2"
  INTERCHANGE_FORMAT = BINARY
  UNCOMPRESSED_FILE_NAME = "H1485_0009_IR3.IMG"
  REQUIRED_STORAGE_BYTES = "41935561"
  ^DESCRIPTION = "JP2INFO.TXT"
END_OBJECT = COMPRESSED_FILE
END
