PDS_VERSION_ID = PDS3
/* FILE DATA ELEMENTS */
RECORD_TYPE = STREAM
/* POINTERS TO DATA OBJECTS */
^COMPRESSED_FILE = "H1485_0017_SR3.JP2"
/* IDENTIFICATION DATA ELEMENTS */
DATA_SET_ID = "MEX-M-HRSC-5-REFDR-MAPPROJECTED-V3.0"
DATA_SET_NAME = "MARS EXPRESS HRSC MAP PROJECTED REFDR V3.0"
DETECTOR_ID = MEX_HRSC_SRC
EVENT_TYPE = "MARS-LOCAL-MAPPING-Vo-Im-Fl"
INSTRUMENT_HOST_ID = MEX
INSTRUMENT_HOST_NAME = "MARS EXPRESS"
INSTRUMENT_ID = HRSC
INSTRUMENT_NAME = "HIGH RESOLUTION STEREO CAMERA"
MISSION_NAME = "MARS EXPRESS"
MISSION_PHASE_NAME = MR_Phase_5
PROCESSING_LEVEL_ID = 3
PRODUCT_CREATION_TIME = 2016-03-05T14:51:22.000Z
PRODUCT_ID = "H1485_0017_SR3.JP2"
RELEASE_ID = 0019
REVISION_ID = 0000
/* QUALITY DATA ELEMENTS */
DATA_QUALITY_ID = 1
DATA_QUALITY_DESC = "Data calculated based on original SPICE kernels"
/* TIME DATA ELEMENTS */
SPACECRAFT_CLOCK_START_COUNT = "1/0058888231.56182"
SPACECRAFT_CLOCK_STOP_COUNT = "1/0058889111.27923"
IMAGE_TIME = 2005-03-14T13:53:08.105Z
START_TIME = 2005-03-14T13:53:08.103Z
STOP_TIME = 2005-03-14T13:53:08.108Z
/* ORBITAL DATA ELEMENTS */
ASCENDING_NODE_LONGITUDE = 197.37
MAXIMUM_RESOLUTION = 7.075
FOOTPRINT_POINT_LATITUDE = (35.2539,35.2473,35.2419,35.2364, 35.2307,35.2237,35.2192,35.2129,35.2096 ,35.2052,35.2021,35.1976,35.191,35.1851 ,35.1805,35.1752,35.1712,35.1673, 35.1616,35.1551,35.1493,35.1457,35.1416 ,35.1354,35.1353,35.1353,35.1353, 35.1352,35.1352,35.1351,35.1351,35.135, 35.135,35.1349,35.1349,35.1349,35.1348, 35.1348,35.1347,35.1347,35.1346,35.1346 ,35.1345,35.1345,35.1344,35.1344, 35.1343,35.1343,35.1342,35.1416,35.1468 ,35.1532,35.1567,35.1618,35.1652, 35.1693,35.1747,35.1789,35.1835,35.1885 ,35.1926,35.1963,35.2017,35.2087,35.212 ,35.2168,35.2237,35.2301,35.235,35.2398 ,35.2441,35.2472,35.2507,35.2548, 35.2548,35.2549,35.2549,35.255,35.255, 35.2551,35.2551,35.2552,35.2552,35.2553 ,35.2553,35.2554,35.2554,35.2554, 35.2555,35.2555,35.2556,35.2556,35.2556 ,35.2557,35.2557,35.2557,35.2558, 35.2558,35.2559,35.2539)
FOOTPRINT_POINT_LONGITUDE = (186.702,186.702,186.703,186.703, 186.703,186.703,186.703,186.703,186.703 ,186.703,186.703,186.703,186.703, 186.703,186.703,186.703,186.703,186.703 ,186.703,186.703,186.704,186.704, 186.704,186.704,186.698,186.692,186.687 ,186.682,186.676,186.671,186.665, 186.658,186.652,186.646,186.641,186.636 ,186.63,186.625,186.619,186.613,186.607 ,186.598,186.592,186.586,186.581, 186.575,186.569,186.563,186.555,186.555 ,186.555,186.555,186.555,186.554, 186.554,186.554,186.554,186.554,186.554 ,186.554,186.554,186.554,186.554, 186.554,186.554,186.554,186.554,186.554 ,186.554,186.553,186.553,186.553, 186.553,186.558,186.564,186.57,186.575, 186.581,186.587,186.593,186.599,186.605 ,186.611,186.616,186.621,186.627, 186.633,186.637,186.641,186.647,186.653 ,186.659,186.663,186.669,186.674, 186.678,186.684,186.69,186.696,186.702)
ORBIT_NUMBER = 1485
ORBITAL_ECCENTRICITY = 0.566
ORBITAL_INCLINATION = 86.6
ORBITAL_SEMIMAJOR_AXIS = 8533.36
PERIAPSIS_ALTITUDE = 326.91
PERIAPSIS_ARGUMENT_ANGLE = 99.03
PERIAPSIS_TIME = 2005-03-14T13:40:37.000Z
SPACECRAFT_ORIENTATION = (0.0,1.0,0.0)
^MEX_ORIENTATION_DESC = "MEX_ORIENTATION_DESC.TXT"
SPACECRAFT_POINTING_MODE = NADIR
^MEX_POINTING_DESC = "MEX_POINTING_DESC.TXT"
RIGHT_ASCENSION = -1e+32
DECLINATION = -1e+32
OFFSET_ANGLE = -1e+32
SPACECRAFT_SOLAR_DISTANCE = 2.20862e+08
TARGET_NAME = MARS
/* CAMERA DATA ELEMENTS */
BUFFER_MODE_ID = BUFFER_8
EXPOSURE_DURATION = 5.04
INST_CMPRS_NAME = NONE
INST_CMPRS_RATIO = 1.0
INST_CMPRS_QUALITY = -2147483648
INST_CMPRS_QUANTZ_TBL_ID = -2147483648
INSTRUMENT_TEMPERATURE = 20.2597
MISSING_FRAMES = 0
START_BIT = 0
/* RADIOMETRIC DATA ELEMENTS */
BANDWIDTH = 250.0
CENTER_FILTER_WAVELENGTH = 600.0
RADIANCE_OFFSET = -9.99e+31
RADIANCE_SCALING_FACTOR = -9.99e+31
REFLECTANCE_SCALING_FACTOR = -9.99e+31
MEX:REFLECTANCE_OFFSET = -9.99e+31
/* IMAGE OBJECT DEFINITIONS */
OBJECT = IMAGE
  INTERCHANGE_FORMAT = BINARY
  LINES = 1497
  LINE_SAMPLES = 1505
  SAMPLE_TYPE = UNSIGNED_INTEGER
  SAMPLE_BITS = 8
  BANDS = 1
  BAND_STORAGE_TYPE = BAND_SEQUENTIAL
  MAXIMUM = 8846
  MEAN = 7270.87
  MINIMUM = 0
  STANDARD_DEVIATION = 609.768
END_OBJECT = IMAGE
/* MAP OBJECT DEFINITIONS */
OBJECT = IMAGE_MAP_PROJECTION
  ^DATA_SET_MAP_PROJECTION_CATALOG= "DSMAP.CAT"
  A_AXIS_RADIUS = 3396.19
  B_AXIS_RADIUS = 3396.19
  C_AXIS_RADIUS = 3396.19
  CENTER_LATITUDE = 0.0
  CENTER_LONGITUDE = 187.0
  COORDINATE_SYSTEM_NAME = PLANETOGRAPHIC
  COORDINATE_SYSTEM_TYPE = "BODY-FIXED ROTATING"
  EASTERNMOST_LONGITUDE = 186.704
  FIRST_STANDARD_PARALLEL = "N/A"
  LINE_FIRST_PIXEL = 1
  LINE_LAST_PIXEL = 1497
  LINE_PROJECTION_OFFSET = 417691.0
  MAP_PROJECTION_ROTATION = 0.0
  MAP_PROJECTION_TYPE = SINUSOIDAL
  MAP_RESOLUTION = 11854.9393024378
  MAP_SCALE = 0.005
  MAXIMUM_LATITUDE = 35.2559
  MINIMUM_LATITUDE = 35.1342
  POSITIVE_LONGITUDE_DIRECTION = EAST
  REFERENCE_LATITUDE = "N/A"
  REFERENCE_LONGITUDE = "N/A"
  SAMPLE_FIRST_PIXEL = 1
  SAMPLE_LAST_PIXEL = 1505
  SAMPLE_PROJECTION_OFFSET = 4344.0
  SECOND_STANDARD_PARALLEL = "N/A"
  WESTERNMOST_LONGITUDE = 186.553
END_OBJECT = IMAGE_MAP_PROJECTION
/* The JPEG2000 image data file associated with this label. */
OBJECT = COMPRESSED_FILE
  FILE_NAME = "H1485_0017_SR3.JP2"
  RECORD_TYPE = UNDEFINED
  FILE_RECORDS = UNK
  ENCODING_TYPE = "JP2"
  INTERCHANGE_FORMAT = BINARY
  UNCOMPRESSED_FILE_NAME = "H1485_0017_SR3.IMG"
  REQUIRED_STORAGE_BYTES = "2272550"
  ^DESCRIPTION = "JP2INFO.TXT"
END_OBJECT = COMPRESSED_FILE
END
