PDS_VERSION_ID = PDS3
/* FILE DATA ELEMENTS */
RECORD_TYPE = STREAM
/* POINTERS TO DATA OBJECTS */
^COMPRESSED_FILE = "H1487_0000_GR3.JP2"
/* IDENTIFICATION DATA ELEMENTS */
DATA_SET_ID = "MEX-M-HRSC-5-REFDR-MAPPROJECTED-V3.0"
DATA_SET_NAME = "MARS EXPRESS HRSC MAP PROJECTED REFDR V3.0"
DETECTOR_ID = MEX_HRSC_GREEN
EVENT_TYPE = "MARS-REGIONAL-MAPPING-Gl-Eo-La"
INSTRUMENT_HOST_ID = MEX
INSTRUMENT_HOST_NAME = "MARS EXPRESS"
INSTRUMENT_ID = HRSC
INSTRUMENT_NAME = "HIGH RESOLUTION STEREO CAMERA"
MISSION_NAME = "MARS EXPRESS"
MISSION_PHASE_NAME = MR_Phase_5
PROCESSING_LEVEL_ID = 3
PRODUCT_CREATION_TIME = 2016-03-05T14:51:22.000Z
PRODUCT_ID = "H1487_0000_GR3.JP2"
RELEASE_ID = 0019
REVISION_ID = 0000
/* QUALITY DATA ELEMENTS */
DATA_QUALITY_ID = 1
DATA_QUALITY_DESC = "Data calculated based on original SPICE kernels"
/* TIME DATA ELEMENTS */
SPACECRAFT_CLOCK_START_COUNT = "1/0058936033.57286"
SPACECRAFT_CLOCK_STOP_COUNT = "1/0058936239.32974"
START_TIME = 2005-03-15T03:08:06.434Z
STOP_TIME = 2005-03-15T03:09:58.711Z
/* ORBITAL DATA ELEMENTS */
ASCENDING_NODE_LONGITUDE = 197.33
MAXIMUM_RESOLUTION = 140.3
FOOTPRINT_POINT_LATITUDE = (81.5536,81.7131,81.804,81.8892,81.969, 82.0434,82.1126,82.4726,82.2312,81.9894 ,81.8297,81.67,81.4302,81.2692,81.1069, 80.9459,80.7837,80.622,80.461,80.3018, 80.139,79.977,79.8109,79.6476,79.3382, 79.1805,79.0216,78.8633,78.7055,78.4683 ,78.3099,78.1518,77.9143,77.7563, 77.5987,77.4405,77.2029,77.0451,76.8083 ,76.6506,76.4929,76.3354,76.1781, 76.0209,75.8637,75.7067,75.5498,75.3144 ,74.9219,74.7645,74.4558,74.4302, 74.3961,74.3432,74.3,74.2323,74.4618, 74.767,74.92,75.1493,75.302,75.4549, 75.6842,75.8368,75.9893,76.1418,76.2944 ,76.5232,76.6755,76.8276,77.0561, 77.2081,77.4369,77.6645,77.8158,78.0421 ,78.192,78.345,78.57,78.7196,78.8708, 79.0214,79.1709,79.3224,79.4755,79.7047 ,79.8569,80.0054,80.1559,80.307,80.4546 ,80.6032,80.7517,80.9728,81.1189, 81.2652,81.4108,81.5556,81.7709, 81.5536)
FOOTPRINT_POINT_LONGITUDE = (322.207,324.584,326.066,327.561, 329.067,330.586,332.118,331.161,331.945 ,332.678,333.138,333.578,334.205, 334.605,334.992,335.362,335.72,336.064, 336.394,336.71,337.02,337.319,337.613, 337.894,338.402,338.649,338.889,339.122 ,339.347,339.673,339.883,340.086, 340.382,340.571,340.755,340.935,341.196 ,341.364,341.609,341.766,341.92,342.069 ,342.215,342.358,342.497,342.633, 342.765,342.958,343.266,343.384,343.404 ,342.615,341.664,340.334,339.37,337.929 ,337.674,337.323,337.141,336.86,336.667 ,336.469,336.164,335.954,335.74,335.52, 335.295,334.946,334.706,334.46,334.079, 333.816,333.406,332.982,332.69,332.239, 331.931,331.601,331.104,330.762,330.401 ,330.031,329.653,329.258,328.844, 328.197,327.748,327.302,326.828,326.331 ,325.835,325.312,324.768,323.919, 323.329,322.712,322.071,321.406,320.361 ,322.207)
ORBIT_NUMBER = 1487
ORBITAL_ECCENTRICITY = 0.566
ORBITAL_INCLINATION = 86.61
ORBITAL_SEMIMAJOR_AXIS = 8533.17
PERIAPSIS_ALTITUDE = 327.23
PERIAPSIS_ARGUMENT_ANGLE = 98.65
PERIAPSIS_TIME = 2005-03-15T03:07:14.000Z
SPACECRAFT_ORIENTATION = (0.0,1.0,0.0)
^MEX_ORIENTATION_DESC = "MEX_ORIENTATION_DESC.TXT"
SPACECRAFT_POINTING_MODE = INERT
^MEX_POINTING_DESC = "MEX_POINTING_DESC.TXT"
RIGHT_ASCENSION = 152.663
DECLINATION = -51.312
OFFSET_ANGLE = -1e+32
SPACECRAFT_SOLAR_DISTANCE = 2.20756e+08
TARGET_NAME = MARS
/* CAMERA DATA ELEMENTS */
DETECTOR_TEMPERATURE = 17.5549
FOCAL_PLANE_TEMPERATURE = 7.7677
INST_CMPRS_NAME = "DISCRETE COSINE TRANSFORMATION (DCT)"
INST_CMPRS_RATIO = 26.8717
INST_CMPRS_QUALITY = 0
INST_CMPRS_QUANTZ_TBL_ID = 0
INSTRUMENT_TEMPERATURE = 10.8262
LENS_TEMPERATURE = 8.1755
MACROPIXEL_SIZE = 8
MISSING_FRAMES = 0
PIXEL_SUBSAMPLING_FLAG = N
SIGNAL_CHAIN_ID = 3
/* RADIOMETRIC DATA ELEMENTS */
BANDWIDTH = 88.0
CENTER_FILTER_WAVELENGTH = 538.0
RADIANCE_OFFSET = 0.770606
RADIANCE_SCALING_FACTOR = 0.0029011
REFLECTANCE_SCALING_FACTOR = 0.000121724
MEX:REFLECTANCE_OFFSET = 0.032333
/* IMAGE OBJECT DEFINITIONS */
OBJECT = IMAGE
  INTERCHANGE_FORMAT = BINARY
  LINES = 4809
  LINE_SAMPLES = 2433
  SAMPLE_TYPE = UNSIGNED_INTEGER
  SAMPLE_BITS = 8
  BANDS = 1
  BAND_STORAGE_TYPE = BAND_SEQUENTIAL
  MAXIMUM = 196
  MEAN = 156.792
  MINIMUM = 99
  STANDARD_DEVIATION = 19.4967
END_OBJECT = IMAGE
/* MAP OBJECT DEFINITIONS */
OBJECT = IMAGE_MAP_PROJECTION
  ^DATA_SET_MAP_PROJECTION_CATALOG= "DSMAP.CAT"
  A_AXIS_RADIUS = 3396.0
  B_AXIS_RADIUS = 3396.0
  C_AXIS_RADIUS = 3396.0
  CENTER_LATITUDE = 0.0
  CENTER_LONGITUDE = 336.0
  COORDINATE_SYSTEM_NAME = PLANETOGRAPHIC
  COORDINATE_SYSTEM_TYPE = "BODY-FIXED ROTATING"
  EASTERNMOST_LONGITUDE = 343.404
  FIRST_STANDARD_PARALLEL = "N/A"
  LINE_FIRST_PIXEL = 1
  LINE_LAST_PIXEL = 4809
  LINE_PROJECTION_OFFSET = 48691.3125
  MAP_PROJECTION_ROTATION = 0.0
  MAP_PROJECTION_TYPE = SINUSOIDAL
  MAP_RESOLUTION = 592.713803866667
  MAP_SCALE = 0.1
  MAXIMUM_LATITUDE = 82.4726
  MINIMUM_LATITUDE = 74.2323
  POSITIVE_LONGITUDE_DIRECTION = EAST
  REFERENCE_LATITUDE = "N/A"
  REFERENCE_LONGITUDE = "N/A"
  SAMPLE_FIRST_PIXEL = 1
  SAMPLE_LAST_PIXEL = 2433
  SAMPLE_PROJECTION_OFFSET = 1196.3125
  SECOND_STANDARD_PARALLEL = "N/A"
  WESTERNMOST_LONGITUDE = 320.361
END_OBJECT = IMAGE_MAP_PROJECTION
/* The JPEG2000 image data file associated with this label. */
OBJECT = COMPRESSED_FILE
  FILE_NAME = "H1487_0000_GR3.JP2"
  RECORD_TYPE = UNDEFINED
  FILE_RECORDS = UNK
  ENCODING_TYPE = "JP2"
  INTERCHANGE_FORMAT = BINARY
  UNCOMPRESSED_FILE_NAME = "H1487_0000_GR3.IMG"
  REQUIRED_STORAGE_BYTES = "11719761"
  ^DESCRIPTION = "JP2INFO.TXT"
END_OBJECT = COMPRESSED_FILE
END
