PDS_VERSION_ID = PDS3
/* FILE DATA ELEMENTS */
RECORD_TYPE = STREAM
/* POINTERS TO DATA OBJECTS */
^COMPRESSED_FILE = "H1487_0000_RE3.JP2"
/* IDENTIFICATION DATA ELEMENTS */
DATA_SET_ID = "MEX-M-HRSC-5-REFDR-MAPPROJECTED-V3.0"
DATA_SET_NAME = "MARS EXPRESS HRSC MAP PROJECTED REFDR V3.0"
DETECTOR_ID = MEX_HRSC_RED
EVENT_TYPE = "MARS-REGIONAL-MAPPING-Gl-Eo-La"
INSTRUMENT_HOST_ID = MEX
INSTRUMENT_HOST_NAME = "MARS EXPRESS"
INSTRUMENT_ID = HRSC
INSTRUMENT_NAME = "HIGH RESOLUTION STEREO CAMERA"
MISSION_NAME = "MARS EXPRESS"
MISSION_PHASE_NAME = MR_Phase_5
PROCESSING_LEVEL_ID = 3
PRODUCT_CREATION_TIME = 2016-03-05T14:51:22.000Z
PRODUCT_ID = "H1487_0000_RE3.JP2"
RELEASE_ID = 0019
REVISION_ID = 0000
/* QUALITY DATA ELEMENTS */
DATA_QUALITY_ID = 1
DATA_QUALITY_DESC = "Data calculated based on original SPICE kernels"
/* TIME DATA ELEMENTS */
SPACECRAFT_CLOCK_START_COUNT = "1/0058936033.57286"
SPACECRAFT_CLOCK_STOP_COUNT = "1/0058936239.32974"
START_TIME = 2005-03-15T03:07:26.578Z
STOP_TIME = 2005-03-15T03:09:22.133Z
/* ORBITAL DATA ELEMENTS */
ASCENDING_NODE_LONGITUDE = 197.33
MAXIMUM_RESOLUTION = 115.7
FOOTPRINT_POINT_LATITUDE = (81.8161,81.8991,81.9788,82.0552,82.128 ,82.1975,82.2638,82.4377,82.2791, 82.1208,81.8814,81.721,81.5626,81.4057, 81.2483,81.0907,80.9327,80.7748,80.6169 ,80.4583,80.2199,79.9802,79.8205, 79.6647,79.5092,79.3567,79.1997,79.0427 ,78.8859,78.7291,78.4935,78.2576, 78.1002,77.9425,77.7849,77.6273,77.4697 ,77.2329,77.0754,76.919,76.765,76.611, 76.4571,76.226,76.0721,75.841,75.687, 75.3787,75.0704,74.7618,74.4673,74.4368 ,74.3869,74.3534,74.3008,74.265,74.3015 ,74.5284,74.7552,75.0571,75.3592, 75.6605,75.8111,75.9615,76.1868,76.4118 ,76.5617,76.7122,76.8658,77.0957, 77.2487,77.4016,77.5546,77.7071,77.9351 ,78.087,78.2379,78.3883,78.5423,78.6913 ,78.8413,78.9923,79.1422,79.2916, 79.4413,79.5938,79.7461,79.8966,80.047, 80.1974,80.3478,80.4969,80.7182,80.8653 ,81.0122,81.2339,81.456,81.603,81.7493, 81.8161)
FOOTPRINT_POINT_LONGITUDE = (323.44,324.542,325.657,326.784,327.922 ,329.072,330.236,329.703,330.265, 330.802,331.569,332.055,332.515,332.953 ,333.374,333.78,334.171,334.548,334.911 ,335.262,335.767,336.249,336.556, 336.846,337.126,337.393,337.658,337.915 ,338.165,338.407,338.757,339.092, 339.308,339.519,339.723,339.922,340.116 ,340.397,340.578,340.753,340.921, 341.085,341.245,341.478,341.629,341.849 ,341.991,342.266,342.529,342.781, 343.011,342.352,341.351,340.724,339.801 ,339.213,338.47,338.228,337.98,337.635, 337.274,336.897,336.701,336.502,336.193 ,335.874,335.655,335.429,335.192, 334.826,334.574,334.315,334.048,333.776 ,333.354,333.063,332.767,332.466, 332.132,331.817,331.485,331.135,330.78, 330.415,330.037,329.639,329.227,328.811 ,328.378,327.928,327.459,326.98,326.241 ,325.723,325.184,324.324,323.414, 322.778,322.116,323.44)
ORBIT_NUMBER = 1487
ORBITAL_ECCENTRICITY = 0.566
ORBITAL_INCLINATION = 86.61
ORBITAL_SEMIMAJOR_AXIS = 8533.17
PERIAPSIS_ALTITUDE = 327.23
PERIAPSIS_ARGUMENT_ANGLE = 98.65
PERIAPSIS_TIME = 2005-03-15T03:07:14.000Z
SPACECRAFT_ORIENTATION = (0.0,1.0,0.0)
^MEX_ORIENTATION_DESC = "MEX_ORIENTATION_DESC.TXT"
SPACECRAFT_POINTING_MODE = INERT
^MEX_POINTING_DESC = "MEX_POINTING_DESC.TXT"
RIGHT_ASCENSION = 152.663
DECLINATION = -51.312
OFFSET_ANGLE = -1e+32
SPACECRAFT_SOLAR_DISTANCE = 2.20756e+08
TARGET_NAME = MARS
/* CAMERA DATA ELEMENTS */
DETECTOR_TEMPERATURE = 18.1666
FOCAL_PLANE_TEMPERATURE = 7.7677
INST_CMPRS_NAME = "DISCRETE COSINE TRANSFORMATION (DCT)"
INST_CMPRS_RATIO = 38.483
INST_CMPRS_QUALITY = 0
INST_CMPRS_QUANTZ_TBL_ID = 0
INSTRUMENT_TEMPERATURE = 10.8262
LENS_TEMPERATURE = 8.1755
MACROPIXEL_SIZE = 8
MISSING_FRAMES = 0
PIXEL_SUBSAMPLING_FLAG = N
SIGNAL_CHAIN_ID = 3
/* RADIOMETRIC DATA ELEMENTS */
BANDWIDTH = 48.0
CENTER_FILTER_WAVELENGTH = 748.0
RADIANCE_OFFSET = 0.374862
RADIANCE_SCALING_FACTOR = 0.00133641
REFLECTANCE_SCALING_FACTOR = 0.000148624
MEX:REFLECTANCE_OFFSET = 0.0416891
/* IMAGE OBJECT DEFINITIONS */
OBJECT = IMAGE
  INTERCHANGE_FORMAT = BINARY
  LINES = 4809
  LINE_SAMPLES = 2433
  SAMPLE_TYPE = UNSIGNED_INTEGER
  SAMPLE_BITS = 8
  BANDS = 1
  BAND_STORAGE_TYPE = BAND_SEQUENTIAL
  MAXIMUM = 105
  MEAN = 80.0274
  MINIMUM = 55
  STANDARD_DEVIATION = 8.28185
END_OBJECT = IMAGE
/* MAP OBJECT DEFINITIONS */
OBJECT = IMAGE_MAP_PROJECTION
  ^DATA_SET_MAP_PROJECTION_CATALOG= "DSMAP.CAT"
  A_AXIS_RADIUS = 3396.0
  B_AXIS_RADIUS = 3396.0
  C_AXIS_RADIUS = 3396.0
  CENTER_LATITUDE = 0.0
  CENTER_LONGITUDE = 336.0
  COORDINATE_SYSTEM_NAME = PLANETOGRAPHIC
  COORDINATE_SYSTEM_TYPE = "BODY-FIXED ROTATING"
  EASTERNMOST_LONGITUDE = 343.011
  FIRST_STANDARD_PARALLEL = "N/A"
  LINE_FIRST_PIXEL = 1
  LINE_LAST_PIXEL = 4809
  LINE_PROJECTION_OFFSET = 48691.3125
  MAP_PROJECTION_ROTATION = 0.0
  MAP_PROJECTION_TYPE = SINUSOIDAL
  MAP_RESOLUTION = 592.713803866667
  MAP_SCALE = 0.1
  MAXIMUM_LATITUDE = 82.43770000000001
  MINIMUM_LATITUDE = 74.265
  POSITIVE_LONGITUDE_DIRECTION = EAST
  REFERENCE_LATITUDE = "N/A"
  REFERENCE_LONGITUDE = "N/A"
  SAMPLE_FIRST_PIXEL = 1
  SAMPLE_LAST_PIXEL = 2433
  SAMPLE_PROJECTION_OFFSET = 1196.3125
  SECOND_STANDARD_PARALLEL = "N/A"
  WESTERNMOST_LONGITUDE = 322.116
END_OBJECT = IMAGE_MAP_PROJECTION
/* The JPEG2000 image data file associated with this label. */
OBJECT = COMPRESSED_FILE
  FILE_NAME = "H1487_0000_RE3.JP2"
  RECORD_TYPE = UNDEFINED
  FILE_RECORDS = UNK
  ENCODING_TYPE = "JP2"
  INTERCHANGE_FORMAT = BINARY
  UNCOMPRESSED_FILE_NAME = "H1487_0000_RE3.IMG"
  REQUIRED_STORAGE_BYTES = "11719761"
  ^DESCRIPTION = "JP2INFO.TXT"
END_OBJECT = COMPRESSED_FILE
END
