PDS_VERSION_ID = PDS3
/* FILE DATA ELEMENTS */
RECORD_TYPE = STREAM
/* POINTERS TO DATA OBJECTS */
^COMPRESSED_FILE = "H1487_0003_SR3.JP2"
/* IDENTIFICATION DATA ELEMENTS */
DATA_SET_ID = "MEX-M-HRSC-5-REFDR-MAPPROJECTED-V3.0"
DATA_SET_NAME = "MARS EXPRESS HRSC MAP PROJECTED REFDR V3.0"
DETECTOR_ID = MEX_HRSC_SRC
EVENT_TYPE = "MARS-REGIONAL-MAPPING-Gl-Eo-La"
INSTRUMENT_HOST_ID = MEX
INSTRUMENT_HOST_NAME = "MARS EXPRESS"
INSTRUMENT_ID = HRSC
INSTRUMENT_NAME = "HIGH RESOLUTION STEREO CAMERA"
MISSION_NAME = "MARS EXPRESS"
MISSION_PHASE_NAME = MR_Phase_5
PROCESSING_LEVEL_ID = 3
PRODUCT_CREATION_TIME = 2016-03-05T14:51:22.000Z
PRODUCT_ID = "H1487_0003_SR3.JP2"
RELEASE_ID = 0019
REVISION_ID = 0000
/* QUALITY DATA ELEMENTS */
DATA_QUALITY_ID = 1
DATA_QUALITY_DESC = "Data calculated based on original SPICE kernels"
/* TIME DATA ELEMENTS */
SPACECRAFT_CLOCK_START_COUNT = "1/0058936033.57286"
SPACECRAFT_CLOCK_STOP_COUNT = "1/0058936239.32974"
IMAGE_TIME = 2005-03-15T03:08:32.048Z
START_TIME = 2005-03-15T03:08:32.045Z
STOP_TIME = 2005-03-15T03:08:32.050Z
/* ORBITAL DATA ELEMENTS */
ASCENDING_NODE_LONGITUDE = 197.33
MAXIMUM_RESOLUTION = 3.953
FOOTPRINT_POINT_LATITUDE = (79.9744,79.9692,79.9628,79.9567, 79.9522,79.9448,79.9382,79.9322,79.924, 79.9118,79.9058,79.8986,79.8925,79.8909 ,79.8893,79.8878,79.8862,79.8846,79.883 ,79.8814,79.8799,79.8791,79.8775, 79.8761,79.8801,79.8787,79.8731,79.8772 ,79.8731,79.8774,79.8732,79.8775, 79.8734,79.8777,79.8736,79.8779,79.8737 ,79.878,79.8739,79.8782,79.8743,79.8786 ,79.8745,79.8788,79.8746,79.8789, 79.8748,79.8791,79.875,79.8793,79.8751, 79.8794,79.8753,79.8796,79.8755,79.8798 ,79.8756,79.8799,79.8758,79.8801,79.876 ,79.8803,79.8762,79.8805,79.8764, 79.8807,79.8765,79.8808,79.8767,79.881, 79.8769,79.8812,79.877,79.8813,79.8772, 79.8837,79.8906,79.8955,79.9008,79.9061 ,79.911,79.9179,79.9246,79.9338,79.9398 ,79.9452,79.953,79.9576,79.9592,79.9608 ,79.9624,79.964,79.9657,79.9673,79.9689 ,79.9705,79.9721,79.9737,79.9744, 79.9744)
FOOTPRINT_POINT_LONGITUDE = (332.778,332.79,332.805,332.819,332.83, 332.847,332.862,332.876,332.895,332.923 ,332.937,332.953,332.967,332.937, 332.908,332.878,332.849,332.819,332.79, 332.76,332.731,332.703,332.673,332.647, 332.63,332.604,332.592,332.576,332.59, 332.576,332.589,332.575,332.589,332.575 ,332.588,332.575,332.588,332.574, 332.588,332.574,332.587,332.573,332.586 ,332.572,332.586,332.572,332.585, 332.572,332.585,332.571,332.585,332.571 ,332.584,332.57,332.584,332.57,332.583, 332.57,332.583,332.569,332.583,332.569, 332.582,332.568,332.582,332.568,332.581 ,332.567,332.581,332.567,332.581, 332.567,332.58,332.566,332.58,332.564, 332.548,332.536,332.524,332.511,332.499 ,332.483,332.467,332.445,332.43,332.418 ,332.399,332.405,332.435,332.465, 332.495,332.525,332.555,332.585,332.615 ,332.645,332.675,332.705,332.734, 332.778)
ORBIT_NUMBER = 1487
ORBITAL_ECCENTRICITY = 0.566
ORBITAL_INCLINATION = 86.61
ORBITAL_SEMIMAJOR_AXIS = 8533.17
PERIAPSIS_ALTITUDE = 327.23
PERIAPSIS_ARGUMENT_ANGLE = 98.65
PERIAPSIS_TIME = 2005-03-15T03:07:14.000Z
SPACECRAFT_ORIENTATION = (0.0,1.0,0.0)
^MEX_ORIENTATION_DESC = "MEX_ORIENTATION_DESC.TXT"
SPACECRAFT_POINTING_MODE = INERT
^MEX_POINTING_DESC = "MEX_POINTING_DESC.TXT"
RIGHT_ASCENSION = 152.663
DECLINATION = -51.312
OFFSET_ANGLE = -1e+32
SPACECRAFT_SOLAR_DISTANCE = 2.20756e+08
TARGET_NAME = MARS
/* CAMERA DATA ELEMENTS */
BUFFER_MODE_ID = BUFFER_8
EXPOSURE_DURATION = 5.04
INST_CMPRS_NAME = NONE
INST_CMPRS_RATIO = 1.0
INST_CMPRS_QUALITY = -2147483648
INST_CMPRS_QUANTZ_TBL_ID = -2147483648
INSTRUMENT_TEMPERATURE = 5.29364
MISSING_FRAMES = 0
START_BIT = 0
/* RADIOMETRIC DATA ELEMENTS */
BANDWIDTH = 250.0
CENTER_FILTER_WAVELENGTH = 600.0
RADIANCE_OFFSET = -9.99e+31
RADIANCE_SCALING_FACTOR = -9.99e+31
REFLECTANCE_SCALING_FACTOR = -9.99e+31
MEX:REFLECTANCE_OFFSET = -9.99e+31
/* IMAGE OBJECT DEFINITIONS */
OBJECT = IMAGE
  INTERCHANGE_FORMAT = BINARY
  LINES = 1361
  LINE_SAMPLES = 1306
  SAMPLE_TYPE = UNSIGNED_INTEGER
  SAMPLE_BITS = 8
  BANDS = 1
  BAND_STORAGE_TYPE = BAND_SEQUENTIAL
  MAXIMUM = 2857
  MEAN = 2575.45
  MINIMUM = 2192
  STANDARD_DEVIATION = 60.8882
END_OBJECT = IMAGE
/* MAP OBJECT DEFINITIONS */
OBJECT = IMAGE_MAP_PROJECTION
  ^DATA_SET_MAP_PROJECTION_CATALOG= "DSMAP.CAT"
  A_AXIS_RADIUS = 3396.19
  B_AXIS_RADIUS = 3396.19
  C_AXIS_RADIUS = 3396.19
  CENTER_LATITUDE = 0.0
  CENTER_LONGITUDE = 333.0
  COORDINATE_SYSTEM_NAME = PLANETOGRAPHIC
  COORDINATE_SYSTEM_TYPE = "BODY-FIXED ROTATING"
  EASTERNMOST_LONGITUDE = 332.967
  FIRST_STANDARD_PARALLEL = "N/A"
  LINE_FIRST_PIXEL = 1
  LINE_LAST_PIXEL = 1361
  LINE_PROJECTION_OFFSET = 948768.0
  MAP_PROJECTION_ROTATION = 0.0
  MAP_PROJECTION_TYPE = SINUSOIDAL
  MAP_RESOLUTION = 11854.9393024378
  MAP_SCALE = 0.005
  MAXIMUM_LATITUDE = 79.9744
  MINIMUM_LATITUDE = 79.87309999999999
  POSITIVE_LONGITUDE_DIRECTION = EAST
  REFERENCE_LATITUDE = "N/A"
  REFERENCE_LONGITUDE = "N/A"
  SAMPLE_FIRST_PIXEL = 1
  SAMPLE_LAST_PIXEL = 1306
  SAMPLE_PROJECTION_OFFSET = 2989.0
  SECOND_STANDARD_PARALLEL = "N/A"
  WESTERNMOST_LONGITUDE = 332.399
END_OBJECT = IMAGE_MAP_PROJECTION
/* The JPEG2000 image data file associated with this label. */
OBJECT = COMPRESSED_FILE
  FILE_NAME = "H1487_0003_SR3.JP2"
  RECORD_TYPE = UNDEFINED
  FILE_RECORDS = UNK
  ENCODING_TYPE = "JP2"
  INTERCHANGE_FORMAT = BINARY
  UNCOMPRESSED_FILE_NAME = "H1487_0003_SR3.IMG"
  REQUIRED_STORAGE_BYTES = "1797056"
  ^DESCRIPTION = "JP2INFO.TXT"
END_OBJECT = COMPRESSED_FILE
END
