PDS_VERSION_ID = PDS3
/* FILE DATA ELEMENTS */
RECORD_TYPE = STREAM
/* POINTERS TO DATA OBJECTS */
^COMPRESSED_FILE = "H1489_0001_GR3.JP2"
/* IDENTIFICATION DATA ELEMENTS */
DATA_SET_ID = "MEX-M-HRSC-5-REFDR-MAPPROJECTED-V3.0"
DATA_SET_NAME = "MARS EXPRESS HRSC MAP PROJECTED REFDR V3.0"
DETECTOR_ID = MEX_HRSC_GREEN
EVENT_TYPE = "MARS-REGIONAL-MAPPING-Vo-Fl-Eo"
INSTRUMENT_HOST_ID = MEX
INSTRUMENT_HOST_NAME = "MARS EXPRESS"
INSTRUMENT_ID = HRSC
INSTRUMENT_NAME = "HIGH RESOLUTION STEREO CAMERA"
MISSION_NAME = "MARS EXPRESS"
MISSION_PHASE_NAME = MR_Phase_5
PROCESSING_LEVEL_ID = 3
PRODUCT_CREATION_TIME = 2016-03-05T14:51:22.000Z
PRODUCT_ID = "H1489_0001_GR3.JP2"
RELEASE_ID = 0019
REVISION_ID = 0000
/* QUALITY DATA ELEMENTS */
DATA_QUALITY_ID = 1
DATA_QUALITY_DESC = "Data calculated based on original SPICE kernels"
/* TIME DATA ELEMENTS */
SPACECRAFT_CLOCK_START_COUNT = "1/0058985048.57981"
SPACECRAFT_CLOCK_STOP_COUNT = "1/0058986016.07097"
START_TIME = 2005-03-15T16:45:38.241Z
STOP_TIME = 2005-03-15T16:55:36.028Z
/* ORBITAL DATA ELEMENTS */
ASCENDING_NODE_LONGITUDE = 197.29
MAXIMUM_RESOLUTION = 58
FOOTPRINT_POINT_LATITUDE = (39.0194,39.0365,39.0483,38.1303, 37.1935,36.2368,35.2605,34.7646,34.2625 ,33.7554,33.2428,32.7246,32.2007, 31.6708,31.1345,30.5927,30.0442,29.4897 ,28.9287,28.361,27.7869,27.2059,26.6177 ,26.0221,25.4253,24.8333,24.2459, 23.6632,23.0853,22.512,21.9433,21.3792, 20.8197,20.2647,19.7142,19.1682,18.6265 ,18.0892,17.5564,17.0279,16.5036, 15.9836,15.4678,14.9562,14.4495,13.9454 ,13.4461,12.9509,12.4597,12.5046, 12.5441,12.5773,12.6226,12.6708,12.9368 ,13.9096,14.4025,14.8993,15.4005, 15.9059,16.4156,16.93,17.449,17.9701, 18.4951,19.0276,19.5662,20.1087,20.6541 ,21.2043,21.7591,22.3188,22.8831, 23.4523,24.0261,24.605,25.1889,26.0737, 26.6642,27.2472,27.8231,28.3924,28.9556 ,29.512,30.0621,30.6063,31.1437,31.6751 ,32.2016,32.7228,33.2383,33.7475,34.251 ,34.7499,35.2426,36.2128,37.1637, 38.0951,39.0081,39.0194)
FOOTPRINT_POINT_LONGITUDE = (152.675,154.225,154.948,154.988, 155.026,155.063,155.099,155.116,155.134 ,155.151,155.167,155.184,155.2,155.217, 155.233,155.248,155.264,155.279,155.295 ,155.31,155.325,155.34,155.354,155.368, 155.383,155.396,155.409,155.422,155.435 ,155.447,155.459,155.471,155.483, 155.494,155.505,155.516,155.526,155.537 ,155.547,155.557,155.567,155.576, 155.586,155.595,155.606,155.613,155.622 ,155.631,155.64,154.709,153.884,153.163 ,152.132,150.945,150.33,150.429,150.477 ,150.526,150.573,150.62,150.667,150.712 ,150.756,150.804,150.853,150.894, 150.932,150.971,151.012,151.051,151.091 ,151.129,151.166,151.202,151.237, 151.271,151.303,151.35,151.379,151.407, 151.433,151.458,151.481,151.503,151.523 ,151.542,151.561,151.58,151.594,151.605 ,151.616,151.627,151.637,151.647, 151.655,151.668,151.677,151.683,151.684 ,152.675)
ORBIT_NUMBER = 1489
ORBITAL_ECCENTRICITY = 0.566
ORBITAL_INCLINATION = 86.6
ORBITAL_SEMIMAJOR_AXIS = 8534.15
PERIAPSIS_ALTITUDE = 327.91
PERIAPSIS_ARGUMENT_ANGLE = 98.32
PERIAPSIS_TIME = 2005-03-15T16:33:54.000Z
SPACECRAFT_ORIENTATION = (0.0,1.0,0.0)
^MEX_ORIENTATION_DESC = "MEX_ORIENTATION_DESC.TXT"
SPACECRAFT_POINTING_MODE = NADIR
^MEX_POINTING_DESC = "MEX_POINTING_DESC.TXT"
RIGHT_ASCENSION = -1e+32
DECLINATION = -1e+32
OFFSET_ANGLE = -1e+32
SPACECRAFT_SOLAR_DISTANCE = 2.2065e+08
TARGET_NAME = MARS
/* CAMERA DATA ELEMENTS */
DETECTOR_TEMPERATURE = 20.0017
FOCAL_PLANE_TEMPERATURE = 8.7872
INST_CMPRS_NAME = "DISCRETE COSINE TRANSFORMATION (DCT)"
INST_CMPRS_RATIO = 9.70931
INST_CMPRS_QUALITY = 0
INST_CMPRS_QUANTZ_TBL_ID = 0
INSTRUMENT_TEMPERATURE = 13.8847
LENS_TEMPERATURE = 9.3989
MACROPIXEL_SIZE = 2
MISSING_FRAMES = 0
PIXEL_SUBSAMPLING_FLAG = N
SIGNAL_CHAIN_ID = 2
/* RADIOMETRIC DATA ELEMENTS */
BANDWIDTH = 88.0
CENTER_FILTER_WAVELENGTH = 538.0
RADIANCE_OFFSET = 1.98778
RADIANCE_SCALING_FACTOR = 0.00676954
REFLECTANCE_SCALING_FACTOR = 0.00028376
MEX:REFLECTANCE_OFFSET = 0.0833223
/* IMAGE OBJECT DEFINITIONS */
OBJECT = IMAGE
  INTERCHANGE_FORMAT = BINARY
  LINES = 31518
  LINE_SAMPLES = 6022
  SAMPLE_TYPE = UNSIGNED_INTEGER
  SAMPLE_BITS = 8
  BANDS = 1
  BAND_STORAGE_TYPE = BAND_SEQUENTIAL
  MAXIMUM = 251
  MEAN = 171.74
  MINIMUM = 93
  STANDARD_DEVIATION = 12.5272
END_OBJECT = IMAGE
/* MAP OBJECT DEFINITIONS */
OBJECT = IMAGE_MAP_PROJECTION
  ^DATA_SET_MAP_PROJECTION_CATALOG= "DSMAP.CAT"
  A_AXIS_RADIUS = 3396.0
  B_AXIS_RADIUS = 3396.0
  C_AXIS_RADIUS = 3396.0
  CENTER_LATITUDE = 0.0
  CENTER_LONGITUDE = 153.0
  COORDINATE_SYSTEM_NAME = PLANETOGRAPHIC
  COORDINATE_SYSTEM_TYPE = "BODY-FIXED ROTATING"
  EASTERNMOST_LONGITUDE = 155.64
  FIRST_STANDARD_PARALLEL = "N/A"
  LINE_FIRST_PIXEL = 1
  LINE_LAST_PIXEL = 31518
  LINE_PROJECTION_OFFSET = 46292.75
  MAP_PROJECTION_ROTATION = 0.0
  MAP_PROJECTION_TYPE = SINUSOIDAL
  MAP_RESOLUTION = 1185.42760773333
  MAP_SCALE = 0.05
  MAXIMUM_LATITUDE = 39.0483
  MINIMUM_LATITUDE = 12.4597
  POSITIVE_LONGITUDE_DIRECTION = EAST
  REFERENCE_LATITUDE = "N/A"
  REFERENCE_LONGITUDE = "N/A"
  SAMPLE_FIRST_PIXEL = 1
  SAMPLE_LAST_PIXEL = 6022
  SAMPLE_PROJECTION_OFFSET = 3016.75
  SECOND_STANDARD_PARALLEL = "N/A"
  WESTERNMOST_LONGITUDE = 150.33
END_OBJECT = IMAGE_MAP_PROJECTION
/* The JPEG2000 image data file associated with this label. */
OBJECT = COMPRESSED_FILE
  FILE_NAME = "H1489_0001_GR3.JP2"
  RECORD_TYPE = UNDEFINED
  FILE_RECORDS = UNK
  ENCODING_TYPE = "JP2"
  INTERCHANGE_FORMAT = BINARY
  UNCOMPRESSED_FILE_NAME = "H1489_0001_GR3.IMG"
  REQUIRED_STORAGE_BYTES = "189831506"
  ^DESCRIPTION = "JP2INFO.TXT"
END_OBJECT = COMPRESSED_FILE
END
