PDS_VERSION_ID = PDS3
/* FILE DATA ELEMENTS */
RECORD_TYPE = STREAM
/* POINTERS TO DATA OBJECTS */
^COMPRESSED_FILE = "H1491_0009_S13.JP2"
/* IDENTIFICATION DATA ELEMENTS */
DATA_SET_ID = "MEX-M-HRSC-5-REFDR-MAPPROJECTED-V3.0"
DATA_SET_NAME = "MARS EXPRESS HRSC MAP PROJECTED REFDR V3.0"
DETECTOR_ID = MEX_HRSC_S1
EVENT_TYPE = "MARS-REGIONAL-MAPPING-Fl-Eo"
INSTRUMENT_HOST_ID = MEX
INSTRUMENT_HOST_NAME = "MARS EXPRESS"
INSTRUMENT_ID = HRSC
INSTRUMENT_NAME = "HIGH RESOLUTION STEREO CAMERA"
MISSION_NAME = "MARS EXPRESS"
MISSION_PHASE_NAME = MR_Phase_5
PROCESSING_LEVEL_ID = 3
PRODUCT_CREATION_TIME = 2016-03-05T14:51:22.000Z
PRODUCT_ID = "H1491_0009_S13.JP2"
RELEASE_ID = 0019
REVISION_ID = 0000
/* QUALITY DATA ELEMENTS */
DATA_QUALITY_ID = 1
DATA_QUALITY_DESC = "Data calculated based on original SPICE kernels"
/* TIME DATA ELEMENTS */
SPACECRAFT_CLOCK_START_COUNT = "1/0059033363.56187"
SPACECRAFT_CLOCK_STOP_COUNT = "1/0059033797.40163"
START_TIME = 2005-03-16T06:11:41.947Z
STOP_TIME = 2005-03-16T06:16:43.258Z
/* ORBITAL DATA ELEMENTS */
ASCENDING_NODE_LONGITUDE = 197.25
MAXIMUM_RESOLUTION = 59
FOOTPRINT_POINT_LATITUDE = (44.4439,44.4532,44.4611,44.4675, 44.4725,44.4752,44.5703,44.1074,43.7577 ,43.2873,42.9318,42.5736,42.0916, 41.6047,41.1131,40.6163,40.1147,39.8617 ,39.6077,39.3527,39.0961,38.8379, 38.5784,38.3177,38.0556,37.7923,37.5275 ,37.2609,36.8396,36.5694,36.2979, 36.0249,35.75,35.474,35.1971,34.9183, 34.6378,34.3567,34.0738,33.7886,33.5023 ,33.2138,32.9242,32.633,32.3397,32.0453 ,31.7495,31.452,31.4405,31.4487,31.4551 ,31.4609,31.4665,31.4721,31.4772, 31.4821,31.4868,31.4929,31.497,31.5013, 31.7958,32.0885,32.3797,32.6695,32.9572 ,33.2439,33.5288,33.8121,34.0943, 34.3746,34.6534,34.9311,35.2072,35.4817 ,35.755,36.0271,36.2976,36.5668,36.8345 ,37.1199,37.3845,37.6477,37.9095, 38.1703,38.4298,38.6881,38.9447,39.2002 ,39.7075,40.2086,40.7056,41.0753, 41.5636,42.0474,42.5263,42.8825,43.2358 ,43.7032,44.2818,44.4439)
FOOTPRINT_POINT_LONGITUDE = (314.971,315.49,316.009,316.526,317.042 ,317.397,317.923,317.957,317.982, 318.015,318.04,318.065,318.097,318.13, 318.162,318.194,318.225,318.241,318.256 ,318.272,318.288,318.303,318.319, 318.334,318.35,318.365,318.381,318.396, 318.42,318.435,318.451,318.466,318.481, 318.496,318.512,318.527,318.542,318.558 ,318.573,318.588,318.603,318.619, 318.634,318.649,318.665,318.68,318.696, 318.711,318.295,317.835,317.501,317.167 ,316.833,316.498,316.163,315.828, 315.492,315.03,314.693,314.383,314.395, 314.407,314.418,314.429,314.44,314.449, 314.459,314.468,314.477,314.485,314.492 ,314.5,314.507,314.513,314.519,314.525, 314.53,314.535,314.539,314.543,314.547, 314.55,314.553,314.555,314.557,314.559, 314.56,314.561,314.562,314.561,314.56, 314.557,314.553,314.547,314.54,314.533, 314.526,314.516,314.501,314.971)
ORBIT_NUMBER = 1491
ORBITAL_ECCENTRICITY = 0.566
ORBITAL_INCLINATION = 86.61
ORBITAL_SEMIMAJOR_AXIS = 8532.35
PERIAPSIS_ALTITUDE = 327.2
PERIAPSIS_ARGUMENT_ANGLE = 97.98
PERIAPSIS_TIME = 2005-03-16T06:00:32.000Z
SPACECRAFT_ORIENTATION = (0.0,1.0,0.0)
^MEX_ORIENTATION_DESC = "MEX_ORIENTATION_DESC.TXT"
SPACECRAFT_POINTING_MODE = ACROSSTRACK
^MEX_POINTING_DESC = "MEX_POINTING_DESC.TXT"
RIGHT_ASCENSION = -1e+32
DECLINATION = -1e+32
OFFSET_ANGLE = -0.229
SPACECRAFT_SOLAR_DISTANCE = 2.20544e+08
TARGET_NAME = MARS
/* CAMERA DATA ELEMENTS */
DETECTOR_TEMPERATURE = 19.5939
FOCAL_PLANE_TEMPERATURE = 8.5833
INST_CMPRS_NAME = "DISCRETE COSINE TRANSFORMATION (DCT)"
INST_CMPRS_RATIO = 9.53228
INST_CMPRS_QUALITY = 0
INST_CMPRS_QUANTZ_TBL_ID = 0
INSTRUMENT_TEMPERATURE = 14.0886
LENS_TEMPERATURE = 9.195
MACROPIXEL_SIZE = 2
MISSING_FRAMES = 3
PIXEL_SUBSAMPLING_FLAG = N
SIGNAL_CHAIN_ID = 1
/* RADIOMETRIC DATA ELEMENTS */
BANDWIDTH = 180.0
CENTER_FILTER_WAVELENGTH = 677.0
RADIANCE_OFFSET = 5.04998
RADIANCE_SCALING_FACTOR = 0.0185661
REFLECTANCE_SCALING_FACTOR = 0.000471137
MEX:REFLECTANCE_OFFSET = 0.128149
/* IMAGE OBJECT DEFINITIONS */
OBJECT = IMAGE
  INTERCHANGE_FORMAT = BINARY
  LINES = 15581
  LINE_SAMPLES = 3716
  SAMPLE_TYPE = UNSIGNED_INTEGER
  SAMPLE_BITS = 8
  BANDS = 1
  BAND_STORAGE_TYPE = BAND_SEQUENTIAL
  MAXIMUM = 229
  MEAN = 155.836
  MINIMUM = 103
  STANDARD_DEVIATION = 16.2576
END_OBJECT = IMAGE
/* MAP OBJECT DEFINITIONS */
OBJECT = IMAGE_MAP_PROJECTION
  ^DATA_SET_MAP_PROJECTION_CATALOG= "DSMAP.CAT"
  A_AXIS_RADIUS = 3396.0
  B_AXIS_RADIUS = 3396.0
  C_AXIS_RADIUS = 3396.0
  CENTER_LATITUDE = 0.0
  CENTER_LONGITUDE = 316.0
  COORDINATE_SYSTEM_NAME = PLANETOGRAPHIC
  COORDINATE_SYSTEM_TYPE = "BODY-FIXED ROTATING"
  EASTERNMOST_LONGITUDE = 318.711
  FIRST_STANDARD_PARALLEL = "N/A"
  LINE_FIRST_PIXEL = 1
  LINE_LAST_PIXEL = 15581
  LINE_PROJECTION_OFFSET = 52825.75
  MAP_PROJECTION_ROTATION = 0.0
  MAP_PROJECTION_TYPE = SINUSOIDAL
  MAP_RESOLUTION = 1185.42760773333
  MAP_SCALE = 0.05
  MAXIMUM_LATITUDE = 44.5703
  MINIMUM_LATITUDE = 31.4405
  POSITIVE_LONGITUDE_DIRECTION = EAST
  REFERENCE_LATITUDE = "N/A"
  REFERENCE_LONGITUDE = "N/A"
  SAMPLE_FIRST_PIXEL = 1
  SAMPLE_LAST_PIXEL = 3716
  SAMPLE_PROJECTION_OFFSET = 1349.25
  SECOND_STANDARD_PARALLEL = "N/A"
  WESTERNMOST_LONGITUDE = 314.383
END_OBJECT = IMAGE_MAP_PROJECTION
/* The JPEG2000 image data file associated with this label. */
OBJECT = COMPRESSED_FILE
  FILE_NAME = "H1491_0009_S13.JP2"
  RECORD_TYPE = UNDEFINED
  FILE_RECORDS = UNK
  ENCODING_TYPE = "JP2"
  INTERCHANGE_FORMAT = BINARY
  UNCOMPRESSED_FILE_NAME = "H1491_0009_S13.IMG"
  REQUIRED_STORAGE_BYTES = "57921292"
  ^DESCRIPTION = "JP2INFO.TXT"
END_OBJECT = COMPRESSED_FILE
END
