PDS_VERSION_ID = PDS3
/* FILE DATA ELEMENTS */
RECORD_TYPE = STREAM
/* POINTERS TO DATA OBJECTS */
^COMPRESSED_FILE = "H1494_0000_P13.JP2"
/* IDENTIFICATION DATA ELEMENTS */
DATA_SET_ID = "MEX-M-HRSC-5-REFDR-MAPPROJECTED-V3.0"
DATA_SET_NAME = "MARS EXPRESS HRSC MAP PROJECTED REFDR V3.0"
DETECTOR_ID = MEX_HRSC_P1
EVENT_TYPE = "MARS-REGIONAL-MAPPING-Gl-La"
INSTRUMENT_HOST_ID = MEX
INSTRUMENT_HOST_NAME = "MARS EXPRESS"
INSTRUMENT_ID = HRSC
INSTRUMENT_NAME = "HIGH RESOLUTION STEREO CAMERA"
MISSION_NAME = "MARS EXPRESS"
MISSION_PHASE_NAME = MR_Phase_5
PROCESSING_LEVEL_ID = 3
PRODUCT_CREATION_TIME = 2016-03-05T14:51:22.000Z
PRODUCT_ID = "H1494_0000_P13.JP2"
RELEASE_ID = 0019
REVISION_ID = 0000
/* QUALITY DATA ELEMENTS */
DATA_QUALITY_ID = 1
DATA_QUALITY_DESC = "Data calculated based on original SPICE kernels"
/* TIME DATA ELEMENTS */
SPACECRAFT_CLOCK_START_COUNT = "1/0059105332.57944"
SPACECRAFT_CLOCK_STOP_COUNT = "1/0059105514.48769"
START_TIME = 2005-03-17T02:09:52.945Z
STOP_TIME = 2005-03-17T02:11:49.182Z
/* ORBITAL DATA ELEMENTS */
ASCENDING_NODE_LONGITUDE = 197.18
MAXIMUM_RESOLUTION = 48.8
FOOTPRINT_POINT_LATITUDE = (83.0604,83.236,83.3776,83.5138,83.6447 ,83.7703,83.8957,83.7947,83.6395, 83.5336,83.426,83.3166,83.2057,83.0365, 82.8642,82.6889,82.5109,82.3304,82.2087 ,82.0861,81.9004,81.7755,81.6498, 81.5233,81.3961,81.2682,81.1396,81.0104 ,80.8805,80.75,80.619,80.4228,80.224, 80.0912,79.9565,79.7555,79.5536,79.4185 ,79.2832,79.1491,79.0123,78.8049, 78.5932,78.4516,78.2389,78.0966,77.954, 77.8111,77.6681,77.5109,77.4526,77.3906 ,77.3245,77.2543,77.1698,77.4032, 77.5395,77.6754,77.8109,78.0133,78.1478 ,78.2818,78.4792,78.6079,78.736,78.8636 ,78.9912,79.1179,79.2439,79.3694, 79.4943,79.6185,79.8035,79.987,80.1083, 80.229,80.3489,80.4678,80.5858,80.7611, 80.8769,80.9916,81.1053,81.2177,81.3288 ,81.4938,81.602,81.709,81.8668,82.0212, 82.1222,82.2706,82.3675,82.4624,82.5555 ,82.6468,82.736,82.8229,82.9495, 83.0604)
FOOTPRINT_POINT_LONGITUDE = (332.169,333.399,334.454,335.528, 336.621,337.731,338.817,339.867,341.373 ,342.343,343.275,344.181,345.055, 346.311,347.505,348.643,349.726,350.757 ,351.418,352.057,352.981,353.572, 354.145,354.7,355.239,355.76,356.267, 356.759,357.237,357.702,358.153,358.782 ,359.412,359.812,360.225,360.795, 361.341,361.694,362.036,362.349,362.686 ,363.164,363.632,363.936,364.375, 364.661,364.941,365.214,365.48,364.795, 363.964,363.122,362.269,361.404,360.419 ,359.319,358.994,358.662,358.323,357.81 ,357.45,357.08,356.52,356.141,355.752, 355.357,354.989,354.577,354.153,353.718 ,353.273,352.815,352.107,351.374, 350.868,350.353,349.825,349.281,348.719 ,347.855,347.263,346.652,346.025, 345.378,344.71,343.69,342.983,342.259, 341.134,339.964,339.157,337.906,337.046 ,336.162,335.255,334.326,333.374, 332.394,330.885,332.169)
ORBIT_NUMBER = 1494
ORBITAL_ECCENTRICITY = 0.566
ORBITAL_INCLINATION = 86.6
ORBITAL_SEMIMAJOR_AXIS = 8533.83
PERIAPSIS_ALTITUDE = 327.46
PERIAPSIS_ARGUMENT_ANGLE = 97.42
PERIAPSIS_TIME = 2005-03-17T02:10:27.000Z
SPACECRAFT_ORIENTATION = (0.0,1.0,0.0)
^MEX_ORIENTATION_DESC = "MEX_ORIENTATION_DESC.TXT"
SPACECRAFT_POINTING_MODE = ACROSSTRACK
^MEX_POINTING_DESC = "MEX_POINTING_DESC.TXT"
RIGHT_ASCENSION = -1e+32
DECLINATION = -1e+32
OFFSET_ANGLE = -1.68
SPACECRAFT_SOLAR_DISTANCE = 2.20386e+08
TARGET_NAME = MARS
/* CAMERA DATA ELEMENTS */
DETECTOR_TEMPERATURE = 16.9432
FOCAL_PLANE_TEMPERATURE = 7.9716
INST_CMPRS_NAME = "DISCRETE COSINE TRANSFORMATION (DCT)"
INST_CMPRS_RATIO = 39.4625
INST_CMPRS_QUALITY = 0
INST_CMPRS_QUANTZ_TBL_ID = 0
INSTRUMENT_TEMPERATURE = 11.0301
LENS_TEMPERATURE = 8.3794
MACROPIXEL_SIZE = 4
MISSING_FRAMES = 0
PIXEL_SUBSAMPLING_FLAG = N
SIGNAL_CHAIN_ID = 3
/* RADIOMETRIC DATA ELEMENTS */
BANDWIDTH = 174.0
CENTER_FILTER_WAVELENGTH = 675.0
RADIANCE_OFFSET = 0.849977
RADIANCE_SCALING_FACTOR = 0.00589131
REFLECTANCE_SCALING_FACTOR = 0.00015391
MEX:REFLECTANCE_OFFSET = 0.0222055
/* IMAGE OBJECT DEFINITIONS */
OBJECT = IMAGE
  INTERCHANGE_FORMAT = BINARY
  LINES = 8102
  LINE_SAMPLES = 6258
  SAMPLE_TYPE = UNSIGNED_INTEGER
  SAMPLE_BITS = 8
  BANDS = 1
  BAND_STORAGE_TYPE = BAND_SEQUENTIAL
  MAXIMUM = 120
  MEAN = 79.9421
  MINIMUM = 43
  STANDARD_DEVIATION = 17.1108
END_OBJECT = IMAGE
/* MAP OBJECT DEFINITIONS */
OBJECT = IMAGE_MAP_PROJECTION
  ^DATA_SET_MAP_PROJECTION_CATALOG= "DSMAP.CAT"
  A_AXIS_RADIUS = 3396.0
  B_AXIS_RADIUS = 3396.0
  C_AXIS_RADIUS = 3396.0
  CENTER_LATITUDE = 0.0
  CENTER_LONGITUDE = 354.0
  COORDINATE_SYSTEM_NAME = PLANETOGRAPHIC
  COORDINATE_SYSTEM_TYPE = "BODY-FIXED ROTATING"
  EASTERNMOST_LONGITUDE = 5.48
  FIRST_STANDARD_PARALLEL = "N/A"
  LINE_FIRST_PIXEL = 1
  LINE_LAST_PIXEL = 8102
  LINE_PROJECTION_OFFSET = 99566.625
  MAP_PROJECTION_ROTATION = 0.0
  MAP_PROJECTION_TYPE = SINUSOIDAL
  MAP_RESOLUTION = 1185.42760773333
  MAP_SCALE = 0.05
  MAXIMUM_LATITUDE = 83.89570000000001
  MINIMUM_LATITUDE = 77.1698
  POSITIVE_LONGITUDE_DIRECTION = EAST
  REFERENCE_LATITUDE = "N/A"
  REFERENCE_LONGITUDE = "N/A"
  SAMPLE_FIRST_PIXEL = 1
  SAMPLE_LAST_PIXEL = 6258
  SAMPLE_PROJECTION_OFFSET = 3221.625
  SECOND_STANDARD_PARALLEL = "N/A"
  WESTERNMOST_LONGITUDE = -29.115
END_OBJECT = IMAGE_MAP_PROJECTION
/* The JPEG2000 image data file associated with this label. */
OBJECT = COMPRESSED_FILE
  FILE_NAME = "H1494_0000_P13.JP2"
  RECORD_TYPE = UNDEFINED
  FILE_RECORDS = UNK
  ENCODING_TYPE = "JP2"
  INTERCHANGE_FORMAT = BINARY
  UNCOMPRESSED_FILE_NAME = "H1494_0000_P13.IMG"
  REQUIRED_STORAGE_BYTES = "50733606"
  ^DESCRIPTION = "JP2INFO.TXT"
END_OBJECT = COMPRESSED_FILE
END
