PDS_VERSION_ID = PDS3
/* FILE DATA ELEMENTS */
RECORD_TYPE = STREAM
/* POINTERS TO DATA OBJECTS */
^COMPRESSED_FILE = "H1495_0011_SR3.JP2"
/* IDENTIFICATION DATA ELEMENTS */
DATA_SET_ID = "MEX-M-HRSC-5-REFDR-MAPPROJECTED-V3.0"
DATA_SET_NAME = "MARS EXPRESS HRSC MAP PROJECTED REFDR V3.0"
DETECTOR_ID = MEX_HRSC_SRC
EVENT_TYPE = "MARS-REGIONAL-MAPPING-Te-Pf-La"
INSTRUMENT_HOST_ID = MEX
INSTRUMENT_HOST_NAME = "MARS EXPRESS"
INSTRUMENT_ID = HRSC
INSTRUMENT_NAME = "HIGH RESOLUTION STEREO CAMERA"
MISSION_NAME = "MARS EXPRESS"
MISSION_PHASE_NAME = MR_Phase_5
PROCESSING_LEVEL_ID = 3
PRODUCT_CREATION_TIME = 2016-03-05T14:51:22.000Z
PRODUCT_ID = "H1495_0011_SR3.JP2"
RELEASE_ID = 0019
REVISION_ID = 0000
/* QUALITY DATA ELEMENTS */
DATA_QUALITY_ID = 1
DATA_QUALITY_DESC = "Data calculated based on original SPICE kernels"
/* TIME DATA ELEMENTS */
SPACECRAFT_CLOCK_START_COUNT = "1/0059129687.56193"
SPACECRAFT_CLOCK_STOP_COUNT = "1/0059130250.08466"
IMAGE_TIME = 2005-03-17T09:03:01.816Z
START_TIME = 2005-03-17T09:03:01.813Z
STOP_TIME = 2005-03-17T09:03:01.818Z
/* ORBITAL DATA ELEMENTS */
ASCENDING_NODE_LONGITUDE = 197.17
MAXIMUM_RESOLUTION = 5.281
FOOTPRINT_POINT_LATITUDE = (47.9993,47.9969,47.9933,47.9903, 47.9872,47.9844,47.9804,47.9777,47.974, 47.9682,47.9656,47.9631,47.9599,47.9545 ,47.9513,47.9473,47.9441,47.9417, 47.9387,47.9342,47.9285,47.9255,47.922, 47.9177,47.9126,47.9116,47.9116,47.9115 ,47.9114,47.9113,47.9112,47.9111,47.911 ,47.9109,47.9108,47.9107,47.9106, 47.9105,47.9104,47.9103,47.9102,47.9101 ,47.91,47.9099,47.9098,47.9097,47.9096, 47.9095,47.9094,47.9093,47.9106,47.9133 ,47.9166,47.9221,47.9256,47.9283, 47.9309,47.934,47.9369,47.941,47.9436, 47.9484,47.9515,47.956,47.9625,47.9674, 47.9703,47.9735,47.978,47.9832,47.9869, 47.9894,47.9936,47.9976,47.9993,47.9994 ,47.9995,47.9996,47.9997,47.9998, 47.9999,48.0,48.0001,48.0002,48.0003, 48.0004,48.0005,48.0006,48.0007,48.0008 ,48.0009,48.001,48.0011,48.0012,48.0013 ,48.0014,48.0015,48.0016,48.0017, 47.9993)
FOOTPRINT_POINT_LONGITUDE = (284.231,284.231,284.231,284.231, 284.231,284.231,284.231,284.231,284.232 ,284.232,284.232,284.232,284.232, 284.232,284.233,284.233,284.233,284.233 ,284.233,284.233,284.233,284.234, 284.234,284.234,284.234,284.23,284.225, 284.219,284.214,284.209,284.203,284.198 ,284.193,284.187,284.182,284.176, 284.171,284.166,284.16,284.155,284.15, 284.144,284.139,284.134,284.128,284.123 ,284.117,284.112,284.107,284.101, 284.098,284.098,284.097,284.097,284.097 ,284.097,284.097,284.097,284.097, 284.096,284.096,284.096,284.096,284.096 ,284.095,284.095,284.095,284.095, 284.095,284.095,284.094,284.094,284.094 ,284.094,284.097,284.102,284.107, 284.113,284.118,284.124,284.129,284.134 ,284.14,284.145,284.15,284.156,284.161, 284.167,284.172,284.177,284.183,284.188 ,284.193,284.199,284.204,284.21,284.215 ,284.22,284.226,284.231)
ORBIT_NUMBER = 1495
ORBITAL_ECCENTRICITY = 0.566
ORBITAL_INCLINATION = 86.6
ORBITAL_SEMIMAJOR_AXIS = 8532.66
PERIAPSIS_ALTITUDE = 326.97
PERIAPSIS_ARGUMENT_ANGLE = 97.26
PERIAPSIS_TIME = 2005-03-17T08:53:51.000Z
SPACECRAFT_ORIENTATION = (0.0,1.0,0.0)
^MEX_ORIENTATION_DESC = "MEX_ORIENTATION_DESC.TXT"
SPACECRAFT_POINTING_MODE = ACROSSTRACK
^MEX_POINTING_DESC = "MEX_POINTING_DESC.TXT"
RIGHT_ASCENSION = -1e+32
DECLINATION = -1e+32
OFFSET_ANGLE = 0.71
SPACECRAFT_SOLAR_DISTANCE = 2.20333e+08
TARGET_NAME = MARS
/* CAMERA DATA ELEMENTS */
BUFFER_MODE_ID = DIRECT
EXPOSURE_DURATION = 5.04
INST_CMPRS_NAME = NONE
INST_CMPRS_RATIO = 1.0
INST_CMPRS_QUALITY = -2147483648
INST_CMPRS_QUANTZ_TBL_ID = -2147483648
INSTRUMENT_TEMPERATURE = 17.2727
MISSING_FRAMES = 0
START_BIT = 0
/* RADIOMETRIC DATA ELEMENTS */
BANDWIDTH = 250.0
CENTER_FILTER_WAVELENGTH = 600.0
RADIANCE_OFFSET = -9.99e+31
RADIANCE_SCALING_FACTOR = -9.99e+31
REFLECTANCE_SCALING_FACTOR = -9.99e+31
MEX:REFLECTANCE_OFFSET = -9.99e+31
/* IMAGE OBJECT DEFINITIONS */
OBJECT = IMAGE
  INTERCHANGE_FORMAT = BINARY
  LINES = 1159
  LINE_SAMPLES = 1177
  SAMPLE_TYPE = UNSIGNED_INTEGER
  SAMPLE_BITS = 8
  BANDS = 1
  BAND_STORAGE_TYPE = BAND_SEQUENTIAL
  MAXIMUM = 5904
  MEAN = 5117.09
  MINIMUM = 0
  STANDARD_DEVIATION = 363.477
END_OBJECT = IMAGE
/* MAP OBJECT DEFINITIONS */
OBJECT = IMAGE_MAP_PROJECTION
  ^DATA_SET_MAP_PROJECTION_CATALOG= "DSMAP.CAT"
  A_AXIS_RADIUS = 3396.19
  B_AXIS_RADIUS = 3396.19
  C_AXIS_RADIUS = 3396.19
  CENTER_LATITUDE = 0.0
  CENTER_LONGITUDE = 284.0
  COORDINATE_SYSTEM_NAME = PLANETOGRAPHIC
  COORDINATE_SYSTEM_TYPE = "BODY-FIXED ROTATING"
  EASTERNMOST_LONGITUDE = 284.234
  FIRST_STANDARD_PARALLEL = "N/A"
  LINE_FIRST_PIXEL = 1
  LINE_LAST_PIXEL = 1159
  LINE_PROJECTION_OFFSET = 568400.0
  MAP_PROJECTION_ROTATION = 0.0
  MAP_PROJECTION_TYPE = SINUSOIDAL
  MAP_RESOLUTION = 11854.9393024378
  MAP_SCALE = 0.005
  MAXIMUM_LATITUDE = 48.0017
  MINIMUM_LATITUDE = 47.9093
  POSITIVE_LONGITUDE_DIRECTION = EAST
  REFERENCE_LATITUDE = "N/A"
  REFERENCE_LONGITUDE = "N/A"
  SAMPLE_FIRST_PIXEL = 1
  SAMPLE_LAST_PIXEL = 1177
  SAMPLE_PROJECTION_OFFSET = -902.0
  SECOND_STANDARD_PARALLEL = "N/A"
  WESTERNMOST_LONGITUDE = 284.094
END_OBJECT = IMAGE_MAP_PROJECTION
/* The JPEG2000 image data file associated with this label. */
OBJECT = COMPRESSED_FILE
  FILE_NAME = "H1495_0011_SR3.JP2"
  RECORD_TYPE = UNDEFINED
  FILE_RECORDS = UNK
  ENCODING_TYPE = "JP2"
  INTERCHANGE_FORMAT = BINARY
  UNCOMPRESSED_FILE_NAME = "H1495_0011_SR3.IMG"
  REQUIRED_STORAGE_BYTES = "1382975"
  ^DESCRIPTION = "JP2INFO.TXT"
END_OBJECT = COMPRESSED_FILE
END
