PDS_VERSION_ID = PDS3
/* FILE DATA ELEMENTS */
RECORD_TYPE = STREAM
/* POINTERS TO DATA OBJECTS */
^COMPRESSED_FILE = "H1495_0020_SR3.JP2"
/* IDENTIFICATION DATA ELEMENTS */
DATA_SET_ID = "MEX-M-HRSC-5-REFDR-MAPPROJECTED-V3.0"
DATA_SET_NAME = "MARS EXPRESS HRSC MAP PROJECTED REFDR V3.0"
DETECTOR_ID = MEX_HRSC_SRC
EVENT_TYPE = "MARS-REGIONAL-MAPPING-Te-Pf-La"
INSTRUMENT_HOST_ID = MEX
INSTRUMENT_HOST_NAME = "MARS EXPRESS"
INSTRUMENT_ID = HRSC
INSTRUMENT_NAME = "HIGH RESOLUTION STEREO CAMERA"
MISSION_NAME = "MARS EXPRESS"
MISSION_PHASE_NAME = MR_Phase_5
PROCESSING_LEVEL_ID = 3
PRODUCT_CREATION_TIME = 2016-03-05T14:51:22.000Z
PRODUCT_ID = "H1495_0020_SR3.JP2"
RELEASE_ID = 0019
REVISION_ID = 0000
/* QUALITY DATA ELEMENTS */
DATA_QUALITY_ID = 1
DATA_QUALITY_DESC = "Data calculated based on original SPICE kernels"
/* TIME DATA ELEMENTS */
SPACECRAFT_CLOCK_START_COUNT = "1/0059129687.56193"
SPACECRAFT_CLOCK_STOP_COUNT = "1/0059130250.08466"
IMAGE_TIME = 2005-03-17T09:03:12.171Z
START_TIME = 2005-03-17T09:03:12.169Z
STOP_TIME = 2005-03-17T09:03:12.174Z
/* ORBITAL DATA ELEMENTS */
ASCENDING_NODE_LONGITUDE = 197.17
MAXIMUM_RESOLUTION = 5.347
FOOTPRINT_POINT_LATITUDE = (47.4063,47.4037,47.4012,47.3959, 47.3913,47.3885,47.3833,47.3799,47.3752 ,47.3701,47.3676,47.3635,47.3606, 47.3575,47.3541,47.3496,47.3465,47.3439 ,47.3405,47.3362,47.3332,47.328,47.3241 ,47.3216,47.316,47.3159,47.3158,47.3157 ,47.3156,47.3155,47.3154,47.3153, 47.3152,47.3151,47.315,47.3149,47.3148, 47.3147,47.3146,47.3145,47.3144,47.3143 ,47.3142,47.3141,47.314,47.3139,47.3139 ,47.3138,47.3137,47.3136,47.3178, 47.3205,47.3231,47.3261,47.3289,47.3325 ,47.3365,47.341,47.3452,47.3505,47.3547 ,47.3573,47.3607,47.366,47.3708,47.3746 ,47.3783,47.3813,47.3845,47.3897, 47.3944,47.398,47.4021,47.4047,47.4048, 47.4049,47.405,47.4051,47.4052,47.4053, 47.4054,47.4055,47.4056,47.4057,47.4058 ,47.4059,47.406,47.4061,47.4062,47.4063 ,47.4064,47.4065,47.4066,47.4067, 47.4068,47.4069,47.407,47.4071,47.4072, 47.4063)
FOOTPRINT_POINT_LONGITUDE = (284.251,284.251,284.251,284.251, 284.251,284.251,284.251,284.252,284.252 ,284.252,284.252,284.252,284.252, 284.252,284.253,284.253,284.253,284.253 ,284.253,284.253,284.253,284.254, 284.254,284.254,284.254,284.247,284.242 ,284.236,284.231,284.226,284.22,284.215 ,284.21,284.204,284.199,284.194,284.188 ,284.183,284.177,284.172,284.167, 284.161,284.156,284.151,284.145,284.14, 284.135,284.129,284.124,284.118,284.117 ,284.117,284.117,284.116,284.116, 284.116,284.116,284.115,284.115,284.115 ,284.115,284.115,284.115,284.114, 284.114,284.114,284.114,284.114,284.114 ,284.113,284.113,284.113,284.113, 284.113,284.118,284.123,284.129,284.134 ,284.139,284.145,284.15,284.156,284.161 ,284.166,284.172,284.177,284.182, 284.188,284.193,284.199,284.204,284.209 ,284.215,284.22,284.226,284.231,284.236 ,284.242,284.247,284.251)
ORBIT_NUMBER = 1495
ORBITAL_ECCENTRICITY = 0.566
ORBITAL_INCLINATION = 86.6
ORBITAL_SEMIMAJOR_AXIS = 8532.66
PERIAPSIS_ALTITUDE = 326.97
PERIAPSIS_ARGUMENT_ANGLE = 97.26
PERIAPSIS_TIME = 2005-03-17T08:53:51.000Z
SPACECRAFT_ORIENTATION = (0.0,1.0,0.0)
^MEX_ORIENTATION_DESC = "MEX_ORIENTATION_DESC.TXT"
SPACECRAFT_POINTING_MODE = ACROSSTRACK
^MEX_POINTING_DESC = "MEX_POINTING_DESC.TXT"
RIGHT_ASCENSION = -1e+32
DECLINATION = -1e+32
OFFSET_ANGLE = 0.71
SPACECRAFT_SOLAR_DISTANCE = 2.20333e+08
TARGET_NAME = MARS
/* CAMERA DATA ELEMENTS */
BUFFER_MODE_ID = DIRECT
EXPOSURE_DURATION = 5.04
INST_CMPRS_NAME = NONE
INST_CMPRS_RATIO = 1.0
INST_CMPRS_QUALITY = -2147483648
INST_CMPRS_QUANTZ_TBL_ID = -2147483648
INSTRUMENT_TEMPERATURE = 17.4251
MISSING_FRAMES = 0
START_BIT = 0
/* RADIOMETRIC DATA ELEMENTS */
BANDWIDTH = 250.0
CENTER_FILTER_WAVELENGTH = 600.0
RADIANCE_OFFSET = -9.99e+31
RADIANCE_SCALING_FACTOR = -9.99e+31
REFLECTANCE_SCALING_FACTOR = -9.99e+31
MEX:REFLECTANCE_OFFSET = -9.99e+31
/* IMAGE OBJECT DEFINITIONS */
OBJECT = IMAGE
  INTERCHANGE_FORMAT = BINARY
  LINES = 1172
  LINE_SAMPLES = 1189
  SAMPLE_TYPE = UNSIGNED_INTEGER
  SAMPLE_BITS = 8
  BANDS = 1
  BAND_STORAGE_TYPE = BAND_SEQUENTIAL
  MAXIMUM = 6410
  MEAN = 5537.68
  MINIMUM = 0
  STANDARD_DEVIATION = 219.85
END_OBJECT = IMAGE
/* MAP OBJECT DEFINITIONS */
OBJECT = IMAGE_MAP_PROJECTION
  ^DATA_SET_MAP_PROJECTION_CATALOG= "DSMAP.CAT"
  A_AXIS_RADIUS = 3396.19
  B_AXIS_RADIUS = 3396.19
  C_AXIS_RADIUS = 3396.19
  CENTER_LATITUDE = 0.0
  CENTER_LONGITUDE = 284.0
  COORDINATE_SYSTEM_NAME = PLANETOGRAPHIC
  COORDINATE_SYSTEM_TYPE = "BODY-FIXED ROTATING"
  EASTERNMOST_LONGITUDE = 284.254
  FIRST_STANDARD_PARALLEL = "N/A"
  LINE_FIRST_PIXEL = 1
  LINE_LAST_PIXEL = 1172
  LINE_PROJECTION_OFFSET = 561375.0
  MAP_PROJECTION_ROTATION = 0.0
  MAP_PROJECTION_TYPE = SINUSOIDAL
  MAP_RESOLUTION = 11854.9393024378
  MAP_SCALE = 0.005
  MAXIMUM_LATITUDE = 47.4072
  MINIMUM_LATITUDE = 47.3136
  POSITIVE_LONGITUDE_DIRECTION = EAST
  REFERENCE_LATITUDE = "N/A"
  REFERENCE_LONGITUDE = "N/A"
  SAMPLE_FIRST_PIXEL = 1
  SAMPLE_LAST_PIXEL = 1189
  SAMPLE_PROJECTION_OFFSET = -1065.0
  SECOND_STANDARD_PARALLEL = "N/A"
  WESTERNMOST_LONGITUDE = 284.113
END_OBJECT = IMAGE_MAP_PROJECTION
/* The JPEG2000 image data file associated with this label. */
OBJECT = COMPRESSED_FILE
  FILE_NAME = "H1495_0020_SR3.JP2"
  RECORD_TYPE = UNDEFINED
  FILE_RECORDS = UNK
  ENCODING_TYPE = "JP2"
  INTERCHANGE_FORMAT = BINARY
  UNCOMPRESSED_FILE_NAME = "H1495_0020_SR3.IMG"
  REQUIRED_STORAGE_BYTES = "1412532"
  ^DESCRIPTION = "JP2INFO.TXT"
END_OBJECT = COMPRESSED_FILE
END
