PDS_VERSION_ID = PDS3
/* FILE DATA ELEMENTS */
RECORD_TYPE = STREAM
/* POINTERS TO DATA OBJECTS */
^COMPRESSED_FILE = "H1500_0000_RE3.JP2"
/* IDENTIFICATION DATA ELEMENTS */
DATA_SET_ID = "MEX-M-HRSC-5-REFDR-MAPPROJECTED-V3.0"
DATA_SET_NAME = "MARS EXPRESS HRSC MAP PROJECTED REFDR V3.0"
DETECTOR_ID = MEX_HRSC_RED
EVENT_TYPE = "MARS-REGIONAL-MAPPING-Te-Im-Lc"
INSTRUMENT_HOST_ID = MEX
INSTRUMENT_HOST_NAME = "MARS EXPRESS"
INSTRUMENT_ID = HRSC
INSTRUMENT_NAME = "HIGH RESOLUTION STEREO CAMERA"
MISSION_NAME = "MARS EXPRESS"
MISSION_PHASE_NAME = MR_Phase_5
PROCESSING_LEVEL_ID = 3
PRODUCT_CREATION_TIME = 2016-03-05T14:51:22.000Z
PRODUCT_ID = "H1500_0000_RE3.JP2"
RELEASE_ID = 0019
REVISION_ID = 0000
/* QUALITY DATA ELEMENTS */
DATA_QUALITY_ID = 1
DATA_QUALITY_DESC = "Data calculated based on original SPICE kernels"
/* TIME DATA ELEMENTS */
SPACECRAFT_CLOCK_START_COUNT = "1/0059250806.57144"
SPACECRAFT_CLOCK_STOP_COUNT = "1/0059251477.56895"
START_TIME = 2005-03-18T18:33:40.019Z
STOP_TIME = 2005-03-18T18:41:55.692Z
/* ORBITAL DATA ELEMENTS */
ASCENDING_NODE_LONGITUDE = 197.06
MAXIMUM_RESOLUTION = 60.8
FOOTPRINT_POINT_LATITUDE = (68.7993,68.9039,68.3553,67.8929, 67.4308,66.9689,66.5066,65.5826,65.0749 ,64.5414,64.0086,63.476,62.9438,62.4118 ,61.8804,61.3497,60.8112,60.2674, 59.4408,58.8838,58.3172,57.7477,57.1677 ,56.2881,55.6935,55.0882,54.4785, 53.8591,53.2301,52.5944,51.9507,51.2956 ,50.6308,49.957,49.2734,48.5791,47.8735 ,47.1569,46.4283,45.6875,44.9342, 44.1695,43.3894,42.595,41.7865,40.9631, 40.1242,39.269,38.3979,37.5116,37.5047, 37.4827,37.4605,38.3466,39.2145,40.0662 ,40.9021,41.722,42.5278,43.3189,44.0955 ,44.8584,45.6089,46.3477,47.0732, 47.7874,48.4905,49.1824,49.8639,50.5351 ,51.1974,51.8505,52.4922,53.1255, 53.7523,54.3694,54.9771,55.58,56.1725, 57.0484,57.6263,58.1936,58.7577,59.312, 59.8646,60.4061,60.9479,61.4773,62.0057 ,62.5349,63.0644,63.5942,64.1243, 64.6546,65.4238,66.3423,67.0306,67.948, 68.4068,68.7993)
FOOTPRINT_POINT_LONGITUDE = (147.06,149.084,149.821,149.968,150.107 ,150.24,150.368,150.608,150.732,150.856 ,150.974,151.087,151.194,151.298, 151.396,151.491,151.583,151.671,151.8, 151.882,151.962,152.039,152.115,152.223 ,152.293,152.361,152.426,152.49,152.552 ,152.612,152.671,152.727,152.782, 152.836,152.888,152.938,152.987,153.034 ,153.08,153.125,153.168,153.21,153.25, 153.29,153.328,153.364,153.4,153.434, 153.466,153.056,152.231,151.111,150.335 ,150.334,150.331,150.324,150.313,150.3, 150.284,150.264,150.242,150.217,150.189 ,150.158,150.124,150.087,150.047, 150.005,149.959,149.911,149.86,149.805, 149.749,149.688,149.625,149.559,149.49, 149.417,149.341,149.221,149.136,149.048 ,148.956,148.86,148.76,148.657,148.548, 148.436,148.318,148.195,148.064,147.927 ,147.783,147.631,147.395,147.09,146.84, 146.479,146.285,147.06)
ORBIT_NUMBER = 1500
ORBITAL_ECCENTRICITY = 0.566
ORBITAL_INCLINATION = 86.6
ORBITAL_SEMIMAJOR_AXIS = 8533.32
PERIAPSIS_ALTITUDE = 328.01
PERIAPSIS_ARGUMENT_ANGLE = 96.36
PERIAPSIS_TIME = 2005-03-18T18:30:24.000Z
SPACECRAFT_ORIENTATION = (0.0,1.0,0.0)
^MEX_ORIENTATION_DESC = "MEX_ORIENTATION_DESC.TXT"
SPACECRAFT_POINTING_MODE = NADIR
^MEX_POINTING_DESC = "MEX_POINTING_DESC.TXT"
RIGHT_ASCENSION = -1e+32
DECLINATION = -1e+32
OFFSET_ANGLE = -1e+32
SPACECRAFT_SOLAR_DISTANCE = 2.2007e+08
TARGET_NAME = MARS
/* CAMERA DATA ELEMENTS */
DETECTOR_TEMPERATURE = 18.5744
FOCAL_PLANE_TEMPERATURE = 7.156
INST_CMPRS_NAME = "DISCRETE COSINE TRANSFORMATION (DCT)"
INST_CMPRS_RATIO = 25.9019
INST_CMPRS_QUALITY = 0
INST_CMPRS_QUANTZ_TBL_ID = 0
INSTRUMENT_TEMPERATURE = 11.234
LENS_TEMPERATURE = 8.5833
MACROPIXEL_SIZE = 4
MISSING_FRAMES = 0
PIXEL_SUBSAMPLING_FLAG = N
SIGNAL_CHAIN_ID = 2
/* RADIOMETRIC DATA ELEMENTS */
BANDWIDTH = 48.0
CENTER_FILTER_WAVELENGTH = 748.0
RADIANCE_OFFSET = 1.05762
RADIANCE_SCALING_FACTOR = 0.00841888
REFLECTANCE_SCALING_FACTOR = 0.000930464
MEX:REFLECTANCE_OFFSET = 0.11689
/* IMAGE OBJECT DEFINITIONS */
OBJECT = IMAGE
  INTERCHANGE_FORMAT = BINARY
  LINES = 37120
  LINE_SAMPLES = 4554
  SAMPLE_TYPE = UNSIGNED_INTEGER
  SAMPLE_BITS = 8
  BANDS = 1
  BAND_STORAGE_TYPE = BAND_SEQUENTIAL
  MAXIMUM = 213
  MEAN = 114.219
  MINIMUM = 66
  STANDARD_DEVIATION = 34.1903
END_OBJECT = IMAGE
/* MAP OBJECT DEFINITIONS */
OBJECT = IMAGE_MAP_PROJECTION
  ^DATA_SET_MAP_PROJECTION_CATALOG= "DSMAP.CAT"
  A_AXIS_RADIUS = 3396.0
  B_AXIS_RADIUS = 3396.0
  C_AXIS_RADIUS = 3396.0
  CENTER_LATITUDE = 0.0
  CENTER_LONGITUDE = 151.0
  COORDINATE_SYSTEM_NAME = PLANETOGRAPHIC
  COORDINATE_SYSTEM_TYPE = "BODY-FIXED ROTATING"
  EASTERNMOST_LONGITUDE = 153.466
  FIRST_STANDARD_PARALLEL = "N/A"
  LINE_FIRST_PIXEL = 1
  LINE_LAST_PIXEL = 37120
  LINE_PROJECTION_OFFSET = 81601.875
  MAP_PROJECTION_ROTATION = 0.0
  MAP_PROJECTION_TYPE = SINUSOIDAL
  MAP_RESOLUTION = 1185.42760773333
  MAP_SCALE = 0.05
  MAXIMUM_LATITUDE = 68.90389999999999
  MINIMUM_LATITUDE = 37.4605
  POSITIVE_LONGITUDE_DIRECTION = EAST
  REFERENCE_LATITUDE = "N/A"
  REFERENCE_LONGITUDE = "N/A"
  SAMPLE_FIRST_PIXEL = 1
  SAMPLE_LAST_PIXEL = 4554
  SAMPLE_PROJECTION_OFFSET = 2091.375
  SECOND_STANDARD_PARALLEL = "N/A"
  WESTERNMOST_LONGITUDE = 146.285
END_OBJECT = IMAGE_MAP_PROJECTION
/* The JPEG2000 image data file associated with this label. */
OBJECT = COMPRESSED_FILE
  FILE_NAME = "H1500_0000_RE3.JP2"
  RECORD_TYPE = UNDEFINED
  FILE_RECORDS = UNK
  ENCODING_TYPE = "JP2"
  INTERCHANGE_FORMAT = BINARY
  UNCOMPRESSED_FILE_NAME = "H1500_0000_RE3.IMG"
  REQUIRED_STORAGE_BYTES = "169071804"
  ^DESCRIPTION = "JP2INFO.TXT"
END_OBJECT = COMPRESSED_FILE
END
