PDS_VERSION_ID = PDS3
/* FILE DATA ELEMENTS */
RECORD_TYPE = STREAM
/* POINTERS TO DATA OBJECTS */
^COMPRESSED_FILE = "H1500_0006_SR3.JP2"
/* IDENTIFICATION DATA ELEMENTS */
DATA_SET_ID = "MEX-M-HRSC-5-REFDR-MAPPROJECTED-V3.0"
DATA_SET_NAME = "MARS EXPRESS HRSC MAP PROJECTED REFDR V3.0"
DETECTOR_ID = MEX_HRSC_SRC
EVENT_TYPE = "MARS-REGIONAL-MAPPING-Te-Im-Lc"
INSTRUMENT_HOST_ID = MEX
INSTRUMENT_HOST_NAME = "MARS EXPRESS"
INSTRUMENT_ID = HRSC
INSTRUMENT_NAME = "HIGH RESOLUTION STEREO CAMERA"
MISSION_NAME = "MARS EXPRESS"
MISSION_PHASE_NAME = MR_Phase_5
PROCESSING_LEVEL_ID = 3
PRODUCT_CREATION_TIME = 2016-03-05T14:51:22.000Z
PRODUCT_ID = "H1500_0006_SR3.JP2"
RELEASE_ID = 0019
REVISION_ID = 0000
/* QUALITY DATA ELEMENTS */
DATA_QUALITY_ID = 1
DATA_QUALITY_DESC = "Data calculated based on original SPICE kernels"
/* TIME DATA ELEMENTS */
SPACECRAFT_CLOCK_START_COUNT = "1/0059250806.57144"
SPACECRAFT_CLOCK_STOP_COUNT = "1/0059251477.56895"
IMAGE_TIME = 2005-03-18T18:35:49.279Z
START_TIME = 2005-03-18T18:35:49.276Z
STOP_TIME = 2005-03-18T18:35:49.281Z
/* ORBITAL DATA ELEMENTS */
ASCENDING_NODE_LONGITUDE = 197.06
MAXIMUM_RESOLUTION = 3.834
FOOTPRINT_POINT_LATITUDE = (62.3988,62.3965,62.3939,62.3921, 62.3892,62.3873,62.3847,62.3824,62.3789 ,62.376,62.3723,62.3693,62.3671,62.3653 ,62.3625,62.3602,62.358,62.3549,62.3528 ,62.3495,62.3473,62.3455,62.3427, 62.3402,62.3369,62.334,62.3337,62.3334, 62.3332,62.3329,62.3327,62.3325,62.3323 ,62.332,62.3318,62.3315,62.3313,62.3311 ,62.3309,62.3307,62.3304,62.3302, 62.3299,62.3297,62.3294,62.3291,62.3289 ,62.3286,62.3284,62.3281,62.3278, 62.3281,62.3302,62.3332,62.335,62.3392, 62.3426,62.3461,62.3483,62.3503,62.3534 ,62.3567,62.3587,62.3605,62.3633, 62.3668,62.3692,62.3721,62.3752,62.3779 ,62.3812,62.3832,62.3863,62.3887, 62.3906,62.3928,62.393,62.3933,62.3936, 62.3939,62.3941,62.3945,62.3947,62.395, 62.3952,62.3955,62.3958,62.396,62.3962, 62.3965,62.3967,62.3968,62.3972,62.3974 ,62.3977,62.3979,62.3982,62.3985, 62.3989,62.3988)
FOOTPRINT_POINT_LONGITUDE = (149.817,149.817,149.818,149.818, 149.819,149.819,149.82,149.82,149.821, 149.822,149.822,149.823,149.823,149.824 ,149.824,149.825,149.825,149.826, 149.826,149.827,149.828,149.828,149.829 ,149.829,149.83,149.829,149.823,149.816 ,149.811,149.805,149.801,149.795, 149.791,149.786,149.781,149.775,149.77, 149.765,149.761,149.756,149.751,149.745 ,149.74,149.734,149.729,149.723,149.717 ,149.712,149.706,149.701,149.695, 149.689,149.688,149.687,149.687,149.686 ,149.685,149.685,149.684,149.684, 149.683,149.682,149.682,149.682,149.681 ,149.68,149.68,149.679,149.678,149.678, 149.677,149.677,149.676,149.675,149.675 ,149.676,149.682,149.687,149.693,149.7, 149.705,149.712,149.718,149.724,149.729 ,149.735,149.74,149.746,149.75,149.756, 149.76,149.764,149.771,149.777,149.782, 149.786,149.793,149.8,149.809,149.817)
ORBIT_NUMBER = 1500
ORBITAL_ECCENTRICITY = 0.566
ORBITAL_INCLINATION = 86.6
ORBITAL_SEMIMAJOR_AXIS = 8533.32
PERIAPSIS_ALTITUDE = 328.01
PERIAPSIS_ARGUMENT_ANGLE = 96.36
PERIAPSIS_TIME = 2005-03-18T18:30:24.000Z
SPACECRAFT_ORIENTATION = (0.0,1.0,0.0)
^MEX_ORIENTATION_DESC = "MEX_ORIENTATION_DESC.TXT"
SPACECRAFT_POINTING_MODE = NADIR
^MEX_POINTING_DESC = "MEX_POINTING_DESC.TXT"
RIGHT_ASCENSION = -1e+32
DECLINATION = -1e+32
OFFSET_ANGLE = -1e+32
SPACECRAFT_SOLAR_DISTANCE = 2.2007e+08
TARGET_NAME = MARS
/* CAMERA DATA ELEMENTS */
BUFFER_MODE_ID = BUFFER_8
EXPOSURE_DURATION = 5.04
INST_CMPRS_NAME = NONE
INST_CMPRS_RATIO = 1.0
INST_CMPRS_QUALITY = -2147483648
INST_CMPRS_QUANTZ_TBL_ID = -2147483648
INSTRUMENT_TEMPERATURE = 8.18182
MISSING_FRAMES = 0
START_BIT = 0
/* RADIOMETRIC DATA ELEMENTS */
BANDWIDTH = 250.0
CENTER_FILTER_WAVELENGTH = 600.0
RADIANCE_OFFSET = -9.99e+31
RADIANCE_SCALING_FACTOR = -9.99e+31
REFLECTANCE_SCALING_FACTOR = -9.99e+31
MEX:REFLECTANCE_OFFSET = -9.99e+31
/* IMAGE OBJECT DEFINITIONS */
OBJECT = IMAGE
  INTERCHANGE_FORMAT = BINARY
  LINES = 922
  LINE_SAMPLES = 927
  SAMPLE_TYPE = UNSIGNED_INTEGER
  SAMPLE_BITS = 8
  BANDS = 1
  BAND_STORAGE_TYPE = BAND_SEQUENTIAL
  MAXIMUM = 5165
  MEAN = 4785.97
  MINIMUM = 4061
  STANDARD_DEVIATION = 77.6286
END_OBJECT = IMAGE
/* MAP OBJECT DEFINITIONS */
OBJECT = IMAGE_MAP_PROJECTION
  ^DATA_SET_MAP_PROJECTION_CATALOG= "DSMAP.CAT"
  A_AXIS_RADIUS = 3396.19
  B_AXIS_RADIUS = 3396.19
  C_AXIS_RADIUS = 3396.19
  CENTER_LATITUDE = 0.0
  CENTER_LONGITUDE = 150.0
  COORDINATE_SYSTEM_NAME = PLANETOGRAPHIC
  COORDINATE_SYSTEM_TYPE = "BODY-FIXED ROTATING"
  EASTERNMOST_LONGITUDE = 149.83
  FIRST_STANDARD_PARALLEL = "N/A"
  LINE_FIRST_PIXEL = 1
  LINE_LAST_PIXEL = 922
  LINE_PROJECTION_OFFSET = 738416.0
  MAP_PROJECTION_ROTATION = 0.0
  MAP_PROJECTION_TYPE = SINUSOIDAL
  MAP_RESOLUTION = 11854.9393024378
  MAP_SCALE = 0.005
  MAXIMUM_LATITUDE = 62.3989
  MINIMUM_LATITUDE = 62.3278
  POSITIVE_LONGITUDE_DIRECTION = EAST
  REFERENCE_LATITUDE = "N/A"
  REFERENCE_LONGITUDE = "N/A"
  SAMPLE_FIRST_PIXEL = 1
  SAMPLE_LAST_PIXEL = 927
  SAMPLE_PROJECTION_OFFSET = 1819.0
  SECOND_STANDARD_PARALLEL = "N/A"
  WESTERNMOST_LONGITUDE = 149.675
END_OBJECT = IMAGE_MAP_PROJECTION
/* The JPEG2000 image data file associated with this label. */
OBJECT = COMPRESSED_FILE
  FILE_NAME = "H1500_0006_SR3.JP2"
  RECORD_TYPE = UNDEFINED
  FILE_RECORDS = UNK
  ENCODING_TYPE = "JP2"
  INTERCHANGE_FORMAT = BINARY
  UNCOMPRESSED_FILE_NAME = "H1500_0006_SR3.IMG"
  REQUIRED_STORAGE_BYTES = "872307"
  ^DESCRIPTION = "JP2INFO.TXT"
END_OBJECT = COMPRESSED_FILE
END
