PDS_VERSION_ID = PDS3
/* FILE DATA ELEMENTS */
RECORD_TYPE = STREAM
/* POINTERS TO DATA OBJECTS */
^COMPRESSED_FILE = "H1500_0007_SR3.JP2"
/* IDENTIFICATION DATA ELEMENTS */
DATA_SET_ID = "MEX-M-HRSC-5-REFDR-MAPPROJECTED-V3.0"
DATA_SET_NAME = "MARS EXPRESS HRSC MAP PROJECTED REFDR V3.0"
DETECTOR_ID = MEX_HRSC_SRC
EVENT_TYPE = "MARS-REGIONAL-MAPPING-Te-Im-Lc"
INSTRUMENT_HOST_ID = MEX
INSTRUMENT_HOST_NAME = "MARS EXPRESS"
INSTRUMENT_ID = HRSC
INSTRUMENT_NAME = "HIGH RESOLUTION STEREO CAMERA"
MISSION_NAME = "MARS EXPRESS"
MISSION_PHASE_NAME = MR_Phase_5
PROCESSING_LEVEL_ID = 3
PRODUCT_CREATION_TIME = 2016-03-05T14:51:22.000Z
PRODUCT_ID = "H1500_0007_SR3.JP2"
RELEASE_ID = 0019
REVISION_ID = 0000
/* QUALITY DATA ELEMENTS */
DATA_QUALITY_ID = 1
DATA_QUALITY_DESC = "Data calculated based on original SPICE kernels"
/* TIME DATA ELEMENTS */
SPACECRAFT_CLOCK_START_COUNT = "1/0059250806.57144"
SPACECRAFT_CLOCK_STOP_COUNT = "1/0059251477.56895"
IMAGE_TIME = 2005-03-18T18:35:49.824Z
START_TIME = 2005-03-18T18:35:49.821Z
STOP_TIME = 2005-03-18T18:35:49.826Z
/* ORBITAL DATA ELEMENTS */
ASCENDING_NODE_LONGITUDE = 197.06
MAXIMUM_RESOLUTION = 3.837
FOOTPRINT_POINT_LATITUDE = (62.365,62.3629,62.36,62.3563,62.3545, 62.3526,62.3508,62.3484,62.3454,62.3414 ,62.3389,62.3362,62.3342,62.3322, 62.3296,62.3271,62.3254,62.3226,62.3206 ,62.3173,62.3155,62.3128,62.3098, 62.3072,62.3048,62.3011,62.2998,62.2995 ,62.2992,62.299,62.2988,62.2985,62.2983 ,62.298,62.2977,62.2975,62.2972,62.297, 62.2967,62.2965,62.2962,62.2959,62.2956 ,62.2952,62.295,62.2947,62.2945,62.2942 ,62.2939,62.2948,62.2977,62.2999, 62.3025,62.306,62.3082,62.31,62.3133, 62.3154,62.3186,62.3214,62.3232,62.3259 ,62.3293,62.3322,62.335,62.3368,62.339, 62.3413,62.3438,62.3463,62.3488,62.3509 ,62.3536,62.3561,62.3583,62.3591, 62.3593,62.3596,62.36,62.3602,62.3605, 62.3607,62.361,62.3613,62.3615,62.3618, 62.362,62.3622,62.3625,62.3627,62.3631, 62.3633,62.3636,62.3639,62.3641,62.3644 ,62.3647,62.3648,62.3652,62.365)
FOOTPRINT_POINT_LONGITUDE = (149.824,149.824,149.825,149.826, 149.826,149.826,149.827,149.827,149.828 ,149.829,149.829,149.83,149.83,149.831, 149.831,149.832,149.832,149.833,149.833 ,149.834,149.834,149.835,149.836, 149.836,149.837,149.837,149.829,149.822 ,149.816,149.811,149.807,149.801, 149.796,149.79,149.784,149.779,149.773, 149.768,149.762,149.757,149.751,149.744 ,149.737,149.73,149.725,149.719,149.713 ,149.708,149.702,149.696,149.695, 149.694,149.694,149.693,149.693,149.692 ,149.692,149.691,149.69,149.69,149.689, 149.689,149.688,149.688,149.687,149.687 ,149.686,149.686,149.685,149.684, 149.684,149.684,149.683,149.682,149.682 ,149.688,149.692,149.699,149.706, 149.711,149.717,149.722,149.728,149.734 ,149.738,149.745,149.75,149.755,149.761 ,149.766,149.773,149.778,149.785, 149.791,149.795,149.802,149.808,149.812 ,149.819,149.824)
ORBIT_NUMBER = 1500
ORBITAL_ECCENTRICITY = 0.566
ORBITAL_INCLINATION = 86.6
ORBITAL_SEMIMAJOR_AXIS = 8533.32
PERIAPSIS_ALTITUDE = 328.01
PERIAPSIS_ARGUMENT_ANGLE = 96.36
PERIAPSIS_TIME = 2005-03-18T18:30:24.000Z
SPACECRAFT_ORIENTATION = (0.0,1.0,0.0)
^MEX_ORIENTATION_DESC = "MEX_ORIENTATION_DESC.TXT"
SPACECRAFT_POINTING_MODE = NADIR
^MEX_POINTING_DESC = "MEX_POINTING_DESC.TXT"
RIGHT_ASCENSION = -1e+32
DECLINATION = -1e+32
OFFSET_ANGLE = -1e+32
SPACECRAFT_SOLAR_DISTANCE = 2.2007e+08
TARGET_NAME = MARS
/* CAMERA DATA ELEMENTS */
BUFFER_MODE_ID = BUFFER_8
EXPOSURE_DURATION = 5.04
INST_CMPRS_NAME = NONE
INST_CMPRS_RATIO = 1.0
INST_CMPRS_QUALITY = -2147483648
INST_CMPRS_QUANTZ_TBL_ID = -2147483648
INSTRUMENT_TEMPERATURE = 8.18182
MISSING_FRAMES = 0
START_BIT = 0
/* RADIOMETRIC DATA ELEMENTS */
BANDWIDTH = 250.0
CENTER_FILTER_WAVELENGTH = 600.0
RADIANCE_OFFSET = -9.99e+31
RADIANCE_SCALING_FACTOR = -9.99e+31
REFLECTANCE_SCALING_FACTOR = -9.99e+31
MEX:REFLECTANCE_OFFSET = -9.99e+31
/* IMAGE OBJECT DEFINITIONS */
OBJECT = IMAGE
  INTERCHANGE_FORMAT = BINARY
  LINES = 923
  LINE_SAMPLES = 928
  SAMPLE_TYPE = UNSIGNED_INTEGER
  SAMPLE_BITS = 8
  BANDS = 1
  BAND_STORAGE_TYPE = BAND_SEQUENTIAL
  MAXIMUM = 5140
  MEAN = 4801.17
  MINIMUM = 4119
  STANDARD_DEVIATION = 77.0498
END_OBJECT = IMAGE
/* MAP OBJECT DEFINITIONS */
OBJECT = IMAGE_MAP_PROJECTION
  ^DATA_SET_MAP_PROJECTION_CATALOG= "DSMAP.CAT"
  A_AXIS_RADIUS = 3396.19
  B_AXIS_RADIUS = 3396.19
  C_AXIS_RADIUS = 3396.19
  CENTER_LATITUDE = 0.0
  CENTER_LONGITUDE = 150.0
  COORDINATE_SYSTEM_NAME = PLANETOGRAPHIC
  COORDINATE_SYSTEM_TYPE = "BODY-FIXED ROTATING"
  EASTERNMOST_LONGITUDE = 149.837
  FIRST_STANDARD_PARALLEL = "N/A"
  LINE_FIRST_PIXEL = 1
  LINE_LAST_PIXEL = 923
  LINE_PROJECTION_OFFSET = 738017.0
  MAP_PROJECTION_ROTATION = 0.0
  MAP_PROJECTION_TYPE = SINUSOIDAL
  MAP_RESOLUTION = 11854.9393024378
  MAP_SCALE = 0.005
  MAXIMUM_LATITUDE = 62.3652
  MINIMUM_LATITUDE = 62.2939
  POSITIVE_LONGITUDE_DIRECTION = EAST
  REFERENCE_LATITUDE = "N/A"
  REFERENCE_LONGITUDE = "N/A"
  SAMPLE_FIRST_PIXEL = 1
  SAMPLE_LAST_PIXEL = 928
  SAMPLE_PROJECTION_OFFSET = 1782.0
  SECOND_STANDARD_PARALLEL = "N/A"
  WESTERNMOST_LONGITUDE = 149.682
END_OBJECT = IMAGE_MAP_PROJECTION
/* The JPEG2000 image data file associated with this label. */
OBJECT = COMPRESSED_FILE
  FILE_NAME = "H1500_0007_SR3.JP2"
  RECORD_TYPE = UNDEFINED
  FILE_RECORDS = UNK
  ENCODING_TYPE = "JP2"
  INTERCHANGE_FORMAT = BINARY
  UNCOMPRESSED_FILE_NAME = "H1500_0007_SR3.IMG"
  REQUIRED_STORAGE_BYTES = "874176"
  ^DESCRIPTION = "JP2INFO.TXT"
END_OBJECT = COMPRESSED_FILE
END
