PDS_VERSION_ID = PDS3
/* FILE DATA ELEMENTS */
RECORD_TYPE = STREAM
/* POINTERS TO DATA OBJECTS */
^COMPRESSED_FILE = "H1503_0000_IR3.JP2"
/* IDENTIFICATION DATA ELEMENTS */
DATA_SET_ID = "MEX-M-HRSC-5-REFDR-MAPPROJECTED-V3.0"
DATA_SET_NAME = "MARS EXPRESS HRSC MAP PROJECTED REFDR V3.0"
DETECTOR_ID = MEX_HRSC_IR
EVENT_TYPE = "MARS-REGIONAL-MAPPING-Te-Lc-Pf"
INSTRUMENT_HOST_ID = MEX
INSTRUMENT_HOST_NAME = "MARS EXPRESS"
INSTRUMENT_ID = HRSC
INSTRUMENT_NAME = "HIGH RESOLUTION STEREO CAMERA"
MISSION_NAME = "MARS EXPRESS"
MISSION_PHASE_NAME = MR_Phase_5
PROCESSING_LEVEL_ID = 3
PRODUCT_CREATION_TIME = 2016-03-08T06:50:01.000Z
PRODUCT_ID = "H1503_0000_IR3.JP2"
RELEASE_ID = 0020
REVISION_ID = 0000
/* QUALITY DATA ELEMENTS */
DATA_QUALITY_ID = 1
DATA_QUALITY_DESC = "Data calculated based on original SPICE kernels"
/* TIME DATA ELEMENTS */
SPACECRAFT_CLOCK_START_COUNT = "1/0059323290.57140"
SPACECRAFT_CLOCK_STOP_COUNT = "1/0059323861.63881"
START_TIME = 2005-03-19T14:42:34.042Z
STOP_TIME = 2005-03-19T14:53:27.684Z
/* ORBITAL DATA ELEMENTS */
ASCENDING_NODE_LONGITUDE = 196.99
MAXIMUM_RESOLUTION = 57.8
FOOTPRINT_POINT_LATITUDE = (76.2644,76.4204,75.4583,74.8599, 74.2699,73.6815,73.094,72.5075,71.9227, 71.3392,70.7572,69.5984,68.9418,68.2769 ,67.6147,66.9554,66.2983,65.6441, 64.9777,64.3083,63.6282,62.9408,62.2469 ,61.543,60.8285,60.1056,59.3733,58.6308 ,57.8768,57.1117,56.3348,55.5458, 54.7443,53.93,53.1003,52.2567,51.3988, 50.5245,49.6339,48.7399,47.8554,46.9802 ,46.1147,45.259,44.4132,43.5785,42.7508 ,41.9345,41.1279,40.2859,40.2784, 40.2653,40.2513,41.0425,41.8433,42.6545 ,43.4751,44.3057,45.1456,45.9959, 46.8558,47.7259,48.6053,49.4945,50.819, 51.6812,52.5299,53.3618,54.177,54.9863, 55.7802,56.5603,57.3285,58.0851,58.8309 ,59.5669,60.2909,61.0051,61.7108, 62.4084,63.0969,63.7748,64.4482,65.1119 ,66.0935,66.746,67.4013,68.0586,68.7176 ,69.3744,70.5237,71.1003,71.6779, 72.2567,72.8365,73.4171,73.9982,74.5784 ,75.17,76.2644)
FOOTPRINT_POINT_LONGITUDE = (208.019,210.807,213.044,213.413, 213.748,214.059,214.345,214.611,214.859 ,215.089,215.305,215.695,215.896, 216.086,216.264,216.43,216.586,216.732, 216.873,217.006,217.134,217.257,217.373 ,217.486,217.594,217.698,217.797, 217.893,217.985,218.074,218.16,218.244, 218.324,218.401,218.476,218.549,218.62, 218.688,218.755,218.819,218.879,218.936 ,218.99,219.042,219.091,219.139,219.183 ,219.226,219.268,218.601,217.433, 216.375,215.52,215.527,215.531,215.531, 215.528,215.521,215.51,215.495,215.475, 215.45,215.419,215.382,215.317,215.267, 215.212,215.151,215.088,215.015,214.937 ,214.855,214.766,214.672,214.571, 214.464,214.35,214.229,214.101,213.965, 213.821,213.668,213.507,213.335,213.06, 212.86,212.645,212.413,212.163,211.894, 211.373,211.083,210.771,210.436,210.074 ,209.682,209.258,208.8,208.29,208.019)
ORBIT_NUMBER = 1503
ORBITAL_ECCENTRICITY = 0.566
ORBITAL_INCLINATION = 86.61
ORBITAL_SEMIMAJOR_AXIS = 8531.26
PERIAPSIS_ALTITUDE = 326.6
PERIAPSIS_ARGUMENT_ANGLE = 95.83
PERIAPSIS_TIME = 2005-03-19T14:40:17.000Z
SPACECRAFT_ORIENTATION = (0.0,1.0,0.0)
^MEX_ORIENTATION_DESC = "MEX_ORIENTATION_DESC.TXT"
SPACECRAFT_POINTING_MODE = ACROSSTRACK
^MEX_POINTING_DESC = "MEX_POINTING_DESC.TXT"
RIGHT_ASCENSION = -1e+32
DECLINATION = -1e+32
OFFSET_ANGLE = 0.34
SPACECRAFT_SOLAR_DISTANCE = 2.19912e+08
TARGET_NAME = MARS
/* CAMERA DATA ELEMENTS */
DETECTOR_TEMPERATURE = 17.5549
FOCAL_PLANE_TEMPERATURE = 8.5833
INST_CMPRS_NAME = "DISCRETE COSINE TRANSFORMATION (DCT)"
INST_CMPRS_RATIO = 22.1385
INST_CMPRS_QUALITY = 0
INST_CMPRS_QUANTZ_TBL_ID = 0
INSTRUMENT_TEMPERATURE = 11.234
LENS_TEMPERATURE = 8.9911
MACROPIXEL_SIZE = 4
MISSING_FRAMES = 2
PIXEL_SUBSAMPLING_FLAG = N
SIGNAL_CHAIN_ID = 2
/* RADIOMETRIC DATA ELEMENTS */
BANDWIDTH = 81.0
CENTER_FILTER_WAVELENGTH = 955.5
RADIANCE_OFFSET = 0.475828
RADIANCE_SCALING_FACTOR = 0.00951055
REFLECTANCE_SCALING_FACTOR = 0.000992277
MEX:REFLECTANCE_OFFSET = 0.0496453
/* IMAGE OBJECT DEFINITIONS */
OBJECT = IMAGE
  INTERCHANGE_FORMAT = BINARY
  LINES = 47775
  LINE_SAMPLES = 5551
  SAMPLE_TYPE = UNSIGNED_INTEGER
  SAMPLE_BITS = 8
  BANDS = 1
  BAND_STORAGE_TYPE = BAND_SEQUENTIAL
  MAXIMUM = 211
  MEAN = 95.5283
  MINIMUM = 31
  STANDARD_DEVIATION = 38.5705
END_OBJECT = IMAGE
/* MAP OBJECT DEFINITIONS */
OBJECT = IMAGE_MAP_PROJECTION
  ^DATA_SET_MAP_PROJECTION_CATALOG= "DSMAP.CAT"
  A_AXIS_RADIUS = 3396.0
  B_AXIS_RADIUS = 3396.0
  C_AXIS_RADIUS = 3396.0
  CENTER_LATITUDE = 0.0
  CENTER_LONGITUDE = 216.0
  COORDINATE_SYSTEM_NAME = PLANETOGRAPHIC
  COORDINATE_SYSTEM_TYPE = "BODY-FIXED ROTATING"
  EASTERNMOST_LONGITUDE = 219.268
  FIRST_STANDARD_PARALLEL = "N/A"
  LINE_FIRST_PIXEL = 1
  LINE_LAST_PIXEL = 47775
  LINE_PROJECTION_OFFSET = 90772.875
  MAP_PROJECTION_ROTATION = 0.0
  MAP_PROJECTION_TYPE = SINUSOIDAL
  MAP_RESOLUTION = 1185.42760773333
  MAP_SCALE = 0.05
  MAXIMUM_LATITUDE = 76.4204
  MINIMUM_LATITUDE = 40.2513
  POSITIVE_LONGITUDE_DIRECTION = EAST
  REFERENCE_LATITUDE = "N/A"
  REFERENCE_LONGITUDE = "N/A"
  SAMPLE_FIRST_PIXEL = 1
  SAMPLE_LAST_PIXEL = 5551
  SAMPLE_PROJECTION_OFFSET = 2450.625
  SECOND_STANDARD_PARALLEL = "N/A"
  WESTERNMOST_LONGITUDE = 208.019
END_OBJECT = IMAGE_MAP_PROJECTION
/* The JPEG2000 image data file associated with this label. */
OBJECT = COMPRESSED_FILE
  FILE_NAME = "H1503_0000_IR3.JP2"
  RECORD_TYPE = UNDEFINED
  FILE_RECORDS = UNK
  ENCODING_TYPE = "JP2"
  INTERCHANGE_FORMAT = BINARY
  UNCOMPRESSED_FILE_NAME = "H1503_0000_IR3.IMG"
  REQUIRED_STORAGE_BYTES = "265226780"
  ^DESCRIPTION = "JP2INFO.TXT"
END_OBJECT = COMPRESSED_FILE
END
