PDS_VERSION_ID = PDS3
/* FILE DATA ELEMENTS */
RECORD_TYPE = STREAM
/* POINTERS TO DATA OBJECTS */
^COMPRESSED_FILE = "H1503_0000_S13.JP2"
/* IDENTIFICATION DATA ELEMENTS */
DATA_SET_ID = "MEX-M-HRSC-5-REFDR-MAPPROJECTED-V3.0"
DATA_SET_NAME = "MARS EXPRESS HRSC MAP PROJECTED REFDR V3.0"
DETECTOR_ID = MEX_HRSC_S1
EVENT_TYPE = "MARS-REGIONAL-MAPPING-Te-Lc-Pf"
INSTRUMENT_HOST_ID = MEX
INSTRUMENT_HOST_NAME = "MARS EXPRESS"
INSTRUMENT_ID = HRSC
INSTRUMENT_NAME = "HIGH RESOLUTION STEREO CAMERA"
MISSION_NAME = "MARS EXPRESS"
MISSION_PHASE_NAME = MR_Phase_5
PROCESSING_LEVEL_ID = 3
PRODUCT_CREATION_TIME = 2016-03-08T06:50:01.000Z
PRODUCT_ID = "H1503_0000_S13.JP2"
RELEASE_ID = 0020
REVISION_ID = 0000
/* QUALITY DATA ELEMENTS */
DATA_QUALITY_ID = 1
DATA_QUALITY_DESC = "Data calculated based on original SPICE kernels"
/* TIME DATA ELEMENTS */
SPACECRAFT_CLOCK_START_COUNT = "1/0059323290.57140"
SPACECRAFT_CLOCK_STOP_COUNT = "1/0059323861.63881"
START_TIME = 2005-03-19T14:42:39.389Z
STOP_TIME = 2005-03-19T14:53:27.401Z
/* ORBITAL DATA ELEMENTS */
ASCENDING_NODE_LONGITUDE = 196.99
MAXIMUM_RESOLUTION = 29.5
FOOTPRINT_POINT_LATITUDE = (76.2463,76.4106,75.7398,75.1437, 74.5642,73.9869,73.4104,72.8349,72.2611 ,71.6893,71.1185,70.5497,69.9828, 69.3394,68.6882,68.0395,67.3946,66.751, 66.1111,65.46,64.4742,63.4726,62.7968, 62.109,61.4138,60.7104,59.999,59.2777, 58.546,57.8032,57.0491,56.2843,55.5077, 54.7189,53.9181,53.1035,52.2749,51.4328 ,50.5758,49.7073,48.8478,47.998,47.1576 ,46.3267,45.5066,44.6957,43.8974, 43.1037,42.3232,41.5522,41.1343,41.1276 ,41.111,41.0963,41.8565,42.6273,43.4075 ,44.1981,44.9979,45.8082,46.628,47.4584 ,48.298,49.1481,50.0076,51.2934,52.1324 ,52.9569,53.7663,54.5621,55.3507, 56.1262,56.888,57.6391,58.3786,59.1075, 59.8261,60.5353,61.2355,61.9276,62.6124 ,63.2847,64.2815,65.2625,65.9101, 66.5459,67.1849,67.826,68.4692,69.115, 69.7575,70.8835,71.4482,72.015,72.5822, 73.151,74.0051,74.574,75.1665,76.2463)
FOOTPRINT_POINT_LONGITUDE = (208.066,210.982,212.894,213.278, 213.619,213.936,214.229,214.5,214.752, 214.987,215.207,215.413,215.605,215.81, 216.004,216.186,216.356,216.515,216.664 ,216.807,217.01,217.2,217.319,217.434, 217.545,217.65,217.753,217.851,217.945, 218.037,218.125,218.21,218.293,218.373, 218.45,218.526,218.599,218.67,218.739, 218.805,218.869,218.93,218.987,219.041, 219.094,219.144,219.193,219.238,219.283 ,219.326,218.446,217.585,216.317, 215.485,215.49,215.492,215.491,215.486, 215.478,215.465,215.449,215.427,215.401 ,215.369,215.332,215.265,215.214, 215.158,215.098,215.032,214.959,214.881 ,214.798,214.709,214.615,214.514, 214.407,214.293,214.172,214.044,213.908 ,213.765,213.534,213.282,213.101, 212.911,212.706,212.485,212.248,211.992 ,211.718,211.185,210.889,210.57,210.228 ,209.857,209.246,208.797,208.287, 208.066)
ORBIT_NUMBER = 1503
ORBITAL_ECCENTRICITY = 0.566
ORBITAL_INCLINATION = 86.61
ORBITAL_SEMIMAJOR_AXIS = 8531.26
PERIAPSIS_ALTITUDE = 326.6
PERIAPSIS_ARGUMENT_ANGLE = 95.83
PERIAPSIS_TIME = 2005-03-19T14:40:17.000Z
SPACECRAFT_ORIENTATION = (0.0,1.0,0.0)
^MEX_ORIENTATION_DESC = "MEX_ORIENTATION_DESC.TXT"
SPACECRAFT_POINTING_MODE = ACROSSTRACK
^MEX_POINTING_DESC = "MEX_POINTING_DESC.TXT"
RIGHT_ASCENSION = -1e+32
DECLINATION = -1e+32
OFFSET_ANGLE = 0.34
SPACECRAFT_SOLAR_DISTANCE = 2.19912e+08
TARGET_NAME = MARS
/* CAMERA DATA ELEMENTS */
DETECTOR_TEMPERATURE = 17.5549
FOCAL_PLANE_TEMPERATURE = 8.5833
INST_CMPRS_NAME = "DISCRETE COSINE TRANSFORMATION (DCT)"
INST_CMPRS_RATIO = 12.8739
INST_CMPRS_QUALITY = 0
INST_CMPRS_QUANTZ_TBL_ID = 0
INSTRUMENT_TEMPERATURE = 11.234
LENS_TEMPERATURE = 8.9911
MACROPIXEL_SIZE = 2
MISSING_FRAMES = 15
PIXEL_SUBSAMPLING_FLAG = N
SIGNAL_CHAIN_ID = 1
/* RADIOMETRIC DATA ELEMENTS */
BANDWIDTH = 180.0
CENTER_FILTER_WAVELENGTH = 677.0
RADIANCE_OFFSET = 2.586
RADIANCE_SCALING_FACTOR = 0.0338039
REFLECTANCE_SCALING_FACTOR = 0.000852918
MEX:REFLECTANCE_OFFSET = 0.0652482
/* IMAGE OBJECT DEFINITIONS */
OBJECT = IMAGE
  INTERCHANGE_FORMAT = BINARY
  LINES = 95549
  LINE_SAMPLES = 11102
  SAMPLE_TYPE = UNSIGNED_INTEGER
  SAMPLE_BITS = 8
  BANDS = 1
  BAND_STORAGE_TYPE = BAND_SEQUENTIAL
  MAXIMUM = 224
  MEAN = 109.006
  MINIMUM = 42
  STANDARD_DEVIATION = 36.2844
END_OBJECT = IMAGE
/* MAP OBJECT DEFINITIONS */
OBJECT = IMAGE_MAP_PROJECTION
  ^DATA_SET_MAP_PROJECTION_CATALOG= "DSMAP.CAT"
  A_AXIS_RADIUS = 3396.0
  B_AXIS_RADIUS = 3396.0
  C_AXIS_RADIUS = 3396.0
  CENTER_LATITUDE = 0.0
  CENTER_LONGITUDE = 216.0
  COORDINATE_SYSTEM_NAME = PLANETOGRAPHIC
  COORDINATE_SYSTEM_TYPE = "BODY-FIXED ROTATING"
  EASTERNMOST_LONGITUDE = 219.326
  FIRST_STANDARD_PARALLEL = "N/A"
  LINE_FIRST_PIXEL = 1
  LINE_LAST_PIXEL = 95549
  LINE_PROJECTION_OFFSET = 181546.25
  MAP_PROJECTION_ROTATION = 0.0
  MAP_PROJECTION_TYPE = SINUSOIDAL
  MAP_RESOLUTION = 2370.85521546667
  MAP_SCALE = 0.025
  MAXIMUM_LATITUDE = 76.4106
  MINIMUM_LATITUDE = 41.0963
  POSITIVE_LONGITUDE_DIRECTION = EAST
  REFERENCE_LATITUDE = "N/A"
  REFERENCE_LONGITUDE = "N/A"
  SAMPLE_FIRST_PIXEL = 1
  SAMPLE_LAST_PIXEL = 11102
  SAMPLE_PROJECTION_OFFSET = 4901.75
  SECOND_STANDARD_PARALLEL = "N/A"
  WESTERNMOST_LONGITUDE = 208.066
END_OBJECT = IMAGE_MAP_PROJECTION
/* The JPEG2000 image data file associated with this label. */
OBJECT = COMPRESSED_FILE
  FILE_NAME = "H1503_0000_S13.JP2"
  RECORD_TYPE = UNDEFINED
  FILE_RECORDS = UNK
  ENCODING_TYPE = "JP2"
  INTERCHANGE_FORMAT = BINARY
  UNCOMPRESSED_FILE_NAME = "H1503_0000_S13.IMG"
  REQUIRED_STORAGE_BYTES = "1060818304"
  ^DESCRIPTION = "JP2INFO.TXT"
END_OBJECT = COMPRESSED_FILE
END
