PDS_VERSION_ID = PDS3
/* FILE DATA ELEMENTS */
RECORD_TYPE = STREAM
/* POINTERS TO DATA OBJECTS */
^COMPRESSED_FILE = "H1518_0001_BL3.JP2"
/* IDENTIFICATION DATA ELEMENTS */
DATA_SET_ID = "MEX-M-HRSC-5-REFDR-MAPPROJECTED-V3.0"
DATA_SET_NAME = "MARS EXPRESS HRSC MAP PROJECTED REFDR V3.0"
DETECTOR_ID = MEX_HRSC_BLUE
EVENT_TYPE = "MARS-REGIONAL-MAPPING-Vo-Im-Eo"
INSTRUMENT_HOST_ID = MEX
INSTRUMENT_HOST_NAME = "MARS EXPRESS"
INSTRUMENT_ID = HRSC
INSTRUMENT_NAME = "HIGH RESOLUTION STEREO CAMERA"
MISSION_NAME = "MARS EXPRESS"
MISSION_PHASE_NAME = MR_Phase_5
PROCESSING_LEVEL_ID = 3
PRODUCT_CREATION_TIME = 2016-03-08T06:50:01.000Z
PRODUCT_ID = "H1518_0001_BL3.JP2"
RELEASE_ID = 0020
REVISION_ID = 0000
/* QUALITY DATA ELEMENTS */
DATA_QUALITY_ID = 1
DATA_QUALITY_DESC = "Data calculated based on original SPICE kernels"
/* TIME DATA ELEMENTS */
SPACECRAFT_CLOCK_START_COUNT = "1/0059686711.56198"
SPACECRAFT_CLOCK_STOP_COUNT = "1/0059687364.63203"
START_TIME = 2005-03-23T19:39:23.991Z
STOP_TIME = 2005-03-23T19:46:16.291Z
/* ORBITAL DATA ELEMENTS */
ASCENDING_NODE_LONGITUDE = 196.67
MAXIMUM_RESOLUTION = 91.6
FOOTPRINT_POINT_LATITUDE = (51.8902,51.9449,51.9908,51.4619, 50.5727,49.8491,49.1143,48.3674,47.9888 ,47.6069,47.2228,46.8351,46.4431, 46.0483,45.6504,45.2492,44.8434,44.4339 ,44.021,43.6045,43.1844,42.7601,42.3319 ,41.8997,41.4632,41.0226,40.5775,40.128 ,39.6743,39.2159,38.753,38.2853,37.8131 ,37.3354,36.853,36.3662,35.8733,35.3755 ,34.8726,34.3639,33.8503,33.3306, 32.8052,32.2745,31.737,31.1936,30.644, 30.0238,30.0256,30.0241,30.0197,30.0118 ,29.9956,29.9805,30.8049,31.3473, 31.8838,32.4136,32.9381,33.4573,33.9701 ,34.4784,34.9806,35.4782,35.9704, 36.4571,36.9393,37.4164,37.8884,38.3559 ,38.8191,39.2776,39.7312,40.1804, 40.6253,41.0658,41.5022,41.9346,42.363, 42.7875,43.2081,43.6246,44.037,44.446, 44.8515,45.2535,45.6522,46.047,46.438, 46.826,47.2113,47.5924,47.9704,48.346, 49.0868,49.8163,50.3554,51.065,51.5896, 51.8902)
FOOTPRINT_POINT_LONGITUDE = (178.932,179.884,180.822,181.297, 181.411,181.499,181.584,181.667,181.708 ,181.748,181.787,181.826,181.864, 181.902,181.939,181.976,182.012,182.047 ,182.082,182.117,182.151,182.184, 182.217,182.25,182.282,182.313,182.344, 182.374,182.404,182.434,182.463,182.491 ,182.519,182.547,182.574,182.6,182.626, 182.652,182.677,182.702,182.726,182.749 ,182.773,182.795,182.818,182.84,182.861 ,182.737,182.055,181.522,180.911, 180.296,179.443,178.765,178.786,178.798 ,178.808,178.817,178.825,178.831, 178.836,178.839,178.841,178.842,178.841 ,178.84,178.836,178.832,178.826,178.819 ,178.811,178.802,178.792,178.78,178.767 ,178.754,178.738,178.723,178.705, 178.687,178.667,178.647,178.625,178.602 ,178.579,178.554,178.528,178.501, 178.473,178.444,178.414,178.382,178.35, 178.317,178.247,178.174,178.115,178.033 ,177.97,178.932)
ORBIT_NUMBER = 1518
ORBITAL_ECCENTRICITY = 0.566
ORBITAL_INCLINATION = 86.6
ORBITAL_SEMIMAJOR_AXIS = 8532.43
PERIAPSIS_ALTITUDE = 328.32
PERIAPSIS_ARGUMENT_ANGLE = 93.16
PERIAPSIS_TIME = 2005-03-23T19:30:23.000Z
SPACECRAFT_ORIENTATION = (0.0,1.0,0.0)
^MEX_ORIENTATION_DESC = "MEX_ORIENTATION_DESC.TXT"
SPACECRAFT_POINTING_MODE = ACROSSTRACK
^MEX_POINTING_DESC = "MEX_POINTING_DESC.TXT"
RIGHT_ASCENSION = -1e+32
DECLINATION = -1e+32
OFFSET_ANGLE = -1.14
SPACECRAFT_SOLAR_DISTANCE = 2.19132e+08
TARGET_NAME = MARS
/* CAMERA DATA ELEMENTS */
DETECTOR_TEMPERATURE = 19.39
FOCAL_PLANE_TEMPERATURE = 8.1755
INST_CMPRS_NAME = "DISCRETE COSINE TRANSFORMATION (DCT)"
INST_CMPRS_RATIO = 19.86
INST_CMPRS_QUALITY = 0
INST_CMPRS_QUANTZ_TBL_ID = 0
INSTRUMENT_TEMPERATURE = 13.0691
LENS_TEMPERATURE = 8.7872
MACROPIXEL_SIZE = 4
MISSING_FRAMES = 0
PIXEL_SUBSAMPLING_FLAG = N
SIGNAL_CHAIN_ID = 2
/* RADIOMETRIC DATA ELEMENTS */
BANDWIDTH = 76.0
CENTER_FILTER_WAVELENGTH = 444.0
RADIANCE_OFFSET = 0.76771
RADIANCE_SCALING_FACTOR = 0.00191827
REFLECTANCE_SCALING_FACTOR = 9.46399e-05
MEX:REFLECTANCE_OFFSET = 0.0378757
/* IMAGE OBJECT DEFINITIONS */
OBJECT = IMAGE
  INTERCHANGE_FORMAT = BINARY
  LINES = 13030
  LINE_SAMPLES = 2284
  SAMPLE_TYPE = UNSIGNED_INTEGER
  SAMPLE_BITS = 8
  BANDS = 1
  BAND_STORAGE_TYPE = BAND_SEQUENTIAL
  MAXIMUM = 247
  MEAN = 139.053
  MINIMUM = 108
  STANDARD_DEVIATION = 8.28148
END_OBJECT = IMAGE
/* MAP OBJECT DEFINITIONS */
OBJECT = IMAGE_MAP_PROJECTION
  ^DATA_SET_MAP_PROJECTION_CATALOG= "DSMAP.CAT"
  A_AXIS_RADIUS = 3396.0
  B_AXIS_RADIUS = 3396.0
  C_AXIS_RADIUS = 3396.0
  CENTER_LATITUDE = 0.0
  CENTER_LONGITUDE = 180.0
  COORDINATE_SYSTEM_NAME = PLANETOGRAPHIC
  COORDINATE_SYSTEM_TYPE = "BODY-FIXED ROTATING"
  EASTERNMOST_LONGITUDE = 182.861
  FIRST_STANDARD_PARALLEL = "N/A"
  LINE_FIRST_PIXEL = 1
  LINE_LAST_PIXEL = 13030
  LINE_PROJECTION_OFFSET = 30816.125
  MAP_PROJECTION_ROTATION = 0.0
  MAP_PROJECTION_TYPE = SINUSOIDAL
  MAP_RESOLUTION = 592.713803866667
  MAP_SCALE = 0.1
  MAXIMUM_LATITUDE = 51.9908
  MINIMUM_LATITUDE = 29.9805
  POSITIVE_LONGITUDE_DIRECTION = EAST
  REFERENCE_LATITUDE = "N/A"
  REFERENCE_LONGITUDE = "N/A"
  SAMPLE_FIRST_PIXEL = 1
  SAMPLE_LAST_PIXEL = 2284
  SAMPLE_PROJECTION_OFFSET = 766.875
  SECOND_STANDARD_PARALLEL = "N/A"
  WESTERNMOST_LONGITUDE = 177.97
END_OBJECT = IMAGE_MAP_PROJECTION
/* The JPEG2000 image data file associated with this label. */
OBJECT = COMPRESSED_FILE
  FILE_NAME = "H1518_0001_BL3.JP2"
  RECORD_TYPE = UNDEFINED
  FILE_RECORDS = UNK
  ENCODING_TYPE = "JP2"
  INTERCHANGE_FORMAT = BINARY
  UNCOMPRESSED_FILE_NAME = "H1518_0001_BL3.IMG"
  REQUIRED_STORAGE_BYTES = "29783360"
  ^DESCRIPTION = "JP2INFO.TXT"
END_OBJECT = COMPRESSED_FILE
END
