PDS_VERSION_ID = PDS3
/* FILE DATA ELEMENTS */
RECORD_TYPE = STREAM
/* POINTERS TO DATA OBJECTS */
^COMPRESSED_FILE = "H1518_0001_S23.JP2"
/* IDENTIFICATION DATA ELEMENTS */
DATA_SET_ID = "MEX-M-HRSC-5-REFDR-MAPPROJECTED-V3.0"
DATA_SET_NAME = "MARS EXPRESS HRSC MAP PROJECTED REFDR V3.0"
DETECTOR_ID = MEX_HRSC_S2
EVENT_TYPE = "MARS-REGIONAL-MAPPING-Vo-Im-Eo"
INSTRUMENT_HOST_ID = MEX
INSTRUMENT_HOST_NAME = "MARS EXPRESS"
INSTRUMENT_ID = HRSC
INSTRUMENT_NAME = "HIGH RESOLUTION STEREO CAMERA"
MISSION_NAME = "MARS EXPRESS"
MISSION_PHASE_NAME = MR_Phase_5
PROCESSING_LEVEL_ID = 3
PRODUCT_CREATION_TIME = 2016-03-08T06:50:01.000Z
PRODUCT_ID = "H1518_0001_S23.JP2"
RELEASE_ID = 0020
REVISION_ID = 0000
/* QUALITY DATA ELEMENTS */
DATA_QUALITY_ID = 1
DATA_QUALITY_DESC = "Data calculated based on original SPICE kernels"
/* TIME DATA ELEMENTS */
SPACECRAFT_CLOCK_START_COUNT = "1/0059686711.56198"
SPACECRAFT_CLOCK_STOP_COUNT = "1/0059687364.63203"
START_TIME = 2005-03-23T19:38:39.333Z
STOP_TIME = 2005-03-23T19:44:45.325Z
/* ORBITAL DATA ELEMENTS */
ASCENDING_NODE_LONGITUDE = 196.67
MAXIMUM_RESOLUTION = 45.7
FOOTPRINT_POINT_LATITUDE = (51.8679,51.9596,52.0424,52.1138, 51.4989,50.793,50.0762,49.3475,48.9778, 48.6067,48.2305,47.6616,47.2795,46.8916 ,46.502,46.1085,45.7108,45.311,44.9065, 44.4982,44.0871,43.6717,43.2517,42.8282 ,42.4011,41.9696,41.5331,41.0924, 40.6476,40.1988,39.7452,39.2871,38.8239 ,38.3559,37.883,37.4053,36.9225,36.4343 ,35.9407,35.4412,34.9364,34.4264, 33.9115,33.1271,32.5987,32.061,31.5146, 30.9678,30.409,30.0532,30.0392,30.0181, 29.9921,29.9505,29.9085,30.723,31.27, 31.8113,32.3461,32.874,33.3966,33.9134, 34.4243,34.9301,35.4296,35.9241,36.4131 ,36.8971,37.3754,37.8494,38.3183, 38.7823,39.2429,39.6965,40.1469,40.5924 ,41.0331,41.4698,41.9023,42.3311, 42.7556,43.1753,43.5915,44.0041,44.4126 ,44.817,45.2189,45.6163,46.0107,46.4018 ,46.7882,47.3623,47.7417,48.117,48.6745 ,49.0436,49.7701,50.4844,51.188, 51.8679)
FOOTPRINT_POINT_LONGITUDE = (178.139,179.062,179.998,180.918, 181.222,181.311,181.398,181.482,181.523 ,181.563,181.603,181.661,181.7,181.738, 181.775,181.811,181.847,181.883,181.917 ,181.952,181.986,182.019,182.051, 182.083,182.115,182.146,182.177,182.207 ,182.236,182.265,182.293,182.321, 182.348,182.375,182.401,182.427,182.452 ,182.477,182.501,182.525,182.548, 182.571,182.593,182.625,182.645,182.666 ,182.686,182.704,182.723,182.307, 181.841,181.266,180.687,179.92,179.257, 178.999,179.006,179.013,179.018,179.021 ,179.023,179.024,179.024,179.022, 179.019,179.015,179.01,179.004,178.996, 178.987,178.978,178.967,178.955,178.941 ,178.927,178.912,178.895,178.878, 178.859,178.84,178.819,178.798,178.775, 178.751,178.726,178.701,178.674,178.646 ,178.618,178.588,178.557,178.509, 178.476,178.442,178.389,178.352,178.275 ,178.195,178.11,178.139)
ORBIT_NUMBER = 1518
ORBITAL_ECCENTRICITY = 0.566
ORBITAL_INCLINATION = 86.6
ORBITAL_SEMIMAJOR_AXIS = 8532.43
PERIAPSIS_ALTITUDE = 328.32
PERIAPSIS_ARGUMENT_ANGLE = 93.16
PERIAPSIS_TIME = 2005-03-23T19:30:23.000Z
SPACECRAFT_ORIENTATION = (0.0,1.0,0.0)
^MEX_ORIENTATION_DESC = "MEX_ORIENTATION_DESC.TXT"
SPACECRAFT_POINTING_MODE = ACROSSTRACK
^MEX_POINTING_DESC = "MEX_POINTING_DESC.TXT"
RIGHT_ASCENSION = -1e+32
DECLINATION = -1e+32
OFFSET_ANGLE = -1.14
SPACECRAFT_SOLAR_DISTANCE = 2.19132e+08
TARGET_NAME = MARS
/* CAMERA DATA ELEMENTS */
DETECTOR_TEMPERATURE = 20.4095
FOCAL_PLANE_TEMPERATURE = 8.1755
INST_CMPRS_NAME = "DISCRETE COSINE TRANSFORMATION (DCT)"
INST_CMPRS_RATIO = 11.4157
INST_CMPRS_QUALITY = 0
INST_CMPRS_QUANTZ_TBL_ID = 0
INSTRUMENT_TEMPERATURE = 13.0691
LENS_TEMPERATURE = 8.7872
MACROPIXEL_SIZE = 2
MISSING_FRAMES = 0
PIXEL_SUBSAMPLING_FLAG = N
SIGNAL_CHAIN_ID = 1
/* RADIOMETRIC DATA ELEMENTS */
BANDWIDTH = 178.0
CENTER_FILTER_WAVELENGTH = 679.0
RADIANCE_OFFSET = 4.7654
RADIANCE_SCALING_FACTOR = 0.0321739
REFLECTANCE_SCALING_FACTOR = 0.000818163
MEX:REFLECTANCE_OFFSET = 0.121181
/* IMAGE OBJECT DEFINITIONS */
OBJECT = IMAGE
  INTERCHANGE_FORMAT = BINARY
  LINES = 26060
  LINE_SAMPLES = 4568
  SAMPLE_TYPE = UNSIGNED_INTEGER
  SAMPLE_BITS = 8
  BANDS = 1
  BAND_STORAGE_TYPE = BAND_SEQUENTIAL
  MAXIMUM = 275
  MEAN = 150.91
  MINIMUM = 90
  STANDARD_DEVIATION = 23.0253
END_OBJECT = IMAGE
/* MAP OBJECT DEFINITIONS */
OBJECT = IMAGE_MAP_PROJECTION
  ^DATA_SET_MAP_PROJECTION_CATALOG= "DSMAP.CAT"
  A_AXIS_RADIUS = 3396.0
  B_AXIS_RADIUS = 3396.0
  C_AXIS_RADIUS = 3396.0
  CENTER_LATITUDE = 0.0
  CENTER_LONGITUDE = 180.0
  COORDINATE_SYSTEM_NAME = PLANETOGRAPHIC
  COORDINATE_SYSTEM_TYPE = "BODY-FIXED ROTATING"
  EASTERNMOST_LONGITUDE = 182.723
  FIRST_STANDARD_PARALLEL = "N/A"
  LINE_FIRST_PIXEL = 1
  LINE_LAST_PIXEL = 26060
  LINE_PROJECTION_OFFSET = 61632.75
  MAP_PROJECTION_ROTATION = 0.0
  MAP_PROJECTION_TYPE = SINUSOIDAL
  MAP_RESOLUTION = 1185.42760773333
  MAP_SCALE = 0.05
  MAXIMUM_LATITUDE = 52.1138
  MINIMUM_LATITUDE = 29.9085
  POSITIVE_LONGITUDE_DIRECTION = EAST
  REFERENCE_LATITUDE = "N/A"
  REFERENCE_LONGITUDE = "N/A"
  SAMPLE_FIRST_PIXEL = 1
  SAMPLE_LAST_PIXEL = 4568
  SAMPLE_PROJECTION_OFFSET = 1534.25
  SECOND_STANDARD_PARALLEL = "N/A"
  WESTERNMOST_LONGITUDE = 178.11
END_OBJECT = IMAGE_MAP_PROJECTION
/* The JPEG2000 image data file associated with this label. */
OBJECT = COMPRESSED_FILE
  FILE_NAME = "H1518_0001_S23.JP2"
  RECORD_TYPE = UNDEFINED
  FILE_RECORDS = UNK
  ENCODING_TYPE = "JP2"
  INTERCHANGE_FORMAT = BINARY
  UNCOMPRESSED_FILE_NAME = "H1518_0001_S23.IMG"
  REQUIRED_STORAGE_BYTES = "119069488"
  ^DESCRIPTION = "JP2INFO.TXT"
END_OBJECT = COMPRESSED_FILE
END
