PDS_VERSION_ID = PDS3
/* FILE DATA ELEMENTS */
RECORD_TYPE = STREAM
/* POINTERS TO DATA OBJECTS */
^COMPRESSED_FILE = "H1521_0000_BL3.JP2"
/* IDENTIFICATION DATA ELEMENTS */
DATA_SET_ID = "MEX-M-HRSC-5-REFDR-MAPPROJECTED-V3.0"
DATA_SET_NAME = "MARS EXPRESS HRSC MAP PROJECTED REFDR V3.0"
DETECTOR_ID = MEX_HRSC_BLUE
EVENT_TYPE = "MARS-LOCAL-STEREO-Pf-Eb-Tc"
INSTRUMENT_HOST_ID = MEX
INSTRUMENT_HOST_NAME = "MARS EXPRESS"
INSTRUMENT_ID = HRSC
INSTRUMENT_NAME = "HIGH RESOLUTION STEREO CAMERA"
MISSION_NAME = "MARS EXPRESS"
MISSION_PHASE_NAME = MR_Phase_5
PROCESSING_LEVEL_ID = 3
PRODUCT_CREATION_TIME = 2016-03-08T06:50:01.000Z
PRODUCT_ID = "H1521_0000_BL3.JP2"
RELEASE_ID = 0020
REVISION_ID = 0000
/* QUALITY DATA ELEMENTS */
DATA_QUALITY_ID = 1
DATA_QUALITY_DESC = "Data calculated based on original SPICE kernels"
/* TIME DATA ELEMENTS */
SPACECRAFT_CLOCK_START_COUNT = "1/0059758891.56188"
SPACECRAFT_CLOCK_STOP_COUNT = "1/0059759410.53402"
START_TIME = 2005-03-24T15:42:04.251Z
STOP_TIME = 2005-03-24T15:49:04.020Z
/* ORBITAL DATA ELEMENTS */
ASCENDING_NODE_LONGITUDE = 196.62
MAXIMUM_RESOLUTION = 108.6
FOOTPRINT_POINT_LATITUDE = (79.8676,79.5741,79.1489,78.7231, 78.2967,77.8698,77.4425,77.0149,76.3582 ,75.9165,75.4745,75.0326,74.5908,74.149 ,73.7075,73.266,72.8247,72.3839,71.5065 ,71.0666,70.3272,69.82,69.3134,68.8075, 68.3023,67.7978,67.2942,66.7913,66.2769 ,65.7623,64.9774,64.4519,63.9149, 63.1037,62.5556,62.0,61.1566,60.5871, 60.0078,59.4244,58.8336,58.2329,57.6258 ,57.0118,56.3901,55.7578,55.1173,54.468 ,53.7241,53.7031,53.663,53.9663,54.6186 ,55.2615,55.8953,56.5212,57.1394, 57.7487,58.349,58.943,59.5308,60.1085, 60.9644,61.8052,62.3595,62.9047,63.4462 ,63.9805,64.51,65.0331,65.5532,66.0647, 66.577,67.0769,67.5772,68.0782,68.5797, 69.0816,69.5841,70.0871,70.8277,71.4813 ,72.3498,72.7859,73.222,73.6582,74.0941 ,74.5298,74.9654,75.4003,75.8348, 76.2688,76.698,77.1169,77.5351,78.16, 78.7826,79.1955,79.6068,79.8676)
FOOTPRINT_POINT_LONGITUDE = (235.315,239.192,239.737,240.239, 240.704,241.136,241.538,241.911,242.438 ,242.762,243.068,243.353,243.621, 243.875,244.112,244.337,244.551,244.752 ,245.121,245.294,245.565,245.738, 245.902,246.057,246.204,246.345,246.478 ,246.605,246.728,246.846,247.016, 247.123,247.227,247.376,247.472,247.564 ,247.696,247.78,247.862,247.941,248.017 ,248.092,248.163,248.232,248.3,248.365, 248.429,248.49,248.194,247.28,246.04, 245.3,245.241,245.178,245.112,245.043, 244.969,244.892,244.811,244.727,244.637 ,244.544,244.396,244.239,244.127, 244.011,243.89,243.763,243.63,243.492, 243.347,243.197,243.038,242.875,242.702 ,242.52,242.326,242.122,241.905,241.675 ,241.311,240.961,240.45,240.172,239.877 ,239.564,239.233,238.88,238.505,238.105 ,237.679,237.224,236.741,236.235, 235.694,234.804,233.811,233.082,232.294 ,235.315)
ORBIT_NUMBER = 1521
ORBITAL_ECCENTRICITY = 0.566
ORBITAL_INCLINATION = 86.61
ORBITAL_SEMIMAJOR_AXIS = 8531.21
PERIAPSIS_ALTITUDE = 327.32
PERIAPSIS_ARGUMENT_ANGLE = 92.61
PERIAPSIS_TIME = 2005-03-24T15:40:22.000Z
SPACECRAFT_ORIENTATION = (0.0,1.0,0.0)
^MEX_ORIENTATION_DESC = "MEX_ORIENTATION_DESC.TXT"
SPACECRAFT_POINTING_MODE = ACROSSTRACK
^MEX_POINTING_DESC = "MEX_POINTING_DESC.TXT"
RIGHT_ASCENSION = -1e+32
DECLINATION = -1e+32
OFFSET_ANGLE = 0.29
SPACECRAFT_SOLAR_DISTANCE = 2.18977e+08
TARGET_NAME = MARS
/* CAMERA DATA ELEMENTS */
DETECTOR_TEMPERATURE = 18.1666
FOCAL_PLANE_TEMPERATURE = 8.3794
INST_CMPRS_NAME = "DISCRETE COSINE TRANSFORMATION (DCT)"
INST_CMPRS_RATIO = 31.354
INST_CMPRS_QUALITY = 0
INST_CMPRS_QUANTZ_TBL_ID = 0
INSTRUMENT_TEMPERATURE = 11.234
LENS_TEMPERATURE = 8.5833
MACROPIXEL_SIZE = 8
MISSING_FRAMES = 47
PIXEL_SUBSAMPLING_FLAG = N
SIGNAL_CHAIN_ID = 2
/* RADIOMETRIC DATA ELEMENTS */
BANDWIDTH = 76.0
CENTER_FILTER_WAVELENGTH = 444.0
RADIANCE_OFFSET = 0.463569
RADIANCE_SCALING_FACTOR = 0.0020906
REFLECTANCE_SCALING_FACTOR = 0.000102997
MEX:REFLECTANCE_OFFSET = 0.0228385
/* IMAGE OBJECT DEFINITIONS */
OBJECT = IMAGE
  INTERCHANGE_FORMAT = BINARY
  LINES = 15628
  LINE_SAMPLES = 2860
  SAMPLE_TYPE = UNSIGNED_INTEGER
  SAMPLE_BITS = 8
  BANDS = 1
  BAND_STORAGE_TYPE = BAND_SEQUENTIAL
  MAXIMUM = 179
  MEAN = 132.523
  MINIMUM = 80
  STANDARD_DEVIATION = 19.239
END_OBJECT = IMAGE
/* MAP OBJECT DEFINITIONS */
OBJECT = IMAGE_MAP_PROJECTION
  ^DATA_SET_MAP_PROJECTION_CATALOG= "DSMAP.CAT"
  A_AXIS_RADIUS = 3396.0
  B_AXIS_RADIUS = 3396.0
  C_AXIS_RADIUS = 3396.0
  CENTER_LATITUDE = 0.0
  CENTER_LONGITUDE = 244.0
  COORDINATE_SYSTEM_NAME = PLANETOGRAPHIC
  COORDINATE_SYSTEM_TYPE = "BODY-FIXED ROTATING"
  EASTERNMOST_LONGITUDE = 248.49
  FIRST_STANDARD_PARALLEL = "N/A"
  LINE_FIRST_PIXEL = 1
  LINE_LAST_PIXEL = 15628
  LINE_PROJECTION_OFFSET = 47419.9375
  MAP_PROJECTION_ROTATION = 0.0
  MAP_PROJECTION_TYPE = SINUSOIDAL
  MAP_RESOLUTION = 592.713803866667
  MAP_SCALE = 0.1
  MAXIMUM_LATITUDE = 79.8676
  MINIMUM_LATITUDE = 53.663
  POSITIVE_LONGITUDE_DIRECTION = EAST
  REFERENCE_LATITUDE = "N/A"
  REFERENCE_LONGITUDE = "N/A"
  SAMPLE_FIRST_PIXEL = 1
  SAMPLE_LAST_PIXEL = 2860
  SAMPLE_PROJECTION_OFFSET = 1245.4375
  SECOND_STANDARD_PARALLEL = "N/A"
  WESTERNMOST_LONGITUDE = 232.294
END_OBJECT = IMAGE_MAP_PROJECTION
/* The JPEG2000 image data file associated with this label. */
OBJECT = COMPRESSED_FILE
  FILE_NAME = "H1521_0000_BL3.JP2"
  RECORD_TYPE = UNDEFINED
  FILE_RECORDS = UNK
  ENCODING_TYPE = "JP2"
  INTERCHANGE_FORMAT = BINARY
  UNCOMPRESSED_FILE_NAME = "H1521_0000_BL3.IMG"
  REQUIRED_STORAGE_BYTES = "44718960"
  ^DESCRIPTION = "JP2INFO.TXT"
END_OBJECT = COMPRESSED_FILE
END
