PDS_VERSION_ID = PDS3
/* FILE DATA ELEMENTS */
RECORD_TYPE = STREAM
/* POINTERS TO DATA OBJECTS */
^COMPRESSED_FILE = "H1523_0000_S23.JP2"
/* IDENTIFICATION DATA ELEMENTS */
DATA_SET_ID = "MEX-M-HRSC-5-REFDR-MAPPROJECTED-V3.0"
DATA_SET_NAME = "MARS EXPRESS HRSC MAP PROJECTED REFDR V3.0"
DETECTOR_ID = MEX_HRSC_S2
EVENT_TYPE = "MARS-REGIONAL-MAPPING-Te-Mw"
INSTRUMENT_HOST_ID = MEX
INSTRUMENT_HOST_NAME = "MARS EXPRESS"
INSTRUMENT_ID = HRSC
INSTRUMENT_NAME = "HIGH RESOLUTION STEREO CAMERA"
MISSION_NAME = "MARS EXPRESS"
MISSION_PHASE_NAME = MR_Phase_6
PROCESSING_LEVEL_ID = 3
PRODUCT_CREATION_TIME = 2016-03-08T06:50:01.000Z
PRODUCT_ID = "H1523_0000_S23.JP2"
RELEASE_ID = 0020
REVISION_ID = 0000
/* QUALITY DATA ELEMENTS */
DATA_QUALITY_ID = 1
DATA_QUALITY_DESC = "Data calculated based on original SPICE kernels"
/* TIME DATA ELEMENTS */
SPACECRAFT_CLOCK_START_COUNT = "1/0059807306.57157"
SPACECRAFT_CLOCK_STOP_COUNT = "1/0059807900.49792"
START_TIME = 2005-03-25T05:08:34.362Z
STOP_TIME = 2005-03-25T05:19:49.795Z
/* ORBITAL DATA ELEMENTS */
ASCENDING_NODE_LONGITUDE = 196.56
MAXIMUM_RESOLUTION = 28.8
FOOTPRINT_POINT_LATITUDE = (78.9028,78.8022,77.9049,77.004,76.3996 ,75.7934,74.8576,74.228,73.2723,72.3239 ,71.6905,70.7395,70.1052,69.4703, 68.3737,67.6395,66.906,65.8058,64.6969, 63.9451,63.1769,62.3998,61.6122,60.8059 ,59.9887,59.1578,58.3116,57.4489, 56.5702,55.6736,54.7589,53.8251,52.8729 ,51.8994,50.9023,49.8833,48.8416, 47.7728,46.6831,45.5601,44.404,43.2421, 42.6617,42.0852,40.9357,39.7987,38.6786 ,36.9938,36.3644,36.3146,36.2576, 37.3704,38.4883,39.6171,41.307,42.4611, 43.6065,44.1869,45.3344,46.4529,47.5451 ,48.6111,49.653,50.6672,51.6624,52.6331 ,53.5834,54.514,55.4267,56.3196,57.1961 ,58.0558,58.8982,59.7265,60.5413, 61.3436,62.1284,62.9006,63.6657,64.4125 ,65.1513,65.8792,66.6072,67.3356, 68.0633,68.7908,69.4695,70.0972,71.0376 ,71.6634,72.2882,72.9115,73.8517,74.779 ,75.389,75.9821,76.8659,77.4505,78.0306 ,78.9028)
FOOTPRINT_POINT_LONGITUDE = (34.0163,38.9843,40.2911,41.4115, 42.0757,42.6823,43.5185,44.0225,44.7113 ,45.3174,45.6853,46.1896,46.4977, 46.7857,47.2407,47.5187,47.7773,48.1336 ,48.4586,48.6617,48.8562,49.041,49.2164 ,49.3852,49.5457,49.6988,49.8454, 49.9858,50.1199,50.2484,50.3713,50.4892 ,50.6016,50.7096,50.813,50.9119,51.0059 ,51.0966,51.1813,51.2637,51.3432, 51.4166,51.4516,51.4847,51.5475,51.6039 ,51.6535,51.7246,51.0787,49.4284, 48.2613,48.2603,48.252,48.2389,48.1981, 48.1701,48.1265,48.1039,48.0506,47.9901 ,47.923,47.8493,47.7679,47.6783,47.5819 ,47.4782,47.3669,47.2473,47.1202, 46.9838,46.8397,46.6865,46.5237,46.3513 ,46.1692,45.9753,45.7719,45.5556,45.326 ,45.0847,44.8284,44.5568,44.2645,43.95, 43.6105,43.2438,42.8744,42.5062,41.9026 ,41.4618,40.9869,40.4737,39.6148, 38.6518,37.9431,37.1886,35.923,34.9762, 33.9338,34.0163)
ORBIT_NUMBER = 1523
ORBITAL_ECCENTRICITY = 0.566
ORBITAL_INCLINATION = 86.6
ORBITAL_SEMIMAJOR_AXIS = 8531.95
PERIAPSIS_ALTITUDE = 327.69
PERIAPSIS_ARGUMENT_ANGLE = 92.27
PERIAPSIS_TIME = 2005-03-25T05:07:01.000Z
SPACECRAFT_ORIENTATION = (0.0,1.0,0.0)
^MEX_ORIENTATION_DESC = "MEX_ORIENTATION_DESC.TXT"
SPACECRAFT_POINTING_MODE = ACROSSTRACK
^MEX_POINTING_DESC = "MEX_POINTING_DESC.TXT"
RIGHT_ASCENSION = -1e+32
DECLINATION = -1e+32
OFFSET_ANGLE = -0.5
SPACECRAFT_SOLAR_DISTANCE = 2.18874e+08
TARGET_NAME = MARS
/* CAMERA DATA ELEMENTS */
DETECTOR_TEMPERATURE = 18.5744
FOCAL_PLANE_TEMPERATURE = 8.5833
INST_CMPRS_NAME = "DISCRETE COSINE TRANSFORMATION (DCT)"
INST_CMPRS_RATIO = 11.58
INST_CMPRS_QUALITY = 0
INST_CMPRS_QUANTZ_TBL_ID = 0
INSTRUMENT_TEMPERATURE = 11.234
LENS_TEMPERATURE = 8.7872
MACROPIXEL_SIZE = 2
MISSING_FRAMES = 180
PIXEL_SUBSAMPLING_FLAG = N
SIGNAL_CHAIN_ID = 1
/* RADIOMETRIC DATA ELEMENTS */
BANDWIDTH = 178.0
CENTER_FILTER_WAVELENGTH = 679.0
RADIANCE_OFFSET = 1.62956
RADIANCE_SCALING_FACTOR = 0.0389979
REFLECTANCE_SCALING_FACTOR = 0.00098937
MEX:REFLECTANCE_OFFSET = 0.0413416
/* IMAGE OBJECT DEFINITIONS */
OBJECT = IMAGE
  INTERCHANGE_FORMAT = BINARY
  LINES = 101369
  LINE_SAMPLES = 14624
  SAMPLE_TYPE = UNSIGNED_INTEGER
  SAMPLE_BITS = 8
  BANDS = 1
  BAND_STORAGE_TYPE = BAND_SEQUENTIAL
  MAXIMUM = 292
  MEAN = 142.616
  MINIMUM = 37
  STANDARD_DEVIATION = 48.4924
END_OBJECT = IMAGE
/* MAP OBJECT DEFINITIONS */
OBJECT = IMAGE_MAP_PROJECTION
  ^DATA_SET_MAP_PROJECTION_CATALOG= "DSMAP.CAT"
  A_AXIS_RADIUS = 3396.0
  B_AXIS_RADIUS = 3396.0
  C_AXIS_RADIUS = 3396.0
  CENTER_LATITUDE = 0.0
  CENTER_LONGITUDE = 48.0
  COORDINATE_SYSTEM_NAME = PLANETOGRAPHIC
  COORDINATE_SYSTEM_TYPE = "BODY-FIXED ROTATING"
  EASTERNMOST_LONGITUDE = 51.7246
  FIRST_STANDARD_PARALLEL = "N/A"
  LINE_FIRST_PIXEL = 1
  LINE_LAST_PIXEL = 101369
  LINE_PROJECTION_OFFSET = 187483.25
  MAP_PROJECTION_ROTATION = 0.0
  MAP_PROJECTION_TYPE = SINUSOIDAL
  MAP_RESOLUTION = 2370.85521546667
  MAP_SCALE = 0.025
  MAXIMUM_LATITUDE = 78.9028
  MINIMUM_LATITUDE = 36.2576
  POSITIVE_LONGITUDE_DIRECTION = EAST
  REFERENCE_LATITUDE = "N/A"
  REFERENCE_LONGITUDE = "N/A"
  SAMPLE_FIRST_PIXEL = 1
  SAMPLE_LAST_PIXEL = 14624
  SAMPLE_PROJECTION_OFFSET = 7090.25
  SECOND_STANDARD_PARALLEL = "N/A"
  WESTERNMOST_LONGITUDE = 33.9338
END_OBJECT = IMAGE_MAP_PROJECTION
/* The JPEG2000 image data file associated with this label. */
OBJECT = COMPRESSED_FILE
  FILE_NAME = "H1523_0000_S23.JP2"
  RECORD_TYPE = UNDEFINED
  FILE_RECORDS = UNK
  ENCODING_TYPE = "JP2"
  INTERCHANGE_FORMAT = BINARY
  UNCOMPRESSED_FILE_NAME = "H1523_0000_S23.IMG"
  REQUIRED_STORAGE_BYTES = "1482464128"
  ^DESCRIPTION = "JP2INFO.TXT"
END_OBJECT = COMPRESSED_FILE
END
