PDS_VERSION_ID = PDS3
/* FILE DATA ELEMENTS */
RECORD_TYPE = STREAM
/* POINTERS TO DATA OBJECTS */
^COMPRESSED_FILE = "H1525_0000_GR3.JP2"
/* IDENTIFICATION DATA ELEMENTS */
DATA_SET_ID = "MEX-M-HRSC-5-REFDR-MAPPROJECTED-V3.0"
DATA_SET_NAME = "MARS EXPRESS HRSC MAP PROJECTED REFDR V3.0"
DETECTOR_ID = MEX_HRSC_GREEN
EVENT_TYPE = "MARS-REGIONAL-MAPPING-Pf-Eo"
INSTRUMENT_HOST_ID = MEX
INSTRUMENT_HOST_NAME = "MARS EXPRESS"
INSTRUMENT_ID = HRSC
INSTRUMENT_NAME = "HIGH RESOLUTION STEREO CAMERA"
MISSION_NAME = "MARS EXPRESS"
MISSION_PHASE_NAME = MR_Phase_6
PROCESSING_LEVEL_ID = 3
PRODUCT_CREATION_TIME = 2016-03-08T06:50:01.000Z
PRODUCT_ID = "H1525_0000_GR3.JP2"
RELEASE_ID = 0020
REVISION_ID = 0000
/* QUALITY DATA ELEMENTS */
DATA_QUALITY_ID = 1
DATA_QUALITY_DESC = "Data calculated based on original SPICE kernels"
/* TIME DATA ELEMENTS */
SPACECRAFT_CLOCK_START_COUNT = "1/0059855672.57973"
SPACECRAFT_CLOCK_STOP_COUNT = "1/0059855936.17464"
START_TIME = 2005-03-25T18:35:15.467Z
STOP_TIME = 2005-03-25T18:38:29.429Z
/* ORBITAL DATA ELEMENTS */
ASCENDING_NODE_LONGITUDE = 196.53
MAXIMUM_RESOLUTION = 108.2
FOOTPRINT_POINT_LATITUDE = (81.2702,81.4015,81.5193,81.346,80.9088 ,80.6833,80.4563,80.2289,80.001,79.7729 ,79.5445,79.3158,79.087,78.8577,78.6284 ,78.3988,78.1691,77.9391,77.7027, 77.4652,77.2278,76.9901,76.7523,76.5145 ,76.2768,75.9199,75.6823,75.4446, 75.2069,74.9692,74.7315,74.3751,74.1377 ,73.9004,73.6631,73.4258,73.1888, 72.9518,72.7149,72.4782,72.2415,71.986, 71.7127,71.4397,71.1669,70.8944,70.622, 70.3499,70.078,69.8064,69.5351,69.4785, 69.3931,69.3098,69.7134,69.9826,70.252, 70.5216,70.7914,71.0613,71.3313,71.6014 ,71.9925,72.2264,72.4602,72.8113, 73.0453,73.2793,73.5134,73.7474,73.9815 ,74.2155,74.4495,74.6834,74.9172, 75.1509,75.3845,75.6182,75.8516,76.2015 ,76.4344,76.6672,76.8997,77.132,77.364, 77.5953,78.0432,78.2666,78.4895,78.7121 ,78.9341,79.1555,79.3764,79.5967, 79.8163,80.0352,80.2532,80.47,80.8877, 81.2702)
FOOTPRINT_POINT_LONGITUDE = (193.874,195.791,197.7,200.883,201.822, 202.269,202.697,203.105,203.494,203.865 ,204.219,204.558,204.883,205.193, 205.491,205.777,206.05,206.313,206.573, 206.823,207.065,207.297,207.52,207.734, 207.942,208.238,208.428,208.611,208.788 ,208.959,209.124,209.361,209.514, 209.662,209.805,209.943,210.078,210.208 ,210.335,210.458,210.577,210.703, 210.832,210.958,211.08,211.198,211.312, 211.423,211.531,211.635,211.737,211.009 ,209.276,207.824,207.628,207.493, 207.354,207.209,207.06,206.906,206.747, 206.582,206.333,206.178,206.021,205.771 ,205.599,205.422,205.239,205.05,204.855 ,204.653,204.445,204.23,204.007,203.777 ,203.54,203.292,203.036,202.633,202.353 ,202.064,201.762,201.449,201.123, 200.786,200.091,199.721,199.337,198.937 ,198.521,198.087,197.633,197.16,196.665 ,196.147,195.605,195.038,193.86, 193.874)
ORBIT_NUMBER = 1525
ORBITAL_ECCENTRICITY = 0.566
ORBITAL_INCLINATION = 86.61
ORBITAL_SEMIMAJOR_AXIS = 8531.34
PERIAPSIS_ALTITUDE = 327.53
PERIAPSIS_ARGUMENT_ANGLE = 91.91
PERIAPSIS_TIME = 2005-03-25T18:33:41.000Z
SPACECRAFT_ORIENTATION = (0.0,1.0,0.0)
^MEX_ORIENTATION_DESC = "MEX_ORIENTATION_DESC.TXT"
SPACECRAFT_POINTING_MODE = NADIR
^MEX_POINTING_DESC = "MEX_POINTING_DESC.TXT"
RIGHT_ASCENSION = -1e+32
DECLINATION = -1e+32
OFFSET_ANGLE = -1e+32
SPACECRAFT_SOLAR_DISTANCE = 2.18772e+08
TARGET_NAME = MARS
/* CAMERA DATA ELEMENTS */
DETECTOR_TEMPERATURE = 17.9627
FOCAL_PLANE_TEMPERATURE = 8.3794
INST_CMPRS_NAME = "DISCRETE COSINE TRANSFORMATION (DCT)"
INST_CMPRS_RATIO = 28.8719
INST_CMPRS_QUALITY = 0
INST_CMPRS_QUANTZ_TBL_ID = 0
INSTRUMENT_TEMPERATURE = 11.0301
LENS_TEMPERATURE = 8.5833
MACROPIXEL_SIZE = 8
MISSING_FRAMES = 0
PIXEL_SUBSAMPLING_FLAG = N
SIGNAL_CHAIN_ID = 2
/* RADIOMETRIC DATA ELEMENTS */
BANDWIDTH = 88.0
CENTER_FILTER_WAVELENGTH = 538.0
RADIANCE_OFFSET = 0.470871
RADIANCE_SCALING_FACTOR = 0.00426866
REFLECTANCE_SCALING_FACTOR = 0.000175898
MEX:REFLECTANCE_OFFSET = 0.0194032
/* IMAGE OBJECT DEFINITIONS */
OBJECT = IMAGE
  INTERCHANGE_FORMAT = BINARY
  LINES = 7328
  LINE_SAMPLES = 2363
  SAMPLE_TYPE = UNSIGNED_INTEGER
  SAMPLE_BITS = 8
  BANDS = 1
  BAND_STORAGE_TYPE = BAND_SEQUENTIAL
  MAXIMUM = 255
  MEAN = 152.16
  MINIMUM = 78
  STANDARD_DEVIATION = 64.0507
END_OBJECT = IMAGE
/* MAP OBJECT DEFINITIONS */
OBJECT = IMAGE_MAP_PROJECTION
  ^DATA_SET_MAP_PROJECTION_CATALOG= "DSMAP.CAT"
  A_AXIS_RADIUS = 3396.0
  B_AXIS_RADIUS = 3396.0
  C_AXIS_RADIUS = 3396.0
  CENTER_LATITUDE = 0.0
  CENTER_LONGITUDE = 206.0
  COORDINATE_SYSTEM_NAME = PLANETOGRAPHIC
  COORDINATE_SYSTEM_TYPE = "BODY-FIXED ROTATING"
  EASTERNMOST_LONGITUDE = 211.737
  FIRST_STANDARD_PARALLEL = "N/A"
  LINE_FIRST_PIXEL = 1
  LINE_LAST_PIXEL = 7328
  LINE_PROJECTION_OFFSET = 48408.4375
  MAP_PROJECTION_ROTATION = 0.0
  MAP_PROJECTION_TYPE = SINUSOIDAL
  MAP_RESOLUTION = 592.713803866667
  MAP_SCALE = 0.1
  MAXIMUM_LATITUDE = 81.5193
  MINIMUM_LATITUDE = 69.3098
  POSITIVE_LONGITUDE_DIRECTION = EAST
  REFERENCE_LATITUDE = "N/A"
  REFERENCE_LONGITUDE = "N/A"
  SAMPLE_FIRST_PIXEL = 1
  SAMPLE_LAST_PIXEL = 2363
  SAMPLE_PROJECTION_OFFSET = 1166.4375
  SECOND_STANDARD_PARALLEL = "N/A"
  WESTERNMOST_LONGITUDE = 193.86
END_OBJECT = IMAGE_MAP_PROJECTION
/* The JPEG2000 image data file associated with this label. */
OBJECT = COMPRESSED_FILE
  FILE_NAME = "H1525_0000_GR3.JP2"
  RECORD_TYPE = UNDEFINED
  FILE_RECORDS = UNK
  ENCODING_TYPE = "JP2"
  INTERCHANGE_FORMAT = BINARY
  UNCOMPRESSED_FILE_NAME = "H1525_0000_GR3.IMG"
  REQUIRED_STORAGE_BYTES = "17337331"
  ^DESCRIPTION = "JP2INFO.TXT"
END_OBJECT = COMPRESSED_FILE
END
