PDS_VERSION_ID = PDS3
/* FILE DATA ELEMENTS */
RECORD_TYPE = STREAM
/* POINTERS TO DATA OBJECTS */
^COMPRESSED_FILE = "H1525_0001_P13.JP2"
/* IDENTIFICATION DATA ELEMENTS */
DATA_SET_ID = "MEX-M-HRSC-5-REFDR-MAPPROJECTED-V3.0"
DATA_SET_NAME = "MARS EXPRESS HRSC MAP PROJECTED REFDR V3.0"
DETECTOR_ID = MEX_HRSC_P1
EVENT_TYPE = "MARS-REGIONAL-MAPPING-Vo-Te-Pf"
INSTRUMENT_HOST_ID = MEX
INSTRUMENT_HOST_NAME = "MARS EXPRESS"
INSTRUMENT_ID = HRSC
INSTRUMENT_NAME = "HIGH RESOLUTION STEREO CAMERA"
MISSION_NAME = "MARS EXPRESS"
MISSION_PHASE_NAME = MR_Phase_6
PROCESSING_LEVEL_ID = 3
PRODUCT_CREATION_TIME = 2016-03-08T06:50:01.000Z
PRODUCT_ID = "H1525_0001_P13.JP2"
RELEASE_ID = 0020
REVISION_ID = 0000
/* QUALITY DATA ELEMENTS */
DATA_QUALITY_ID = 2
DATA_QUALITY_DESC = "Data calculated based on photogrammetrically improved orbit and attitude data"
/* TIME DATA ELEMENTS */
SPACECRAFT_CLOCK_START_COUNT = "1/0059856120.57952"
SPACECRAFT_CLOCK_STOP_COUNT = "1/0059856894.26893"
START_TIME = 2005-03-25T18:43:45.230Z
STOP_TIME = 2005-03-25T18:53:31.194Z
/* ORBITAL DATA ELEMENTS */
ASCENDING_NODE_LONGITUDE = 196.53
MAXIMUM_RESOLUTION = 51.7
FOOTPRINT_POINT_LATITUDE = (52.5277,52.555,52.6497,51.8158,50.9647 ,50.0992,49.217,48.7693,48.3173,47.8614 ,47.1501,45.9475,45.4675,44.9833, 44.4936,43.9986,43.499,42.9932,42.4827, 41.9661,41.4445,40.9168,40.3835,39.8446 ,39.2996,38.7485,38.1906,37.6345, 37.0835,36.5372,35.996,35.4597,34.9282, 34.4014,33.8793,33.3596,32.8448,32.3365 ,31.833,31.3346,30.5915,30.1033,29.6198 ,29.1395,28.6653,28.1963,27.732,27.0106 ,27.0302,27.0548,27.0856,27.115,27.1412 ,27.1559,27.6062,28.0607,28.5222, 28.9859,29.4541,29.9267,30.404,30.886, 31.3724,31.8637,32.3598,32.8609,33.3665 ,33.8767,34.3919,34.9124,35.4373, 35.9672,36.5021,37.0421,37.587,38.4138, 38.9638,39.5076,40.0456,40.578,41.1048, 41.6254,42.1409,42.6505,43.1557,43.6544 ,44.1496,44.6385,45.1225,45.6023, 46.0771,47.2848,47.9706,48.4223,48.8695 ,49.7518,50.617,51.4668,52.3017, 52.5277)
FOOTPRINT_POINT_LONGITUDE = (212.837,213.759,215.118,215.2,215.279, 215.356,215.431,215.467,215.503,215.538 ,215.592,215.678,215.711,215.744, 215.776,215.808,215.839,215.87,215.901, 215.931,215.961,215.991,216.02,216.049, 216.078,216.107,216.135,216.162,216.189 ,216.215,216.241,216.265,216.289, 216.313,216.336,216.357,216.378,216.399 ,216.42,216.441,216.469,216.488,216.507 ,216.525,216.544,216.563,216.582, 216.408,215.74,214.973,214.004,212.93, 211.954,211.318,211.351,211.383,211.413 ,211.443,211.473,211.502,211.531, 211.558,211.585,211.61,211.635,211.659, 211.681,211.703,211.724,211.743,211.762 ,211.779,211.795,211.809,211.823,211.84 ,211.849,211.857,211.863,211.867,211.87 ,211.871,211.871,211.869,211.866, 211.861,211.855,211.847,211.838,211.827 ,211.815,211.778,211.752,211.733, 211.713,211.668,211.617,211.562,211.501 ,212.837)
ORBIT_NUMBER = 1525
ORBITAL_ECCENTRICITY = 0.566
ORBITAL_INCLINATION = 86.61
ORBITAL_SEMIMAJOR_AXIS = 8531.34
PERIAPSIS_ALTITUDE = 327.53
PERIAPSIS_ARGUMENT_ANGLE = 91.91
PERIAPSIS_TIME = 2005-03-25T18:33:41.000Z
SPACECRAFT_ORIENTATION = (0.0,1.0,0.0)
^MEX_ORIENTATION_DESC = "MEX_ORIENTATION_DESC.TXT"
SPACECRAFT_POINTING_MODE = NADIR
^MEX_POINTING_DESC = "MEX_POINTING_DESC.TXT"
RIGHT_ASCENSION = -1e+32
DECLINATION = -1e+32
OFFSET_ANGLE = -1e+32
SPACECRAFT_SOLAR_DISTANCE = 2.18772e+08
TARGET_NAME = MARS
/* CAMERA DATA ELEMENTS */
DETECTOR_TEMPERATURE = 18.5744
FOCAL_PLANE_TEMPERATURE = 6.9521
INST_CMPRS_NAME = "DISCRETE COSINE TRANSFORMATION (DCT)"
INST_CMPRS_RATIO = 9.9256
INST_CMPRS_QUALITY = 0
INST_CMPRS_QUANTZ_TBL_ID = 0
INSTRUMENT_TEMPERATURE = 13.0691
LENS_TEMPERATURE = 8.7872
MACROPIXEL_SIZE = 2
MISSING_FRAMES = 161
PIXEL_SUBSAMPLING_FLAG = N
SIGNAL_CHAIN_ID = 3
/* RADIOMETRIC DATA ELEMENTS */
BANDWIDTH = 174.0
CENTER_FILTER_WAVELENGTH = 675.0
RADIANCE_OFFSET = 5.9888
RADIANCE_SCALING_FACTOR = 0.0267474
REFLECTANCE_SCALING_FACTOR = 0.000688562
MEX:REFLECTANCE_OFFSET = 0.154171
/* IMAGE OBJECT DEFINITIONS */
OBJECT = IMAGE
  INTERCHANGE_FORMAT = BINARY
  LINES = 30404
  LINE_SAMPLES = 4885
  SAMPLE_TYPE = UNSIGNED_INTEGER
  SAMPLE_BITS = 8
  BANDS = 1
  BAND_STORAGE_TYPE = BAND_SEQUENTIAL
  MAXIMUM = 318
  MEAN = 210.217
  MINIMUM = 120
  STANDARD_DEVIATION = 28.0526
END_OBJECT = IMAGE
/* MAP OBJECT DEFINITIONS */
OBJECT = IMAGE_MAP_PROJECTION
  ^DATA_SET_MAP_PROJECTION_CATALOG= "DSMAP.CAT"
  A_AXIS_RADIUS = 3396.0
  B_AXIS_RADIUS = 3396.0
  C_AXIS_RADIUS = 3396.0
  CENTER_LATITUDE = 0.0
  CENTER_LONGITUDE = 214.0
  COORDINATE_SYSTEM_NAME = PLANETOGRAPHIC
  COORDINATE_SYSTEM_TYPE = "BODY-FIXED ROTATING"
  EASTERNMOST_LONGITUDE = 216.582
  FIRST_STANDARD_PARALLEL = "N/A"
  LINE_FIRST_PIXEL = 1
  LINE_LAST_PIXEL = 30404
  LINE_PROJECTION_OFFSET = 62386.75
  MAP_PROJECTION_ROTATION = 0.0
  MAP_PROJECTION_TYPE = SINUSOIDAL
  MAP_RESOLUTION = 1185.42760773333
  MAP_SCALE = 0.05
  MAXIMUM_LATITUDE = 52.6497
  MINIMUM_LATITUDE = 27.0106
  POSITIVE_LONGITUDE_DIRECTION = EAST
  REFERENCE_LATITUDE = "N/A"
  REFERENCE_LONGITUDE = "N/A"
  SAMPLE_FIRST_PIXEL = 1
  SAMPLE_LAST_PIXEL = 4885
  SAMPLE_PROJECTION_OFFSET = 2493.25
  SECOND_STANDARD_PARALLEL = "N/A"
  WESTERNMOST_LONGITUDE = 211.318
END_OBJECT = IMAGE_MAP_PROJECTION
/* The JPEG2000 image data file associated with this label. */
OBJECT = COMPRESSED_FILE
  FILE_NAME = "H1525_0001_P13.JP2"
  RECORD_TYPE = UNDEFINED
  FILE_RECORDS = UNK
  ENCODING_TYPE = "JP2"
  INTERCHANGE_FORMAT = BINARY
  UNCOMPRESSED_FILE_NAME = "H1525_0001_P13.IMG"
  REQUIRED_STORAGE_BYTES = "148547965"
  ^DESCRIPTION = "JP2INFO.TXT"
END_OBJECT = COMPRESSED_FILE
END
