PDS_VERSION_ID = PDS3
/* FILE DATA ELEMENTS */
RECORD_TYPE = STREAM
/* POINTERS TO DATA OBJECTS */
^COMPRESSED_FILE = "H1528_0001_SR3.JP2"
/* IDENTIFICATION DATA ELEMENTS */
DATA_SET_ID = "MEX-M-HRSC-5-REFDR-MAPPROJECTED-V3.0"
DATA_SET_NAME = "MARS EXPRESS HRSC MAP PROJECTED REFDR V3.0"
DETECTOR_ID = MEX_HRSC_SRC
EVENT_TYPE = "MARS-REGIONAL-MAPPING-Te-Im-Pf"
INSTRUMENT_HOST_ID = MEX
INSTRUMENT_HOST_NAME = "MARS EXPRESS"
INSTRUMENT_ID = HRSC
INSTRUMENT_NAME = "HIGH RESOLUTION STEREO CAMERA"
MISSION_NAME = "MARS EXPRESS"
MISSION_PHASE_NAME = MR_Phase_6
PROCESSING_LEVEL_ID = 3
PRODUCT_CREATION_TIME = 2016-03-08T06:50:01.000Z
PRODUCT_ID = "H1528_0001_SR3.JP2"
RELEASE_ID = 0020
REVISION_ID = 0000
/* QUALITY DATA ELEMENTS */
DATA_QUALITY_ID = 1
DATA_QUALITY_DESC = "Data calculated based on original SPICE kernels"
/* TIME DATA ELEMENTS */
SPACECRAFT_CLOCK_START_COUNT = "1/0059928312.57967"
SPACECRAFT_CLOCK_STOP_COUNT = "1/0059928903.35947"
IMAGE_TIME = 2005-03-26T14:54:08.188Z
START_TIME = 2005-03-26T14:54:07.930Z
STOP_TIME = 2005-03-26T14:54:08.446Z
/* ORBITAL DATA ELEMENTS */
ASCENDING_NODE_LONGITUDE = 196.47
MAXIMUM_RESOLUTION = 5.857
FOOTPRINT_POINT_LATITUDE = (50.0031,49.9982,49.9937,49.9908, 49.9873,49.9832,49.978,49.9744,49.9704, 49.9676,49.9641,49.9596,49.9568,49.9527 ,49.9487,49.9457,49.9412,49.9379, 49.9353,49.9315,49.9286,49.923,49.9192, 49.9159,49.9133,49.91,49.9049,49.9038, 49.9036,49.9035,49.9033,49.9031,49.9029 ,49.9027,49.9026,49.9024,49.9022, 49.9021,49.9019,49.9017,49.9015,49.9014 ,49.9012,49.901,49.9008,49.9006,49.9005 ,49.9003,49.9001,49.8999,49.8998, 49.9021,49.9061,49.9098,49.9147,49.9181 ,49.9208,49.9243,49.9287,49.9315,49.935 ,49.9391,49.9431,49.948,49.9538,49.9579 ,49.9643,49.969,49.972,49.977,49.9797, 49.983,49.986,49.9915,49.9959,49.9995, 49.9997,49.9999,50.0001,50.0002,50.0004 ,50.0006,50.0008,50.0009,50.0011, 50.0013,50.0015,50.0017,50.0018,50.002, 50.0022,50.0023,50.0025,50.0027,50.0029 ,50.003,50.0032,50.0035,50.0037, 50.0031)
FOOTPRINT_POINT_LONGITUDE = (278.732,278.732,278.732,278.733, 278.733,278.733,278.733,278.734,278.734 ,278.734,278.734,278.735,278.735, 278.735,278.735,278.736,278.736,278.736 ,278.736,278.736,278.737,278.737, 278.737,278.738,278.738,278.738,278.738 ,278.73,278.724,278.718,278.71,278.704, 278.698,278.692,278.686,278.68,278.673, 278.667,278.661,278.655,278.649,278.643 ,278.637,278.63,278.624,278.618,278.612 ,278.606,278.6,278.593,278.587,278.582, 278.581,278.581,278.581,278.58,278.58, 278.58,278.58,278.58,278.579,278.579, 278.579,278.578,278.578,278.578,278.577 ,278.577,278.577,278.576,278.576, 278.576,278.576,278.575,278.575,278.58, 278.586,278.592,278.598,278.604,278.61, 278.617,278.623,278.629,278.635,278.641 ,278.647,278.654,278.66,278.666,278.672 ,278.678,278.684,278.691,278.697, 278.703,278.709,278.718,278.725, 278.732)
ORBIT_NUMBER = 1528
ORBITAL_ECCENTRICITY = 0.566
ORBITAL_INCLINATION = 86.59
ORBITAL_SEMIMAJOR_AXIS = 8532.11
PERIAPSIS_ALTITUDE = 328.2
PERIAPSIS_ARGUMENT_ANGLE = 91.38
PERIAPSIS_TIME = 2005-03-26T14:43:49.000Z
SPACECRAFT_ORIENTATION = (0.0,1.0,0.0)
^MEX_ORIENTATION_DESC = "MEX_ORIENTATION_DESC.TXT"
SPACECRAFT_POINTING_MODE = ACROSSTRACK
^MEX_POINTING_DESC = "MEX_POINTING_DESC.TXT"
RIGHT_ASCENSION = -1e+32
DECLINATION = -1e+32
OFFSET_ANGLE = 0.1
SPACECRAFT_SOLAR_DISTANCE = 2.18618e+08
TARGET_NAME = MARS
/* CAMERA DATA ELEMENTS */
BUFFER_MODE_ID = DIRECT
EXPOSURE_DURATION = 516.096
INST_CMPRS_NAME = NONE
INST_CMPRS_RATIO = 1.0
INST_CMPRS_QUALITY = -2147483648
INST_CMPRS_QUANTZ_TBL_ID = -2147483648
INSTRUMENT_TEMPERATURE = 17.2727
MISSING_FRAMES = 0
START_BIT = 0
/* RADIOMETRIC DATA ELEMENTS */
BANDWIDTH = 250.0
CENTER_FILTER_WAVELENGTH = 600.0
RADIANCE_OFFSET = -9.99e+31
RADIANCE_SCALING_FACTOR = -9.99e+31
REFLECTANCE_SCALING_FACTOR = -9.99e+31
MEX:REFLECTANCE_OFFSET = -9.99e+31
/* IMAGE OBJECT DEFINITIONS */
OBJECT = IMAGE
  INTERCHANGE_FORMAT = BINARY
  LINES = 1299
  LINE_SAMPLES = 1305
  SAMPLE_TYPE = UNSIGNED_INTEGER
  SAMPLE_BITS = 8
  BANDS = 1
  BAND_STORAGE_TYPE = BAND_SEQUENTIAL
  MAXIMUM = 12761
  MEAN = 12182.8
  MINIMUM = 11653
  STANDARD_DEVIATION = 217.468
END_OBJECT = IMAGE
/* MAP OBJECT DEFINITIONS */
OBJECT = IMAGE_MAP_PROJECTION
  ^DATA_SET_MAP_PROJECTION_CATALOG= "DSMAP.CAT"
  A_AXIS_RADIUS = 3396.19
  B_AXIS_RADIUS = 3396.19
  C_AXIS_RADIUS = 3396.19
  CENTER_LATITUDE = 0.0
  CENTER_LONGITUDE = 279.0
  COORDINATE_SYSTEM_NAME = PLANETOGRAPHIC
  COORDINATE_SYSTEM_TYPE = "BODY-FIXED ROTATING"
  EASTERNMOST_LONGITUDE = 278.738
  FIRST_STANDARD_PARALLEL = "N/A"
  LINE_FIRST_PIXEL = 1
  LINE_LAST_PIXEL = 1299
  LINE_PROJECTION_OFFSET = 592065.0
  MAP_PROJECTION_ROTATION = 0.0
  MAP_PROJECTION_TYPE = SINUSOIDAL
  MAP_RESOLUTION = 11854.9393024378
  MAP_SCALE = 0.005
  MAXIMUM_LATITUDE = 50.0037
  MINIMUM_LATITUDE = 49.8998
  POSITIVE_LONGITUDE_DIRECTION = EAST
  REFERENCE_LATITUDE = "N/A"
  REFERENCE_LONGITUDE = "N/A"
  SAMPLE_FIRST_PIXEL = 1
  SAMPLE_LAST_PIXEL = 1305
  SAMPLE_PROJECTION_OFFSET = 3238.0
  SECOND_STANDARD_PARALLEL = "N/A"
  WESTERNMOST_LONGITUDE = 278.575
END_OBJECT = IMAGE_MAP_PROJECTION
/* The JPEG2000 image data file associated with this label. */
OBJECT = COMPRESSED_FILE
  FILE_NAME = "H1528_0001_SR3.JP2"
  RECORD_TYPE = UNDEFINED
  FILE_RECORDS = UNK
  ENCODING_TYPE = "JP2"
  INTERCHANGE_FORMAT = BINARY
  UNCOMPRESSED_FILE_NAME = "H1528_0001_SR3.IMG"
  REQUIRED_STORAGE_BYTES = "1714770"
  ^DESCRIPTION = "JP2INFO.TXT"
END_OBJECT = COMPRESSED_FILE
END
