PDS_VERSION_ID = PDS3
/* FILE DATA ELEMENTS */
RECORD_TYPE = STREAM
/* POINTERS TO DATA OBJECTS */
^COMPRESSED_FILE = "H1528_0006_SR3.JP2"
/* IDENTIFICATION DATA ELEMENTS */
DATA_SET_ID = "MEX-M-HRSC-5-REFDR-MAPPROJECTED-V3.0"
DATA_SET_NAME = "MARS EXPRESS HRSC MAP PROJECTED REFDR V3.0"
DETECTOR_ID = MEX_HRSC_SRC
EVENT_TYPE = "MARS-REGIONAL-MAPPING-Te-Im-Pf"
INSTRUMENT_HOST_ID = MEX
INSTRUMENT_HOST_NAME = "MARS EXPRESS"
INSTRUMENT_ID = HRSC
INSTRUMENT_NAME = "HIGH RESOLUTION STEREO CAMERA"
MISSION_NAME = "MARS EXPRESS"
MISSION_PHASE_NAME = MR_Phase_6
PROCESSING_LEVEL_ID = 3
PRODUCT_CREATION_TIME = 2016-03-08T06:50:01.000Z
PRODUCT_ID = "H1528_0006_SR3.JP2"
RELEASE_ID = 0020
REVISION_ID = 0000
/* QUALITY DATA ELEMENTS */
DATA_QUALITY_ID = 1
DATA_QUALITY_DESC = "Data calculated based on original SPICE kernels"
/* TIME DATA ELEMENTS */
SPACECRAFT_CLOCK_START_COUNT = "1/0059928312.57967"
SPACECRAFT_CLOCK_STOP_COUNT = "1/0059928903.35947"
IMAGE_TIME = 2005-03-26T14:54:16.363Z
START_TIME = 2005-03-26T14:54:16.360Z
STOP_TIME = 2005-03-26T14:54:16.365Z
/* ORBITAL DATA ELEMENTS */
ASCENDING_NODE_LONGITUDE = 196.47
MAXIMUM_RESOLUTION = 5.918
FOOTPRINT_POINT_LATITUDE = (49.5508,49.548,49.5451,49.5408,49.5374 ,49.5332,49.5277,49.5231,49.5205, 49.5151,49.5114,49.5071,49.5035,49.4994 ,49.4933,49.4894,49.4859,49.481,49.478, 49.4742,49.4692,49.4635,49.4599,49.4572 ,49.454,49.4506,49.4495,49.4494,49.4492 ,49.449,49.4489,49.4487,49.4485,49.4484 ,49.4482,49.448,49.4478,49.4477,49.4475 ,49.4473,49.4472,49.447,49.4468,49.4466 ,49.4465,49.4463,49.4461,49.4459, 49.4458,49.4456,49.4454,49.4491,49.4531 ,49.4587,49.4617,49.4665,49.4729, 49.4779,49.4811,49.486,49.4923,49.4964, 49.5002,49.503,49.5073,49.5123,49.5155, 49.52,49.5235,49.5276,49.5322,49.5354, 49.5392,49.5447,49.5464,49.5466,49.5468 ,49.547,49.5471,49.5473,49.5475,49.5477 ,49.5478,49.548,49.5482,49.5484,49.5485 ,49.5487,49.5489,49.549,49.5492,49.5494 ,49.5496,49.5498,49.5499,49.5501, 49.5503,49.5504,49.5506,49.5508)
FOOTPRINT_POINT_LONGITUDE = (278.762,278.762,278.762,278.762, 278.763,278.763,278.763,278.764,278.764 ,278.764,278.764,278.764,278.765, 278.765,278.765,278.766,278.766,278.766 ,278.766,278.767,278.767,278.767, 278.767,278.768,278.768,278.768,278.762 ,278.756,278.749,278.743,278.737, 278.731,278.725,278.719,278.712,278.706 ,278.7,278.694,278.688,278.681,278.675, 278.669,278.663,278.657,278.651,278.644 ,278.638,278.632,278.626,278.62,278.614 ,278.611,278.611,278.61,278.61,278.61, 278.609,278.609,278.609,278.608,278.608 ,278.608,278.607,278.607,278.607, 278.607,278.607,278.606,278.606,278.606 ,278.605,278.605,278.605,278.605, 278.608,278.614,278.62,278.626,278.632, 278.639,278.645,278.651,278.657,278.663 ,278.67,278.676,278.682,278.688,278.694 ,278.701,278.707,278.713,278.719, 278.725,278.731,278.738,278.744,278.75, 278.756,278.762)
ORBIT_NUMBER = 1528
ORBITAL_ECCENTRICITY = 0.566
ORBITAL_INCLINATION = 86.59
ORBITAL_SEMIMAJOR_AXIS = 8532.11
PERIAPSIS_ALTITUDE = 328.2
PERIAPSIS_ARGUMENT_ANGLE = 91.38
PERIAPSIS_TIME = 2005-03-26T14:43:49.000Z
SPACECRAFT_ORIENTATION = (0.0,1.0,0.0)
^MEX_ORIENTATION_DESC = "MEX_ORIENTATION_DESC.TXT"
SPACECRAFT_POINTING_MODE = ACROSSTRACK
^MEX_POINTING_DESC = "MEX_POINTING_DESC.TXT"
RIGHT_ASCENSION = -1e+32
DECLINATION = -1e+32
OFFSET_ANGLE = 0.1
SPACECRAFT_SOLAR_DISTANCE = 2.18618e+08
TARGET_NAME = MARS
/* CAMERA DATA ELEMENTS */
BUFFER_MODE_ID = DIRECT
EXPOSURE_DURATION = 5.04
INST_CMPRS_NAME = NONE
INST_CMPRS_RATIO = 1.0
INST_CMPRS_QUALITY = -2147483648
INST_CMPRS_QUANTZ_TBL_ID = -2147483648
INSTRUMENT_TEMPERATURE = 17.2727
MISSING_FRAMES = 0
START_BIT = 0
/* RADIOMETRIC DATA ELEMENTS */
BANDWIDTH = 250.0
CENTER_FILTER_WAVELENGTH = 600.0
RADIANCE_OFFSET = -9.99e+31
RADIANCE_SCALING_FACTOR = -9.99e+31
REFLECTANCE_SCALING_FACTOR = -9.99e+31
MEX:REFLECTANCE_OFFSET = -9.99e+31
/* IMAGE OBJECT DEFINITIONS */
OBJECT = IMAGE
  INTERCHANGE_FORMAT = BINARY
  LINES = 1309
  LINE_SAMPLES = 1316
  SAMPLE_TYPE = UNSIGNED_INTEGER
  SAMPLE_BITS = 8
  BANDS = 1
  BAND_STORAGE_TYPE = BAND_SEQUENTIAL
  MAXIMUM = 5901
  MEAN = 5085.85
  MINIMUM = 0
  STANDARD_DEVIATION = 212.112
END_OBJECT = IMAGE
/* MAP OBJECT DEFINITIONS */
OBJECT = IMAGE_MAP_PROJECTION
  ^DATA_SET_MAP_PROJECTION_CATALOG= "DSMAP.CAT"
  A_AXIS_RADIUS = 3396.19
  B_AXIS_RADIUS = 3396.19
  C_AXIS_RADIUS = 3396.19
  CENTER_LATITUDE = 0.0
  CENTER_LONGITUDE = 279.0
  COORDINATE_SYSTEM_NAME = PLANETOGRAPHIC
  COORDINATE_SYSTEM_TYPE = "BODY-FIXED ROTATING"
  EASTERNMOST_LONGITUDE = 278.768
  FIRST_STANDARD_PARALLEL = "N/A"
  LINE_FIRST_PIXEL = 1
  LINE_LAST_PIXEL = 1309
  LINE_PROJECTION_OFFSET = 586710.0
  MAP_PROJECTION_ROTATION = 0.0
  MAP_PROJECTION_TYPE = SINUSOIDAL
  MAP_RESOLUTION = 11854.9393024378
  MAP_SCALE = 0.005
  MAXIMUM_LATITUDE = 49.5508
  MINIMUM_LATITUDE = 49.4454
  POSITIVE_LONGITUDE_DIRECTION = EAST
  REFERENCE_LATITUDE = "N/A"
  REFERENCE_LONGITUDE = "N/A"
  SAMPLE_FIRST_PIXEL = 1
  SAMPLE_LAST_PIXEL = 1316
  SAMPLE_PROJECTION_OFFSET = 3042.0
  SECOND_STANDARD_PARALLEL = "N/A"
  WESTERNMOST_LONGITUDE = 278.605
END_OBJECT = IMAGE_MAP_PROJECTION
/* The JPEG2000 image data file associated with this label. */
OBJECT = COMPRESSED_FILE
  FILE_NAME = "H1528_0006_SR3.JP2"
  RECORD_TYPE = UNDEFINED
  FILE_RECORDS = UNK
  ENCODING_TYPE = "JP2"
  INTERCHANGE_FORMAT = BINARY
  UNCOMPRESSED_FILE_NAME = "H1528_0006_SR3.IMG"
  REQUIRED_STORAGE_BYTES = "1741068"
  ^DESCRIPTION = "JP2INFO.TXT"
END_OBJECT = COMPRESSED_FILE
END
