PDS_VERSION_ID = PDS3
/* FILE DATA ELEMENTS */
RECORD_TYPE = STREAM
/* POINTERS TO DATA OBJECTS */
^COMPRESSED_FILE = "H1540_0009_ND3.JP2"
/* IDENTIFICATION DATA ELEMENTS */
DATA_SET_ID = "MEX-M-HRSC-5-REFDR-MAPPROJECTED-V3.0"
DATA_SET_NAME = "MARS EXPRESS HRSC MAP PROJECTED REFDR V3.0"
DETECTOR_ID = MEX_HRSC_NADIR
EVENT_TYPE = "MARS-GLOBAL-MAPPING-Te-Im-Pf"
INSTRUMENT_HOST_ID = MEX
INSTRUMENT_HOST_NAME = "MARS EXPRESS"
INSTRUMENT_ID = HRSC
INSTRUMENT_NAME = "HIGH RESOLUTION STEREO CAMERA"
MISSION_NAME = "MARS EXPRESS"
MISSION_PHASE_NAME = MR_Phase_6
PROCESSING_LEVEL_ID = 3
PRODUCT_CREATION_TIME = 2016-03-08T06:50:01.000Z
PRODUCT_ID = "H1540_0009_ND3.JP2"
RELEASE_ID = 0020
REVISION_ID = 0000
/* QUALITY DATA ELEMENTS */
DATA_QUALITY_ID = 1
DATA_QUALITY_DESC = "Data calculated based on original SPICE kernels"
/* TIME DATA ELEMENTS */
SPACECRAFT_CLOCK_START_COUNT = "1/0060219169.57306"
SPACECRAFT_CLOCK_STOP_COUNT = "1/0060220228.57092"
START_TIME = 2005-03-29T23:33:57.108Z
STOP_TIME = 2005-03-29T23:45:02.142Z
/* ORBITAL DATA ELEMENTS */
ASCENDING_NODE_LONGITUDE = 196.2
MAXIMUM_RESOLUTION = 25.2
FOOTPRINT_POINT_LATITUDE = (52.8053,52.8587,52.8988,51.8679, 50.8127,49.7324,48.6258,48.0629,47.4918 ,46.9137,46.3291,45.736,45.1356,44.5271 ,43.9106,43.2855,42.6522,42.0098, 41.3582,40.6979,40.0281,39.3488,38.6593 ,37.9596,37.2498,36.5299,35.456,34.7477 ,34.0453,33.349,32.6586,31.9741,31.2955 ,30.6227,29.9558,29.2946,28.6392, 27.9894,27.3454,26.7069,26.074,25.4466, 24.8246,24.2081,23.597,22.9913,22.3908, 21.7955,21.513,21.5402,21.5754,21.5925, 21.6072,21.6165,22.1982,22.7852,23.3778 ,23.9758,24.5794,25.1886,25.8034, 26.4239,27.0502,27.6822,28.3201,28.9638 ,29.6134,30.269,30.9305,31.5981,32.2717 ,32.9513,33.6371,34.3291,35.0271, 35.7314,36.4419,37.5086,38.2075,38.8964 ,39.5755,40.2449,40.9051,41.5563, 42.1991,42.8322,43.4572,44.0743,44.6825 ,45.2837,45.8762,46.4617,47.0402, 47.6106,48.1742,49.282,50.3625,51.4178, 52.4495,52.8053)
FOOTPRINT_POINT_LONGITUDE = (176.263,177.391,178.488,178.628, 178.762,178.89,179.013,179.072,179.131, 179.188,179.243,179.298,179.351,179.403 ,179.454,179.504,179.553,179.6,179.647, 179.692,179.736,179.779,179.822,179.863 ,179.903,179.942,179.997,180.032, 180.065,180.097,180.127,180.155,180.182 ,180.208,180.233,180.257,180.279, 180.301,180.321,180.34,180.359,180.377, 180.394,180.41,180.426,180.44,180.454, 180.468,179.675,178.874,177.586,176.776 ,175.852,175.003,175.049,175.094, 175.137,175.18,175.22,175.261,175.298, 175.335,175.369,175.402,175.433,175.464 ,175.491,175.517,175.541,175.563, 175.583,175.601,175.616,175.629,175.64, 175.648,175.653,175.655,175.653,175.648 ,175.64,175.63,175.617,175.601,175.582, 175.561,175.538,175.512,175.483,175.452 ,175.418,175.383,175.344,175.303, 175.259,175.165,175.062,174.948,174.827 ,176.263)
ORBIT_NUMBER = 1540
ORBITAL_ECCENTRICITY = 0.566
ORBITAL_INCLINATION = 86.6
ORBITAL_SEMIMAJOR_AXIS = 8532.63
PERIAPSIS_ALTITUDE = 328.6
PERIAPSIS_ARGUMENT_ANGLE = 89.24
PERIAPSIS_TIME = 2005-03-29T23:23:53.000Z
SPACECRAFT_ORIENTATION = (0.0,1.0,0.0)
^MEX_ORIENTATION_DESC = "MEX_ORIENTATION_DESC.TXT"
SPACECRAFT_POINTING_MODE = ACROSSTRACK
^MEX_POINTING_DESC = "MEX_POINTING_DESC.TXT"
RIGHT_ASCENSION = -1e+32
DECLINATION = -1e+32
OFFSET_ANGLE = -1.05
SPACECRAFT_SOLAR_DISTANCE = 2.18008e+08
TARGET_NAME = MARS
/* CAMERA DATA ELEMENTS */
DETECTOR_TEMPERATURE = 19.5939
FOCAL_PLANE_TEMPERATURE = 8.3794
INST_CMPRS_NAME = "DISCRETE COSINE TRANSFORMATION (DCT)"
INST_CMPRS_RATIO = 7.12369
INST_CMPRS_QUALITY = 0
INST_CMPRS_QUANTZ_TBL_ID = 0
INSTRUMENT_TEMPERATURE = 13.273
LENS_TEMPERATURE = 8.7872
MACROPIXEL_SIZE = 1
MISSING_FRAMES = 0
PIXEL_SUBSAMPLING_FLAG = N
SIGNAL_CHAIN_ID = 0
/* RADIOMETRIC DATA ELEMENTS */
BANDWIDTH = 177.0
CENTER_FILTER_WAVELENGTH = 677.5
RADIANCE_OFFSET = 4.94052
RADIANCE_SCALING_FACTOR = 0.0337192
REFLECTANCE_SCALING_FACTOR = 0.000851339
MEX:REFLECTANCE_OFFSET = 0.124738
/* IMAGE OBJECT DEFINITIONS */
OBJECT = IMAGE
  INTERCHANGE_FORMAT = BINARY
  LINES = 74491
  LINE_SAMPLES = 12160
  SAMPLE_TYPE = UNSIGNED_INTEGER
  SAMPLE_BITS = 8
  BANDS = 1
  BAND_STORAGE_TYPE = BAND_SEQUENTIAL
  MAXIMUM = 325
  MEAN = 173.282
  MINIMUM = 87
  STANDARD_DEVIATION = 33.9247
END_OBJECT = IMAGE
/* MAP OBJECT DEFINITIONS */
OBJECT = IMAGE_MAP_PROJECTION
  ^DATA_SET_MAP_PROJECTION_CATALOG= "DSMAP.CAT"
  A_AXIS_RADIUS = 3396.0
  B_AXIS_RADIUS = 3396.0
  C_AXIS_RADIUS = 3396.0
  CENTER_LATITUDE = 0.0
  CENTER_LONGITUDE = 178.0
  COORDINATE_SYSTEM_NAME = PLANETOGRAPHIC
  COORDINATE_SYSTEM_TYPE = "BODY-FIXED ROTATING"
  EASTERNMOST_LONGITUDE = 180.468
  FIRST_STANDARD_PARALLEL = "N/A"
  LINE_FIRST_PIXEL = 1
  LINE_LAST_PIXEL = 74491
  LINE_PROJECTION_OFFSET = 125418.0
  MAP_PROJECTION_ROTATION = 0.0
  MAP_PROJECTION_TYPE = SINUSOIDAL
  MAP_RESOLUTION = 2370.85521546667
  MAP_SCALE = 0.025
  MAXIMUM_LATITUDE = 52.8988
  MINIMUM_LATITUDE = 21.513
  POSITIVE_LONGITUDE_DIRECTION = EAST
  REFERENCE_LATITUDE = "N/A"
  REFERENCE_LONGITUDE = "N/A"
  SAMPLE_FIRST_PIXEL = 1
  SAMPLE_LAST_PIXEL = 12160
  SAMPLE_PROJECTION_OFFSET = 6649.0
  SECOND_STANDARD_PARALLEL = "N/A"
  WESTERNMOST_LONGITUDE = 174.827
END_OBJECT = IMAGE_MAP_PROJECTION
/* The JPEG2000 image data file associated with this label. */
OBJECT = COMPRESSED_FILE
  FILE_NAME = "H1540_0009_ND3.JP2"
  RECORD_TYPE = UNDEFINED
  FILE_RECORDS = UNK
  ENCODING_TYPE = "JP2"
  INTERCHANGE_FORMAT = BINARY
  UNCOMPRESSED_FILE_NAME = "H1540_0009_ND3.IMG"
  REQUIRED_STORAGE_BYTES = "905847040"
  ^DESCRIPTION = "JP2INFO.TXT"
END_OBJECT = COMPRESSED_FILE
END
