PDS_VERSION_ID = PDS3
/* FILE DATA ELEMENTS */
RECORD_TYPE = STREAM
/* POINTERS TO DATA OBJECTS */
^COMPRESSED_FILE = "H1544_0000_IR3.JP2"
/* IDENTIFICATION DATA ELEMENTS */
DATA_SET_ID = "MEX-M-HRSC-5-REFDR-MAPPROJECTED-V3.0"
DATA_SET_NAME = "MARS EXPRESS HRSC MAP PROJECTED REFDR V3.0"
DETECTOR_ID = MEX_HRSC_IR
EVENT_TYPE = "MARS-REGIONAL-MAPPING-Te-Im-Lc"
INSTRUMENT_HOST_ID = MEX
INSTRUMENT_HOST_NAME = "MARS EXPRESS"
INSTRUMENT_ID = HRSC
INSTRUMENT_NAME = "HIGH RESOLUTION STEREO CAMERA"
MISSION_NAME = "MARS EXPRESS"
MISSION_PHASE_NAME = MR_Phase_6
PROCESSING_LEVEL_ID = 3
PRODUCT_CREATION_TIME = 2016-03-08T06:50:01.000Z
PRODUCT_ID = "H1544_0000_IR3.JP2"
RELEASE_ID = 0020
REVISION_ID = 0000
/* QUALITY DATA ELEMENTS */
DATA_QUALITY_ID = 1
DATA_QUALITY_DESC = "Data calculated based on original SPICE kernels"
/* TIME DATA ELEMENTS */
SPACECRAFT_CLOCK_START_COUNT = "1/0060315541.57318"
SPACECRAFT_CLOCK_STOP_COUNT = "1/0060315979.28004"
START_TIME = 2005-03-31T02:20:07.065Z
STOP_TIME = 2005-03-31T02:26:13.867Z
/* ORBITAL DATA ELEMENTS */
ASCENDING_NODE_LONGITUDE = 196.13
MAXIMUM_RESOLUTION = 59.9
FOOTPRINT_POINT_LATITUDE = (80.8394,80.9781,81.2075,80.8366, 80.5068,80.1763,79.8454,79.514,78.8504, 78.3969,77.8991,77.1796,76.784,76.3886, 75.9935,75.599,75.2048,74.8114,74.4187, 74.0263,73.6347,73.2355,72.8351,72.2309 ,71.822,71.4141,70.9978,70.3745,69.9499 ,69.5263,69.0962,68.6648,68.228,67.7891 ,67.3449,66.899,66.4449,65.7619,65.302, 64.7357,64.2637,63.6684,62.9436,62.4559 ,61.9613,61.4616,60.9572,60.1908, 60.0552,60.0117,59.9821,59.9306,60.4412 ,60.9455,61.4446,61.9396,62.4292, 62.9138,63.3924,63.7499,64.2209,64.6871 ,65.4755,65.9314,66.3809,67.0492, 67.4916,67.9265,68.3613,68.7884,69.2166 ,69.6359,70.2638,70.6752,71.0876, 71.4911,71.8951,72.2963,72.6909,73.0863 ,73.6698,74.0559,74.4423,74.8291,75.216 ,75.6032,75.9903,76.3775,76.7644,77.151 ,77.4792,77.9636,78.4036,78.886,79.2067 ,79.5261,79.8443,80.1611,80.4763, 80.8394)
FOOTPRINT_POINT_LONGITUDE = (126.384,128.425,132.395,133.476, 134.139,134.755,135.33,135.867,136.842, 137.441,138.044,138.83,139.224,139.594, 139.942,140.27,140.579,140.871,141.147, 141.408,141.656,141.896,142.126,142.451 ,142.659,142.856,143.048,143.321, 143.496,143.663,143.826,143.982,144.133 ,144.279,144.421,144.557,144.689,144.88 ,145.002,145.146,145.26,145.398,145.558 ,145.66,145.76,145.858,145.952,146.089, 145.092,143.889,143.174,142.071,141.977 ,141.878,141.775,141.667,141.556,141.44 ,141.32,141.226,141.097,140.963,140.721 ,140.572,140.418,140.174,140.003, 139.826,139.641,139.45,139.249,139.042, 138.714,138.485,138.244,137.996,137.735 ,137.462,137.179,136.881,136.411, 136.079,135.728,135.357,134.963,134.546 ,134.103,133.632,133.131,132.596, 132.113,131.348,130.592,129.684,129.029 ,128.333,127.591,126.797,125.949, 126.384)
ORBIT_NUMBER = 1544
ORBITAL_ECCENTRICITY = 0.566
ORBITAL_INCLINATION = 86.6
ORBITAL_SEMIMAJOR_AXIS = 8532.53
PERIAPSIS_ALTITUDE = 328.78
PERIAPSIS_ARGUMENT_ANGLE = 88.52
PERIAPSIS_TIME = 2005-03-31T02:17:13.000Z
SPACECRAFT_ORIENTATION = (0.0,1.0,0.0)
^MEX_ORIENTATION_DESC = "MEX_ORIENTATION_DESC.TXT"
SPACECRAFT_POINTING_MODE = ACROSSTRACK
^MEX_POINTING_DESC = "MEX_POINTING_DESC.TXT"
RIGHT_ASCENSION = -1e+32
DECLINATION = -1e+32
OFFSET_ANGLE = -0.1
SPACECRAFT_SOLAR_DISTANCE = 2.17807e+08
TARGET_NAME = MARS
/* CAMERA DATA ELEMENTS */
DETECTOR_TEMPERATURE = 17.5549
FOCAL_PLANE_TEMPERATURE = 8.1755
INST_CMPRS_NAME = "DISCRETE COSINE TRANSFORMATION (DCT)"
INST_CMPRS_RATIO = 10.1323
INST_CMPRS_QUALITY = 0
INST_CMPRS_QUANTZ_TBL_ID = 0
INSTRUMENT_TEMPERATURE = 11.0301
LENS_TEMPERATURE = 8.5833
MACROPIXEL_SIZE = 4
MISSING_FRAMES = 69
PIXEL_SUBSAMPLING_FLAG = N
SIGNAL_CHAIN_ID = 2
/* RADIOMETRIC DATA ELEMENTS */
BANDWIDTH = 81.0
CENTER_FILTER_WAVELENGTH = 955.5
RADIANCE_OFFSET = 0.0957359
RADIANCE_SCALING_FACTOR = 0.00464962
REFLECTANCE_SCALING_FACTOR = 0.000475868
MEX:REFLECTANCE_OFFSET = 0.00979815
/* IMAGE OBJECT DEFINITIONS */
OBJECT = IMAGE
  INTERCHANGE_FORMAT = BINARY
  LINES = 25374
  LINE_SAMPLES = 6261
  SAMPLE_TYPE = UNSIGNED_INTEGER
  SAMPLE_BITS = 8
  BANDS = 1
  BAND_STORAGE_TYPE = BAND_SEQUENTIAL
  MAXIMUM = 176
  MEAN = 87.0303
  MINIMUM = 9
  STANDARD_DEVIATION = 39.7869
END_OBJECT = IMAGE
/* MAP OBJECT DEFINITIONS */
OBJECT = IMAGE_MAP_PROJECTION
  ^DATA_SET_MAP_PROJECTION_CATALOG= "DSMAP.CAT"
  A_AXIS_RADIUS = 3396.0
  B_AXIS_RADIUS = 3396.0
  C_AXIS_RADIUS = 3396.0
  CENTER_LATITUDE = 0.0
  CENTER_LONGITUDE = 140.0
  COORDINATE_SYSTEM_NAME = PLANETOGRAPHIC
  COORDINATE_SYSTEM_TYPE = "BODY-FIXED ROTATING"
  EASTERNMOST_LONGITUDE = 146.089
  FIRST_STANDARD_PARALLEL = "N/A"
  LINE_FIRST_PIXEL = 1
  LINE_LAST_PIXEL = 25374
  LINE_PROJECTION_OFFSET = 96395.625
  MAP_PROJECTION_ROTATION = 0.0
  MAP_PROJECTION_TYPE = SINUSOIDAL
  MAP_RESOLUTION = 1185.42760773333
  MAP_SCALE = 0.05
  MAXIMUM_LATITUDE = 81.2075
  MINIMUM_LATITUDE = 59.9306
  POSITIVE_LONGITUDE_DIRECTION = EAST
  REFERENCE_LATITUDE = "N/A"
  REFERENCE_LONGITUDE = "N/A"
  SAMPLE_FIRST_PIXEL = 1
  SAMPLE_LAST_PIXEL = 6261
  SAMPLE_PROJECTION_OFFSET = 2778.125
  SECOND_STANDARD_PARALLEL = "N/A"
  WESTERNMOST_LONGITUDE = 125.949
END_OBJECT = IMAGE_MAP_PROJECTION
/* The JPEG2000 image data file associated with this label. */
OBJECT = COMPRESSED_FILE
  FILE_NAME = "H1544_0000_IR3.JP2"
  RECORD_TYPE = UNDEFINED
  FILE_RECORDS = UNK
  ENCODING_TYPE = "JP2"
  INTERCHANGE_FORMAT = BINARY
  UNCOMPRESSED_FILE_NAME = "H1544_0000_IR3.IMG"
  REQUIRED_STORAGE_BYTES = "158897919"
  ^DESCRIPTION = "JP2INFO.TXT"
END_OBJECT = COMPRESSED_FILE
END
