PDS_VERSION_ID = PDS3
/* FILE DATA ELEMENTS */
RECORD_TYPE = STREAM
/* POINTERS TO DATA OBJECTS */
^COMPRESSED_FILE = "H1545_0000_GR3.JP2"
/* IDENTIFICATION DATA ELEMENTS */
DATA_SET_ID = "MEX-M-HRSC-5-REFDR-MAPPROJECTED-V3.0"
DATA_SET_NAME = "MARS EXPRESS HRSC MAP PROJECTED REFDR V3.0"
DETECTOR_ID = MEX_HRSC_GREEN
EVENT_TYPE = "MARS-REGIONAL-MAPPING-Te-Eo-Mw"
INSTRUMENT_HOST_ID = MEX
INSTRUMENT_HOST_NAME = "MARS EXPRESS"
INSTRUMENT_ID = HRSC
INSTRUMENT_NAME = "HIGH RESOLUTION STEREO CAMERA"
MISSION_NAME = "MARS EXPRESS"
MISSION_PHASE_NAME = MR_Phase_6
PROCESSING_LEVEL_ID = 3
PRODUCT_CREATION_TIME = 2016-03-08T06:50:01.000Z
PRODUCT_ID = "H1545_0000_GR3.JP2"
RELEASE_ID = 0020
REVISION_ID = 0000
/* QUALITY DATA ELEMENTS */
DATA_QUALITY_ID = 1
DATA_QUALITY_DESC = "Data calculated based on original SPICE kernels"
/* TIME DATA ELEMENTS */
SPACECRAFT_CLOCK_START_COUNT = "1/0060339752.57980"
SPACECRAFT_CLOCK_STOP_COUNT = "1/0060340404.04230"
START_TIME = 2005-03-31T09:03:17.401Z
STOP_TIME = 2005-03-31T09:16:31.596Z
/* ORBITAL DATA ELEMENTS */
ASCENDING_NODE_LONGITUDE = 196.09
MAXIMUM_RESOLUTION = 56.7
FOOTPRINT_POINT_LATITUDE = (80.029,80.321,79.6019,79.0215,78.4385, 77.8535,76.6794,76.0108,75.3082,74.6053 ,73.9029,73.201,72.5,71.7849,71.0643, 70.3297,69.5848,68.8308,68.0652,67.2842 ,66.4916,65.6862,64.8674,64.0344, 63.1865,62.3232,61.4443,60.5456,59.6303 ,58.6976,57.7435,56.7705,55.7762, 54.7585,53.7181,52.6536,51.5635,50.4459 ,48.7167,47.5466,46.3909,45.2488, 44.1211,43.0059,41.9081,40.8201,39.7484 ,38.6914,37.6474,36.6176,36.5828, 36.5767,36.5521,37.5706,38.605,39.6522, 40.7153,41.7909,42.8797,43.9851,45.104, 46.2376,47.3853,48.547,50.2672,51.3792, 52.4642,53.5236,54.5589,55.5715,56.5607 ,57.5293,58.4781,59.4063,60.3165, 61.2102,62.0844,62.9423,63.7847,64.6121 ,65.4251,66.2243,67.0107,67.785,68.5431 ,69.2899,70.0269,70.7525,71.4644, 72.1701,72.8603,73.5505,74.2402,74.9289 ,75.6162,76.2732,77.4148,78.5439, 79.1019,80.029)
FOOTPRINT_POINT_LONGITUDE = (26.0688,29.8388,33.5675,34.661,35.6415 ,36.5248,38.0498,38.7975,39.5061, 40.1467,40.7281,41.2579,41.7425,42.1962 ,42.6168,43.0121,43.3821,43.7284, 44.0542,44.3623,44.6526,44.9267,45.186, 45.4315,45.6643,45.8853,46.0953,46.2955 ,46.486,46.6672,46.8403,47.0052,47.1625 ,47.313,47.4566,47.5939,47.7249,47.8505 ,48.0281,48.1381,48.2398,48.3331, 48.4198,48.498,48.5745,48.6402,48.7039, 48.7643,48.8193,48.871,46.943,46.074, 44.4293,44.4428,44.4438,44.4441,44.4304 ,44.4169,44.4011,44.3663,44.3264, 44.2743,44.2123,44.1392,44.007,43.9059, 43.7948,43.6728,43.5403,43.3964,43.2415 ,43.0733,42.8955,42.7041,42.4994, 42.2801,42.0472,41.7988,41.5341,41.2514 ,40.951,40.6335,40.2889,39.9213,39.532, 39.1157,38.6691,38.1907,37.6789,37.1267 ,36.5353,35.8877,35.1768,34.3928,33.527 ,32.6082,30.7533,28.5044,27.1963, 26.0688)
ORBIT_NUMBER = 1545
ORBITAL_ECCENTRICITY = 0.566
ORBITAL_INCLINATION = 86.6
ORBITAL_SEMIMAJOR_AXIS = 8531.78
PERIAPSIS_ALTITUDE = 327.94
PERIAPSIS_ARGUMENT_ANGLE = 88.35
PERIAPSIS_TIME = 2005-03-31T09:00:32.000Z
SPACECRAFT_ORIENTATION = (0.0,1.0,0.0)
^MEX_ORIENTATION_DESC = "MEX_ORIENTATION_DESC.TXT"
SPACECRAFT_POINTING_MODE = ACROSSTRACK
^MEX_POINTING_DESC = "MEX_POINTING_DESC.TXT"
RIGHT_ASCENSION = -1e+32
DECLINATION = -1e+32
OFFSET_ANGLE = -0.7
SPACECRAFT_SOLAR_DISTANCE = 2.17757e+08
TARGET_NAME = MARS
/* CAMERA DATA ELEMENTS */
DETECTOR_TEMPERATURE = 18.1666
FOCAL_PLANE_TEMPERATURE = 7.9716
INST_CMPRS_NAME = "DISCRETE COSINE TRANSFORMATION (DCT)"
INST_CMPRS_RATIO = 14.9423
INST_CMPRS_QUALITY = 0
INST_CMPRS_QUANTZ_TBL_ID = 0
INSTRUMENT_TEMPERATURE = 11.234
LENS_TEMPERATURE = 8.5833
MACROPIXEL_SIZE = 4
MISSING_FRAMES = 0
PIXEL_SUBSAMPLING_FLAG = N
SIGNAL_CHAIN_ID = 2
/* RADIOMETRIC DATA ELEMENTS */
BANDWIDTH = 88.0
CENTER_FILTER_WAVELENGTH = 538.0
RADIANCE_OFFSET = 0.330221
RADIANCE_SCALING_FACTOR = 0.0105517
REFLECTANCE_SCALING_FACTOR = 0.000430779
MEX:REFLECTANCE_OFFSET = 0.0134814
/* IMAGE OBJECT DEFINITIONS */
OBJECT = IMAGE
  INTERCHANGE_FORMAT = BINARY
  LINES = 52083
  LINE_SAMPLES = 8489
  SAMPLE_TYPE = UNSIGNED_INTEGER
  SAMPLE_BITS = 8
  BANDS = 1
  BAND_STORAGE_TYPE = BAND_SEQUENTIAL
  MAXIMUM = 257
  MEAN = 133.464
  MINIMUM = 26
  STANDARD_DEVIATION = 49.9084
END_OBJECT = IMAGE
/* MAP OBJECT DEFINITIONS */
OBJECT = IMAGE_MAP_PROJECTION
  ^DATA_SET_MAP_PROJECTION_CATALOG= "DSMAP.CAT"
  A_AXIS_RADIUS = 3396.0
  B_AXIS_RADIUS = 3396.0
  C_AXIS_RADIUS = 3396.0
  CENTER_LATITUDE = 0.0
  CENTER_LONGITUDE = 44.0
  COORDINATE_SYSTEM_NAME = PLANETOGRAPHIC
  COORDINATE_SYSTEM_TYPE = "BODY-FIXED ROTATING"
  EASTERNMOST_LONGITUDE = 48.871
  FIRST_STANDARD_PARALLEL = "N/A"
  LINE_FIRST_PIXEL = 1
  LINE_LAST_PIXEL = 52083
  LINE_PROJECTION_OFFSET = 95401.625
  MAP_PROJECTION_ROTATION = 0.0
  MAP_PROJECTION_TYPE = SINUSOIDAL
  MAP_RESOLUTION = 1185.42760773333
  MAP_SCALE = 0.05
  MAXIMUM_LATITUDE = 80.321
  MINIMUM_LATITUDE = 36.5521
  POSITIVE_LONGITUDE_DIRECTION = EAST
  REFERENCE_LATITUDE = "N/A"
  REFERENCE_LONGITUDE = "N/A"
  SAMPLE_FIRST_PIXEL = 1
  SAMPLE_LAST_PIXEL = 8489
  SAMPLE_PROJECTION_OFFSET = 3895.625
  SECOND_STANDARD_PARALLEL = "N/A"
  WESTERNMOST_LONGITUDE = 26.0688
END_OBJECT = IMAGE_MAP_PROJECTION
/* The JPEG2000 image data file associated with this label. */
OBJECT = COMPRESSED_FILE
  FILE_NAME = "H1545_0000_GR3.JP2"
  RECORD_TYPE = UNDEFINED
  FILE_RECORDS = UNK
  ENCODING_TYPE = "JP2"
  INTERCHANGE_FORMAT = BINARY
  UNCOMPRESSED_FILE_NAME = "H1545_0000_GR3.IMG"
  REQUIRED_STORAGE_BYTES = "442166543"
  ^DESCRIPTION = "JP2INFO.TXT"
END_OBJECT = COMPRESSED_FILE
END
