PDS_VERSION_ID = PDS3
/* FILE DATA ELEMENTS */
RECORD_TYPE = STREAM
/* POINTERS TO DATA OBJECTS */
^COMPRESSED_FILE = "H1546_0000_ND3.JP2"
/* IDENTIFICATION DATA ELEMENTS */
DATA_SET_ID = "MEX-M-HRSC-5-REFDR-MAPPROJECTED-V3.0"
DATA_SET_NAME = "MARS EXPRESS HRSC MAP PROJECTED REFDR V3.0"
DETECTOR_ID = MEX_HRSC_NADIR
EVENT_TYPE = "MARS-REGIONAL-MAPPING-Te-Fl-Pf"
INSTRUMENT_HOST_ID = MEX
INSTRUMENT_HOST_NAME = "MARS EXPRESS"
INSTRUMENT_ID = HRSC
INSTRUMENT_NAME = "HIGH RESOLUTION STEREO CAMERA"
MISSION_NAME = "MARS EXPRESS"
MISSION_PHASE_NAME = MR_Phase_6
PROCESSING_LEVEL_ID = 3
PRODUCT_CREATION_TIME = 2016-03-08T06:50:01.000Z
PRODUCT_ID = "H1546_0000_ND3.JP2"
RELEASE_ID = 0020
REVISION_ID = 0000
/* QUALITY DATA ELEMENTS */
DATA_QUALITY_ID = 1
DATA_QUALITY_DESC = "Data calculated based on original SPICE kernels"
/* TIME DATA ELEMENTS */
SPACECRAFT_CLOCK_START_COUNT = "1/0060364058.57146"
SPACECRAFT_CLOCK_STOP_COUNT = "1/0060364898.24044"
START_TIME = 2005-03-31T15:48:21.067Z
STOP_TIME = 2005-03-31T15:59:12.099Z
/* ORBITAL DATA ELEMENTS */
ASCENDING_NODE_LONGITUDE = 196.08
MAXIMUM_RESOLUTION = 15.7
FOOTPRINT_POINT_LATITUDE = (74.2868,74.3672,73.3027,72.2416, 71.6993,71.1569,70.6051,70.0508,69.4878 ,68.922,68.3464,67.4741,66.8856,66.286, 65.6812,65.0705,64.4485,63.82,63.1841, 62.54,61.8859,61.2218,60.5484,59.8656, 59.1728,58.4695,57.7558,57.03,56.2924, 55.5431,54.7819,54.0068,53.2189,52.4172 ,51.6016,50.7697,49.9235,49.0614, 48.1823,47.2856,46.3712,45.4386,44.4868 ,43.5149,42.5228,41.5093,40.4733, 39.4144,38.3318,37.7742,37.7836,37.7788 ,37.7657,38.3122,39.3866,40.4377, 41.4667,42.4735,43.4594,44.4253,45.3716 ,46.2989,47.2083,48.1003,48.9748, 49.8328,50.6749,51.503,52.3147,53.1128, 53.8971,54.6689,55.4266,56.1727,56.9069 ,57.6297,58.3402,59.0405,59.7302, 60.4099,61.0802,61.7412,62.392,63.0329, 63.6657,64.2909,64.9096,65.5168,66.4164 ,67.2989,68.1655,68.7371,69.2987, 69.8575,70.4072,70.9545,72.0291,73.079, 74.1307,74.2868)
FOOTPRINT_POINT_LONGITUDE = (305.004,307.137,307.634,308.067, 308.268,308.457,308.638,308.808,308.972 ,309.126,309.275,309.484,309.615, 309.741,309.862,309.977,310.089,310.195 ,310.296,310.395,310.489,310.579, 310.667,310.751,310.831,310.909,310.984 ,311.056,311.125,311.192,311.257, 311.319,311.378,311.436,311.492,311.545 ,311.597,311.646,311.694,311.74,311.785 ,311.827,311.868,311.908,311.945, 311.981,312.015,312.048,312.08,311.408, 310.17,308.77,307.778,307.794,307.82, 307.841,307.856,307.866,307.87,307.869, 307.863,307.852,307.836,307.816,307.792 ,307.762,307.728,307.69,307.647,307.599 ,307.547,307.49,307.428,307.362,307.291 ,307.214,307.133,307.046,306.954, 306.857,306.753,306.644,306.528,306.407 ,306.278,306.143,305.999,305.849, 305.607,305.346,305.064,304.862,304.65, 304.426,304.19,303.939,303.393,302.783, 302.079,305.004)
ORBIT_NUMBER = 1546
ORBITAL_ECCENTRICITY = 0.566
ORBITAL_INCLINATION = 86.6
ORBITAL_SEMIMAJOR_AXIS = 8531.49
PERIAPSIS_ALTITUDE = 328.32
PERIAPSIS_ARGUMENT_ANGLE = 88.18
PERIAPSIS_TIME = 2005-03-31T15:43:55.000Z
SPACECRAFT_ORIENTATION = (0.0,1.0,0.0)
^MEX_ORIENTATION_DESC = "MEX_ORIENTATION_DESC.TXT"
SPACECRAFT_POINTING_MODE = ACROSSTRACK
^MEX_POINTING_DESC = "MEX_POINTING_DESC.TXT"
RIGHT_ASCENSION = -1e+32
DECLINATION = -1e+32
OFFSET_ANGLE = 0.55
SPACECRAFT_SOLAR_DISTANCE = 2.17706e+08
TARGET_NAME = MARS
/* CAMERA DATA ELEMENTS */
DETECTOR_TEMPERATURE = 18.1666
FOCAL_PLANE_TEMPERATURE = 8.1755
INST_CMPRS_NAME = "DISCRETE COSINE TRANSFORMATION (DCT)"
INST_CMPRS_RATIO = 6.36918
INST_CMPRS_QUALITY = 0
INST_CMPRS_QUANTZ_TBL_ID = 0
INSTRUMENT_TEMPERATURE = 11.234
LENS_TEMPERATURE = 8.5833
MACROPIXEL_SIZE = 1
MISSING_FRAMES = 0
PIXEL_SUBSAMPLING_FLAG = N
SIGNAL_CHAIN_ID = 0
/* RADIOMETRIC DATA ELEMENTS */
BANDWIDTH = 177.0
CENTER_FILTER_WAVELENGTH = 677.5
RADIANCE_OFFSET = 1.49892
RADIANCE_SCALING_FACTOR = 0.0255777
REFLECTANCE_SCALING_FACTOR = 0.000644
MEX:REFLECTANCE_OFFSET = 0.03774
/* IMAGE OBJECT DEFINITIONS */
OBJECT = IMAGE
  INTERCHANGE_FORMAT = BINARY
  LINES = 173514
  LINE_SAMPLES = 20635
  SAMPLE_TYPE = UNSIGNED_INTEGER
  SAMPLE_BITS = 8
  BANDS = 1
  BAND_STORAGE_TYPE = BAND_SEQUENTIAL
  MAXIMUM = 315
  MEAN = 115.069
  MINIMUM = 2
  STANDARD_DEVIATION = 36.5479
END_OBJECT = IMAGE
/* MAP OBJECT DEFINITIONS */
OBJECT = IMAGE_MAP_PROJECTION
  ^DATA_SET_MAP_PROJECTION_CATALOG= "DSMAP.CAT"
  A_AXIS_RADIUS = 3396.0
  B_AXIS_RADIUS = 3396.0
  C_AXIS_RADIUS = 3396.0
  CENTER_LATITUDE = 0.0
  CENTER_LONGITUDE = 309.0
  COORDINATE_SYSTEM_NAME = PLANETOGRAPHIC
  COORDINATE_SYSTEM_TYPE = "BODY-FIXED ROTATING"
  EASTERNMOST_LONGITUDE = 312.08
  FIRST_STANDARD_PARALLEL = "N/A"
  LINE_FIRST_PIXEL = 1
  LINE_LAST_PIXEL = 173514
  LINE_PROJECTION_OFFSET = 352584.0
  MAP_PROJECTION_ROTATION = 0.0
  MAP_PROJECTION_TYPE = SINUSOIDAL
  MAP_RESOLUTION = 4741.71043093333
  MAP_SCALE = 0.0125
  MAXIMUM_LATITUDE = 74.3672
  MINIMUM_LATITUDE = 37.7657
  POSITIVE_LONGITUDE_DIRECTION = EAST
  REFERENCE_LATITUDE = "N/A"
  REFERENCE_LONGITUDE = "N/A"
  SAMPLE_FIRST_PIXEL = 1
  SAMPLE_LAST_PIXEL = 20635
  SAMPLE_PROJECTION_OFFSET = 8947.0
  SECOND_STANDARD_PARALLEL = "N/A"
  WESTERNMOST_LONGITUDE = 302.079
END_OBJECT = IMAGE_MAP_PROJECTION
/* The JPEG2000 image data file associated with this label. */
OBJECT = COMPRESSED_FILE
  FILE_NAME = "H1546_0000_ND3.JP2"
  RECORD_TYPE = UNDEFINED
  FILE_RECORDS = UNK
  ENCODING_TYPE = "JP2"
  INTERCHANGE_FORMAT = BINARY
  UNCOMPRESSED_FILE_NAME = "H1546_0000_ND3.IMG"
  REQUIRED_STORAGE_BYTES = "3580523295"
  ^DESCRIPTION = "JP2INFO.TXT"
END_OBJECT = COMPRESSED_FILE
END
