PDS_VERSION_ID = PDS3
/* FILE DATA ELEMENTS */
RECORD_TYPE = STREAM
/* POINTERS TO DATA OBJECTS */
^COMPRESSED_FILE = "H1546_0000_S23.JP2"
/* IDENTIFICATION DATA ELEMENTS */
DATA_SET_ID = "MEX-M-HRSC-5-REFDR-MAPPROJECTED-V3.0"
DATA_SET_NAME = "MARS EXPRESS HRSC MAP PROJECTED REFDR V3.0"
DETECTOR_ID = MEX_HRSC_S2
EVENT_TYPE = "MARS-REGIONAL-MAPPING-Te-Fl-Pf"
INSTRUMENT_HOST_ID = MEX
INSTRUMENT_HOST_NAME = "MARS EXPRESS"
INSTRUMENT_ID = HRSC
INSTRUMENT_NAME = "HIGH RESOLUTION STEREO CAMERA"
MISSION_NAME = "MARS EXPRESS"
MISSION_PHASE_NAME = MR_Phase_6
PROCESSING_LEVEL_ID = 3
PRODUCT_CREATION_TIME = 2016-03-08T06:50:01.000Z
PRODUCT_ID = "H1546_0000_S23.JP2"
RELEASE_ID = 0020
REVISION_ID = 0000
/* QUALITY DATA ELEMENTS */
DATA_QUALITY_ID = 1
DATA_QUALITY_DESC = "Data calculated based on original SPICE kernels"
/* TIME DATA ELEMENTS */
SPACECRAFT_CLOCK_START_COUNT = "1/0060364058.57146"
SPACECRAFT_CLOCK_STOP_COUNT = "1/0060364898.24044"
START_TIME = 2005-03-31T15:47:46.332Z
STOP_TIME = 2005-03-31T15:57:30.047Z
/* ORBITAL DATA ELEMENTS */
ASCENDING_NODE_LONGITUDE = 196.08
MAXIMUM_RESOLUTION = 32.1
FOOTPRINT_POINT_LATITUDE = (74.3876,74.4671,73.8126,73.2631, 72.7131,72.1631,71.0639,69.9654,69.1252 ,68.5622,67.9858,67.4093,66.8201,66.23, 65.6265,65.0207,64.4035,63.7795,63.1495 ,62.5059,61.8555,61.1977,60.5286, 59.8488,59.1597,58.4597,57.7489,57.0266 ,56.2927,55.5457,54.7865,54.0141, 53.2291,52.4297,51.6148,50.7846,49.9395 ,49.0769,48.1981,47.3003,46.3855, 45.4515,44.4964,43.5208,42.5237,41.5039 ,40.4607,39.3932,38.2996,37.7436,37.769 ,37.7777,37.7769,37.7646,38.8655, 39.9402,40.9907,42.0212,43.0202,44.0036 ,44.9626,45.9009,46.8212,47.7227, 48.6091,49.4738,50.3239,51.1582,51.9772 ,52.7818,53.5715,54.3463,55.1085, 55.8582,56.5956,57.3208,58.035,58.7384, 59.4295,60.1097,60.78,61.4414,62.0945, 62.735,63.6826,64.6104,65.5198,66.1195, 66.7058,67.2913,67.8641,68.4372,68.9957 ,69.8297,70.9191,71.7362,72.8247, 73.3687,73.9119,74.3876)
FOOTPRINT_POINT_LONGITUDE = (304.211,306.725,307.362,307.606, 307.834,308.048,308.436,308.778,309.014 ,309.16,309.302,309.435,309.564,309.686 ,309.804,309.916,310.024,310.127, 310.225,310.321,310.413,310.5,310.585, 310.666,310.743,310.818,310.89,310.959, 311.026,311.09,311.151,311.21,311.266, 311.321,311.373,311.423,311.471,311.516 ,311.56,311.602,311.642,311.68,311.716, 311.751,311.783,311.813,311.842,311.869 ,311.894,311.906,310.711,309.858,309.12 ,308.078,308.097,308.11,308.118,308.122 ,308.119,308.113,308.102,308.086, 308.066,308.042,308.013,307.98,307.943, 307.901,307.856,307.806,307.751,307.692 ,307.629,307.561,307.489,307.412,307.33 ,307.243,307.151,307.054,306.951, 306.843,306.728,306.608,306.416,306.208 ,305.984,305.824,305.657,305.48,305.296 ,305.099,304.895,304.564,304.08,303.673 ,303.061,302.721,302.356,304.211)
ORBIT_NUMBER = 1546
ORBITAL_ECCENTRICITY = 0.566
ORBITAL_INCLINATION = 86.6
ORBITAL_SEMIMAJOR_AXIS = 8531.49
PERIAPSIS_ALTITUDE = 328.32
PERIAPSIS_ARGUMENT_ANGLE = 88.18
PERIAPSIS_TIME = 2005-03-31T15:43:55.000Z
SPACECRAFT_ORIENTATION = (0.0,1.0,0.0)
^MEX_ORIENTATION_DESC = "MEX_ORIENTATION_DESC.TXT"
SPACECRAFT_POINTING_MODE = ACROSSTRACK
^MEX_POINTING_DESC = "MEX_POINTING_DESC.TXT"
RIGHT_ASCENSION = -1e+32
DECLINATION = -1e+32
OFFSET_ANGLE = 0.55
SPACECRAFT_SOLAR_DISTANCE = 2.17706e+08
TARGET_NAME = MARS
/* CAMERA DATA ELEMENTS */
DETECTOR_TEMPERATURE = 18.5744
FOCAL_PLANE_TEMPERATURE = 8.1755
INST_CMPRS_NAME = "DISCRETE COSINE TRANSFORMATION (DCT)"
INST_CMPRS_RATIO = 13.1054
INST_CMPRS_QUALITY = 0
INST_CMPRS_QUANTZ_TBL_ID = 0
INSTRUMENT_TEMPERATURE = 11.234
LENS_TEMPERATURE = 8.5833
MACROPIXEL_SIZE = 2
MISSING_FRAMES = 0
PIXEL_SUBSAMPLING_FLAG = N
SIGNAL_CHAIN_ID = 1
/* RADIOMETRIC DATA ELEMENTS */
BANDWIDTH = 178.0
CENTER_FILTER_WAVELENGTH = 679.0
RADIANCE_OFFSET = 2.1968
RADIANCE_SCALING_FACTOR = 0.0224945
REFLECTANCE_SCALING_FACTOR = 0.000564608
MEX:REFLECTANCE_OFFSET = 0.0551394
/* IMAGE OBJECT DEFINITIONS */
OBJECT = IMAGE
  INTERCHANGE_FORMAT = BINARY
  LINES = 86757
  LINE_SAMPLES = 10318
  SAMPLE_TYPE = UNSIGNED_INTEGER
  SAMPLE_BITS = 8
  BANDS = 1
  BAND_STORAGE_TYPE = BAND_SEQUENTIAL
  MAXIMUM = 209
  MEAN = 134.082
  MINIMUM = 51
  STANDARD_DEVIATION = 34.1098
END_OBJECT = IMAGE
/* MAP OBJECT DEFINITIONS */
OBJECT = IMAGE_MAP_PROJECTION
  ^DATA_SET_MAP_PROJECTION_CATALOG= "DSMAP.CAT"
  A_AXIS_RADIUS = 3396.0
  B_AXIS_RADIUS = 3396.0
  C_AXIS_RADIUS = 3396.0
  CENTER_LATITUDE = 0.0
  CENTER_LONGITUDE = 309.0
  COORDINATE_SYSTEM_NAME = PLANETOGRAPHIC
  COORDINATE_SYSTEM_TYPE = "BODY-FIXED ROTATING"
  EASTERNMOST_LONGITUDE = 311.906
  FIRST_STANDARD_PARALLEL = "N/A"
  LINE_FIRST_PIXEL = 1
  LINE_LAST_PIXEL = 86757
  LINE_PROJECTION_OFFSET = 176291.75
  MAP_PROJECTION_ROTATION = 0.0
  MAP_PROJECTION_TYPE = SINUSOIDAL
  MAP_RESOLUTION = 2370.85521546667
  MAP_SCALE = 0.025
  MAXIMUM_LATITUDE = 74.4671
  MINIMUM_LATITUDE = 37.7436
  POSITIVE_LONGITUDE_DIRECTION = EAST
  REFERENCE_LATITUDE = "N/A"
  REFERENCE_LONGITUDE = "N/A"
  SAMPLE_FIRST_PIXEL = 1
  SAMPLE_LAST_PIXEL = 10318
  SAMPLE_PROJECTION_OFFSET = 4473.25
  SECOND_STANDARD_PARALLEL = "N/A"
  WESTERNMOST_LONGITUDE = 302.356
END_OBJECT = IMAGE_MAP_PROJECTION
/* The JPEG2000 image data file associated with this label. */
OBJECT = COMPRESSED_FILE
  FILE_NAME = "H1546_0000_S23.JP2"
  RECORD_TYPE = UNDEFINED
  FILE_RECORDS = UNK
  ENCODING_TYPE = "JP2"
  INTERCHANGE_FORMAT = BINARY
  UNCOMPRESSED_FILE_NAME = "H1546_0000_S23.IMG"
  REQUIRED_STORAGE_BYTES = "895189680"
  ^DESCRIPTION = "JP2INFO.TXT"
END_OBJECT = COMPRESSED_FILE
END
