PDS_VERSION_ID = PDS3
/* FILE DATA ELEMENTS */
RECORD_TYPE = STREAM
/* POINTERS TO DATA OBJECTS */
^COMPRESSED_FILE = "H1550_0008_SR3.JP2"
/* IDENTIFICATION DATA ELEMENTS */
DATA_SET_ID = "MEX-M-HRSC-5-REFDR-MAPPROJECTED-V3.0"
DATA_SET_NAME = "MARS EXPRESS HRSC MAP PROJECTED REFDR V3.0"
DETECTOR_ID = MEX_HRSC_SRC
EVENT_TYPE = "MARS-LOCAL-STEREO-Vo-Te-Pf"
INSTRUMENT_HOST_ID = MEX
INSTRUMENT_HOST_NAME = "MARS EXPRESS"
INSTRUMENT_ID = HRSC
INSTRUMENT_NAME = "HIGH RESOLUTION STEREO CAMERA"
MISSION_NAME = "MARS EXPRESS"
MISSION_PHASE_NAME = MR_Phase_6
PROCESSING_LEVEL_ID = 3
PRODUCT_CREATION_TIME = 2016-03-08T06:50:01.000Z
PRODUCT_ID = "H1550_0008_SR3.JP2"
RELEASE_ID = 0020
REVISION_ID = 0000
/* QUALITY DATA ELEMENTS */
DATA_QUALITY_ID = 1
DATA_QUALITY_DESC = "Data calculated based on original SPICE kernels"
/* TIME DATA ELEMENTS */
SPACECRAFT_CLOCK_START_COUNT = "1/0060460791.56189"
SPACECRAFT_CLOCK_STOP_COUNT = "1/0060461497.02968"
IMAGE_TIME = 2005-04-01T18:47:16.707Z
START_TIME = 2005-04-01T18:47:16.704Z
STOP_TIME = 2005-04-01T18:47:16.709Z
/* ORBITAL DATA ELEMENTS */
ASCENDING_NODE_LONGITUDE = 196.0
MAXIMUM_RESOLUTION = 5.673
FOOTPRINT_POINT_LATITUDE = (55.1854,55.1819,55.1793,55.1754, 55.1696,55.1661,55.1631,55.1595,55.1562 ,55.1536,55.1482,55.1444,55.1382, 55.1317,55.1267,55.1234,55.119,55.1141, 55.1099,55.1072,55.1039,55.0995,55.0968 ,55.093,55.0928,55.0925,55.0923,55.092, 55.0918,55.0915,55.0913,55.091,55.0908, 55.0905,55.0903,55.09,55.0897,55.0895, 55.0892,55.089,55.0887,55.0885,55.0882, 55.088,55.0877,55.0874,55.0872,55.0869, 55.0873,55.0906,55.0948,55.0978,55.102, 55.1068,55.1098,55.115,55.1183,55.1223, 55.125,55.1291,55.1345,55.1391,55.1419, 55.1478,55.1518,55.1549,55.1588,55.1639 ,55.1675,55.1702,55.173,55.1771,55.1803 ,55.1833,55.1836,55.1838,55.1841, 55.1843,55.1846,55.1848,55.1851,55.1854 ,55.1856,55.1859,55.1861,55.1864, 55.1866,55.1869,55.1871,55.1874,55.1876 ,55.1879,55.1881,55.1884,55.1886, 55.1889,55.1891,55.1894,55.1896, 55.1854)
FOOTPRINT_POINT_LONGITUDE = (274.923,274.924,274.924,274.924, 274.925,274.926,274.926,274.926,274.927 ,274.927,274.928,274.928,274.929, 274.929,274.93,274.93,274.931,274.931, 274.932,274.932,274.933,274.933,274.933 ,274.932,274.925,274.919,274.912, 274.905,274.898,274.892,274.885,274.878 ,274.872,274.865,274.858,274.852, 274.845,274.838,274.831,274.825,274.818 ,274.811,274.805,274.798,274.791, 274.784,274.778,274.771,274.763,274.763 ,274.762,274.762,274.762,274.761, 274.761,274.76,274.76,274.759,274.759, 274.758,274.758,274.757,274.757,274.756 ,274.756,274.755,274.755,274.754, 274.754,274.753,274.753,274.753,274.752 ,274.754,274.76,274.767,274.774,274.781 ,274.787,274.794,274.801,274.808, 274.814,274.821,274.828,274.834,274.841 ,274.848,274.855,274.861,274.868, 274.875,274.882,274.888,274.895,274.902 ,274.908,274.915,274.922,274.923)
ORBIT_NUMBER = 1550
ORBITAL_ECCENTRICITY = 0.566
ORBITAL_INCLINATION = 86.59
ORBITAL_SEMIMAJOR_AXIS = 8532.44
PERIAPSIS_ALTITUDE = 327.89
PERIAPSIS_ARGUMENT_ANGLE = 87.45
PERIAPSIS_TIME = 2005-04-01T18:37:20.000Z
SPACECRAFT_ORIENTATION = (0.0,1.0,0.0)
^MEX_ORIENTATION_DESC = "MEX_ORIENTATION_DESC.TXT"
SPACECRAFT_POINTING_MODE = ACROSSTRACK
^MEX_POINTING_DESC = "MEX_POINTING_DESC.TXT"
RIGHT_ASCENSION = -1e+32
DECLINATION = -1e+32
OFFSET_ANGLE = -0.1
SPACECRAFT_SOLAR_DISTANCE = 2.17507e+08
TARGET_NAME = MARS
/* CAMERA DATA ELEMENTS */
BUFFER_MODE_ID = DIRECT
EXPOSURE_DURATION = 5.04
INST_CMPRS_NAME = NONE
INST_CMPRS_RATIO = 1.0
INST_CMPRS_QUALITY = -2147483648
INST_CMPRS_QUANTZ_TBL_ID = -2147483648
INSTRUMENT_TEMPERATURE = 14.8321
MISSING_FRAMES = 0
START_BIT = 0
/* RADIOMETRIC DATA ELEMENTS */
BANDWIDTH = 250.0
CENTER_FILTER_WAVELENGTH = 600.0
RADIANCE_OFFSET = -9.99e+31
RADIANCE_SCALING_FACTOR = -9.99e+31
REFLECTANCE_SCALING_FACTOR = -9.99e+31
MEX:REFLECTANCE_OFFSET = -9.99e+31
/* IMAGE OBJECT DEFINITIONS */
OBJECT = IMAGE
  INTERCHANGE_FORMAT = BINARY
  LINES = 1289
  LINE_SAMPLES = 1298
  SAMPLE_TYPE = UNSIGNED_INTEGER
  SAMPLE_BITS = 8
  BANDS = 1
  BAND_STORAGE_TYPE = BAND_SEQUENTIAL
  MAXIMUM = 6072
  MEAN = 5475.12
  MINIMUM = 4642
  STANDARD_DEVIATION = 128.975
END_OBJECT = IMAGE
/* MAP OBJECT DEFINITIONS */
OBJECT = IMAGE_MAP_PROJECTION
  ^DATA_SET_MAP_PROJECTION_CATALOG= "DSMAP.CAT"
  A_AXIS_RADIUS = 3396.19
  B_AXIS_RADIUS = 3396.19
  C_AXIS_RADIUS = 3396.19
  CENTER_LATITUDE = 0.0
  CENTER_LONGITUDE = 275.0
  COORDINATE_SYSTEM_NAME = PLANETOGRAPHIC
  COORDINATE_SYSTEM_TYPE = "BODY-FIXED ROTATING"
  EASTERNMOST_LONGITUDE = 274.933
  FIRST_STANDARD_PARALLEL = "N/A"
  LINE_FIRST_PIXEL = 1
  LINE_LAST_PIXEL = 1289
  LINE_PROJECTION_OFFSET = 653324.0
  MAP_PROJECTION_ROTATION = 0.0
  MAP_PROJECTION_TYPE = SINUSOIDAL
  MAP_RESOLUTION = 11854.9393024378
  MAP_SCALE = 0.005
  MAXIMUM_LATITUDE = 55.1896
  MINIMUM_LATITUDE = 55.0869
  POSITIVE_LONGITUDE_DIRECTION = EAST
  REFERENCE_LATITUDE = "N/A"
  REFERENCE_LONGITUDE = "N/A"
  SAMPLE_FIRST_PIXEL = 1
  SAMPLE_LAST_PIXEL = 1298
  SAMPLE_PROJECTION_OFFSET = 1742.0
  SECOND_STANDARD_PARALLEL = "N/A"
  WESTERNMOST_LONGITUDE = 274.752
END_OBJECT = IMAGE_MAP_PROJECTION
/* The JPEG2000 image data file associated with this label. */
OBJECT = COMPRESSED_FILE
  FILE_NAME = "H1550_0008_SR3.JP2"
  RECORD_TYPE = UNDEFINED
  FILE_RECORDS = UNK
  ENCODING_TYPE = "JP2"
  INTERCHANGE_FORMAT = BINARY
  UNCOMPRESSED_FILE_NAME = "H1550_0008_SR3.IMG"
  REQUIRED_STORAGE_BYTES = "1692592"
  ^DESCRIPTION = "JP2INFO.TXT"
END_OBJECT = COMPRESSED_FILE
END
