PDS_VERSION_ID = PDS3
/* FILE DATA ELEMENTS */
RECORD_TYPE = STREAM
/* POINTERS TO DATA OBJECTS */
^COMPRESSED_FILE = "H1550_0015_SR3.JP2"
/* IDENTIFICATION DATA ELEMENTS */
DATA_SET_ID = "MEX-M-HRSC-5-REFDR-MAPPROJECTED-V3.0"
DATA_SET_NAME = "MARS EXPRESS HRSC MAP PROJECTED REFDR V3.0"
DETECTOR_ID = MEX_HRSC_SRC
EVENT_TYPE = "MARS-LOCAL-STEREO-Vo-Te-Pf"
INSTRUMENT_HOST_ID = MEX
INSTRUMENT_HOST_NAME = "MARS EXPRESS"
INSTRUMENT_ID = HRSC
INSTRUMENT_NAME = "HIGH RESOLUTION STEREO CAMERA"
MISSION_NAME = "MARS EXPRESS"
MISSION_PHASE_NAME = MR_Phase_6
PROCESSING_LEVEL_ID = 3
PRODUCT_CREATION_TIME = 2016-03-08T06:50:01.000Z
PRODUCT_ID = "H1550_0015_SR3.JP2"
RELEASE_ID = 0020
REVISION_ID = 0000
/* QUALITY DATA ELEMENTS */
DATA_QUALITY_ID = 1
DATA_QUALITY_DESC = "Data calculated based on original SPICE kernels"
/* TIME DATA ELEMENTS */
SPACECRAFT_CLOCK_START_COUNT = "1/0060460791.56189"
SPACECRAFT_CLOCK_STOP_COUNT = "1/0060461497.02968"
IMAGE_TIME = 2005-04-01T18:47:27.062Z
START_TIME = 2005-04-01T18:47:27.059Z
STOP_TIME = 2005-04-01T18:47:27.064Z
/* ORBITAL DATA ELEMENTS */
ASCENDING_NODE_LONGITUDE = 196.0
MAXIMUM_RESOLUTION = 5.761
FOOTPRINT_POINT_LATITUDE = (54.6113,54.6057,54.6024,54.5981, 54.5945,54.592,54.5892,54.5853,54.5821, 54.5792,54.5745,54.5686,54.5642,54.5601 ,54.5562,54.5525,54.5492,54.5447,54.541 ,54.5365,54.5338,54.5295,54.5266, 54.5235,54.5184,54.514,54.513,54.5128, 54.5125,54.5123,54.512,54.5118,54.5115, 54.5113,54.511,54.5108,54.5105,54.5103, 54.51,54.5098,54.5095,54.5093,54.509, 54.5088,54.5085,54.5083,54.508,54.5078, 54.5075,54.5073,54.507,54.5069,54.5114, 54.5169,54.521,54.5256,54.5292,54.5345, 54.5392,54.5448,54.5487,54.5546,54.5586 ,54.5617,54.5667,54.5699,54.5748, 54.5782,54.5807,54.5842,54.5896,54.5939 ,54.5991,54.6025,54.6051,54.6054, 54.6056,54.6059,54.6061,54.6064,54.6066 ,54.6069,54.6071,54.6074,54.6076, 54.6079,54.6081,54.6084,54.6086,54.6089 ,54.6091,54.6094,54.6096,54.6099, 54.6101,54.6104,54.6106,54.6108,54.6111 ,54.6113)
FOOTPRINT_POINT_LONGITUDE = (274.988,274.989,274.989,274.989,274.99 ,274.99,274.99,274.991,274.991,274.992, 274.992,274.993,274.993,274.994,274.994 ,274.994,274.995,274.995,274.996, 274.996,274.996,274.997,274.997,274.998 ,274.998,274.999,274.993,274.987,274.98 ,274.973,274.967,274.96,274.953,274.946 ,274.94,274.933,274.926,274.92,274.913, 274.906,274.899,274.893,274.886,274.879 ,274.873,274.866,274.859,274.852, 274.846,274.839,274.832,274.828,274.827 ,274.827,274.826,274.826,274.825, 274.825,274.824,274.824,274.823,274.823 ,274.822,274.822,274.821,274.821,274.82 ,274.82,274.82,274.819,274.819,274.818, 274.818,274.817,274.82,274.827,274.834, 274.841,274.847,274.854,274.861,274.868 ,274.874,274.881,274.888,274.894, 274.901,274.908,274.915,274.921,274.928 ,274.935,274.942,274.948,274.955, 274.962,274.969,274.975,274.982, 274.988)
ORBIT_NUMBER = 1550
ORBITAL_ECCENTRICITY = 0.566
ORBITAL_INCLINATION = 86.59
ORBITAL_SEMIMAJOR_AXIS = 8532.44
PERIAPSIS_ALTITUDE = 327.89
PERIAPSIS_ARGUMENT_ANGLE = 87.45
PERIAPSIS_TIME = 2005-04-01T18:37:20.000Z
SPACECRAFT_ORIENTATION = (0.0,1.0,0.0)
^MEX_ORIENTATION_DESC = "MEX_ORIENTATION_DESC.TXT"
SPACECRAFT_POINTING_MODE = ACROSSTRACK
^MEX_POINTING_DESC = "MEX_POINTING_DESC.TXT"
RIGHT_ASCENSION = -1e+32
DECLINATION = -1e+32
OFFSET_ANGLE = -0.1
SPACECRAFT_SOLAR_DISTANCE = 2.17507e+08
TARGET_NAME = MARS
/* CAMERA DATA ELEMENTS */
BUFFER_MODE_ID = DIRECT
EXPOSURE_DURATION = 5.04
INST_CMPRS_NAME = NONE
INST_CMPRS_RATIO = 1.0
INST_CMPRS_QUALITY = -2147483648
INST_CMPRS_QUANTZ_TBL_ID = -2147483648
INSTRUMENT_TEMPERATURE = 15.8127
MISSING_FRAMES = 0
START_BIT = 0
/* RADIOMETRIC DATA ELEMENTS */
BANDWIDTH = 250.0
CENTER_FILTER_WAVELENGTH = 600.0
RADIANCE_OFFSET = -9.99e+31
RADIANCE_SCALING_FACTOR = -9.99e+31
REFLECTANCE_SCALING_FACTOR = -9.99e+31
MEX:REFLECTANCE_OFFSET = -9.99e+31
/* IMAGE OBJECT DEFINITIONS */
OBJECT = IMAGE
  INTERCHANGE_FORMAT = BINARY
  LINES = 1305
  LINE_SAMPLES = 1314
  SAMPLE_TYPE = UNSIGNED_INTEGER
  SAMPLE_BITS = 8
  BANDS = 1
  BAND_STORAGE_TYPE = BAND_SEQUENTIAL
  MAXIMUM = 5710
  MEAN = 5101.51
  MINIMUM = 4278
  STANDARD_DEVIATION = 147.612
END_OBJECT = IMAGE
/* MAP OBJECT DEFINITIONS */
OBJECT = IMAGE_MAP_PROJECTION
  ^DATA_SET_MAP_PROJECTION_CATALOG= "DSMAP.CAT"
  A_AXIS_RADIUS = 3396.19
  B_AXIS_RADIUS = 3396.19
  C_AXIS_RADIUS = 3396.19
  CENTER_LATITUDE = 0.0
  CENTER_LONGITUDE = 275.0
  COORDINATE_SYSTEM_NAME = PLANETOGRAPHIC
  COORDINATE_SYSTEM_TYPE = "BODY-FIXED ROTATING"
  EASTERNMOST_LONGITUDE = 274.999
  FIRST_STANDARD_PARALLEL = "N/A"
  LINE_FIRST_PIXEL = 1
  LINE_LAST_PIXEL = 1305
  LINE_PROJECTION_OFFSET = 646494.0
  MAP_PROJECTION_ROTATION = 0.0
  MAP_PROJECTION_TYPE = SINUSOIDAL
  MAP_RESOLUTION = 11854.9393024378
  MAP_SCALE = 0.005
  MAXIMUM_LATITUDE = 54.6113
  MINIMUM_LATITUDE = 54.5069
  POSITIVE_LONGITUDE_DIRECTION = EAST
  REFERENCE_LATITUDE = "N/A"
  REFERENCE_LONGITUDE = "N/A"
  SAMPLE_FIRST_PIXEL = 1
  SAMPLE_LAST_PIXEL = 1314
  SAMPLE_PROJECTION_OFFSET = 1320.0
  SECOND_STANDARD_PARALLEL = "N/A"
  WESTERNMOST_LONGITUDE = 274.817
END_OBJECT = IMAGE_MAP_PROJECTION
/* The JPEG2000 image data file associated with this label. */
OBJECT = COMPRESSED_FILE
  FILE_NAME = "H1550_0015_SR3.JP2"
  RECORD_TYPE = UNDEFINED
  FILE_RECORDS = UNK
  ENCODING_TYPE = "JP2"
  INTERCHANGE_FORMAT = BINARY
  UNCOMPRESSED_FILE_NAME = "H1550_0015_SR3.IMG"
  REQUIRED_STORAGE_BYTES = "1733166"
  ^DESCRIPTION = "JP2INFO.TXT"
END_OBJECT = COMPRESSED_FILE
END
