PDS_VERSION_ID = PDS3
/* FILE DATA ELEMENTS */
RECORD_TYPE = STREAM
/* POINTERS TO DATA OBJECTS */
^COMPRESSED_FILE = "H1550_0017_SR3.JP2"
/* IDENTIFICATION DATA ELEMENTS */
DATA_SET_ID = "MEX-M-HRSC-5-REFDR-MAPPROJECTED-V3.0"
DATA_SET_NAME = "MARS EXPRESS HRSC MAP PROJECTED REFDR V3.0"
DETECTOR_ID = MEX_HRSC_SRC
EVENT_TYPE = "MARS-LOCAL-STEREO-Vo-Te-Pf"
INSTRUMENT_HOST_ID = MEX
INSTRUMENT_HOST_NAME = "MARS EXPRESS"
INSTRUMENT_ID = HRSC
INSTRUMENT_NAME = "HIGH RESOLUTION STEREO CAMERA"
MISSION_NAME = "MARS EXPRESS"
MISSION_PHASE_NAME = MR_Phase_6
PROCESSING_LEVEL_ID = 3
PRODUCT_CREATION_TIME = 2016-03-08T06:50:01.000Z
PRODUCT_ID = "H1550_0017_SR3.JP2"
RELEASE_ID = 0020
REVISION_ID = 0000
/* QUALITY DATA ELEMENTS */
DATA_QUALITY_ID = 1
DATA_QUALITY_DESC = "Data calculated based on original SPICE kernels"
/* TIME DATA ELEMENTS */
SPACECRAFT_CLOCK_START_COUNT = "1/0060460791.56189"
SPACECRAFT_CLOCK_STOP_COUNT = "1/0060461497.02968"
IMAGE_TIME = 2005-04-01T18:49:44.953Z
START_TIME = 2005-04-01T18:49:44.950Z
STOP_TIME = 2005-04-01T18:49:44.955Z
/* ORBITAL DATA ELEMENTS */
ASCENDING_NODE_LONGITUDE = 196.0
MAXIMUM_RESOLUTION = 7.019
FOOTPRINT_POINT_LATITUDE = (47.1706,47.1671,47.1625,47.1571, 47.1506,47.1454,47.1414,47.1362,47.1318 ,47.1275,47.123,47.1198,47.1143,47.1104 ,47.1065,47.1001,47.0954,47.0916, 47.0863,47.0831,47.0786,47.0748,47.0687 ,47.0652,47.0598,47.0573,47.0571, 47.0569,47.0568,47.0566,47.0564,47.0563 ,47.0561,47.0559,47.0557,47.0556, 47.0554,47.0552,47.055,47.0549,47.0547, 47.0545,47.0543,47.0542,47.054,47.0538, 47.0536,47.0534,47.0533,47.0541,47.0581 ,47.0645,47.0687,47.0738,47.077,47.0821 ,47.0886,47.0936,47.0972,47.1004, 47.1035,47.1084,47.115,47.124,47.1298, 47.1362,47.1402,47.1439,47.1497,47.1563 ,47.1609,47.1647,47.1695,47.1725, 47.1727,47.1729,47.1731,47.1733,47.1734 ,47.1736,47.1738,47.174,47.1742,47.1743 ,47.1745,47.1747,47.1749,47.175,47.1752 ,47.1754,47.1756,47.1757,47.1759, 47.1761,47.1762,47.1764,47.1766,47.1768 ,47.1769,47.1706)
FOOTPRINT_POINT_LONGITUDE = (275.583,275.583,275.583,275.584, 275.584,275.584,275.584,275.585,275.585 ,275.585,275.585,275.586,275.586, 275.586,275.586,275.587,275.587,275.587 ,275.587,275.587,275.588,275.588, 275.588,275.588,275.589,275.582,275.575 ,275.568,275.561,275.554,275.547,275.54 ,275.533,275.526,275.519,275.512, 275.505,275.498,275.491,275.484,275.477 ,275.47,275.463,275.456,275.449,275.442 ,275.435,275.428,275.421,275.412, 275.411,275.411,275.411,275.41,275.41, 275.41,275.41,275.409,275.409,275.409, 275.409,275.408,275.408,275.408,275.407 ,275.407,275.407,275.406,275.406, 275.406,275.406,275.405,275.405,275.405 ,275.412,275.419,275.426,275.433,275.44 ,275.447,275.454,275.461,275.468, 275.475,275.482,275.489,275.496,275.503 ,275.51,275.517,275.524,275.531,275.538 ,275.545,275.552,275.559,275.566, 275.573,275.58,275.583)
ORBIT_NUMBER = 1550
ORBITAL_ECCENTRICITY = 0.566
ORBITAL_INCLINATION = 86.59
ORBITAL_SEMIMAJOR_AXIS = 8532.44
PERIAPSIS_ALTITUDE = 327.89
PERIAPSIS_ARGUMENT_ANGLE = 87.45
PERIAPSIS_TIME = 2005-04-01T18:37:20.000Z
SPACECRAFT_ORIENTATION = (0.0,1.0,0.0)
^MEX_ORIENTATION_DESC = "MEX_ORIENTATION_DESC.TXT"
SPACECRAFT_POINTING_MODE = ACROSSTRACK
^MEX_POINTING_DESC = "MEX_POINTING_DESC.TXT"
RIGHT_ASCENSION = -1e+32
DECLINATION = -1e+32
OFFSET_ANGLE = -0.1
SPACECRAFT_SOLAR_DISTANCE = 2.17507e+08
TARGET_NAME = MARS
/* CAMERA DATA ELEMENTS */
BUFFER_MODE_ID = DIRECT
EXPOSURE_DURATION = 5.04
INST_CMPRS_NAME = NONE
INST_CMPRS_RATIO = 1.0
INST_CMPRS_QUALITY = -2147483648
INST_CMPRS_QUANTZ_TBL_ID = -2147483648
INSTRUMENT_TEMPERATURE = 17.2727
MISSING_FRAMES = 0
START_BIT = 0
/* RADIOMETRIC DATA ELEMENTS */
BANDWIDTH = 250.0
CENTER_FILTER_WAVELENGTH = 600.0
RADIANCE_OFFSET = -9.99e+31
RADIANCE_SCALING_FACTOR = -9.99e+31
REFLECTANCE_SCALING_FACTOR = -9.99e+31
MEX:REFLECTANCE_OFFSET = -9.99e+31
/* IMAGE OBJECT DEFINITIONS */
OBJECT = IMAGE
  INTERCHANGE_FORMAT = BINARY
  LINES = 1531
  LINE_SAMPLES = 1553
  SAMPLE_TYPE = UNSIGNED_INTEGER
  SAMPLE_BITS = 8
  BANDS = 1
  BAND_STORAGE_TYPE = BAND_SEQUENTIAL
  MAXIMUM = 6566
  MEAN = 5795.94
  MINIMUM = 4988
  STANDARD_DEVIATION = 127.789
END_OBJECT = IMAGE
/* MAP OBJECT DEFINITIONS */
OBJECT = IMAGE_MAP_PROJECTION
  ^DATA_SET_MAP_PROJECTION_CATALOG= "DSMAP.CAT"
  A_AXIS_RADIUS = 3396.19
  B_AXIS_RADIUS = 3396.19
  C_AXIS_RADIUS = 3396.19
  CENTER_LATITUDE = 0.0
  CENTER_LONGITUDE = 275.0
  COORDINATE_SYSTEM_NAME = PLANETOGRAPHIC
  COORDINATE_SYSTEM_TYPE = "BODY-FIXED ROTATING"
  EASTERNMOST_LONGITUDE = 275.589
  FIRST_STANDARD_PARALLEL = "N/A"
  LINE_FIRST_PIXEL = 1
  LINE_LAST_PIXEL = 1531
  LINE_PROJECTION_OFFSET = 558671.0
  MAP_PROJECTION_ROTATION = 0.0
  MAP_PROJECTION_TYPE = SINUSOIDAL
  MAP_RESOLUTION = 11854.9393024378
  MAP_SCALE = 0.005
  MAXIMUM_LATITUDE = 47.1769
  MINIMUM_LATITUDE = 47.0533
  POSITIVE_LONGITUDE_DIRECTION = EAST
  REFERENCE_LATITUDE = "N/A"
  REFERENCE_LONGITUDE = "N/A"
  SAMPLE_FIRST_PIXEL = 1
  SAMPLE_LAST_PIXEL = 1553
  SAMPLE_PROJECTION_OFFSET = -3198.0
  SECOND_STANDARD_PARALLEL = "N/A"
  WESTERNMOST_LONGITUDE = 275.405
END_OBJECT = IMAGE_MAP_PROJECTION
/* The JPEG2000 image data file associated with this label. */
OBJECT = COMPRESSED_FILE
  FILE_NAME = "H1550_0017_SR3.JP2"
  RECORD_TYPE = UNDEFINED
  FILE_RECORDS = UNK
  ENCODING_TYPE = "JP2"
  INTERCHANGE_FORMAT = BINARY
  UNCOMPRESSED_FILE_NAME = "H1550_0017_SR3.IMG"
  REQUIRED_STORAGE_BYTES = "2396279"
  ^DESCRIPTION = "JP2INFO.TXT"
END_OBJECT = COMPRESSED_FILE
END
