PDS_VERSION_ID = PDS3
/* FILE DATA ELEMENTS */
RECORD_TYPE = STREAM
/* POINTERS TO DATA OBJECTS */
^COMPRESSED_FILE = "H1550_0021_SR3.JP2"
/* IDENTIFICATION DATA ELEMENTS */
DATA_SET_ID = "MEX-M-HRSC-5-REFDR-MAPPROJECTED-V3.0"
DATA_SET_NAME = "MARS EXPRESS HRSC MAP PROJECTED REFDR V3.0"
DETECTOR_ID = MEX_HRSC_SRC
EVENT_TYPE = "MARS-LOCAL-STEREO-Vo-Te-Pf"
INSTRUMENT_HOST_ID = MEX
INSTRUMENT_HOST_NAME = "MARS EXPRESS"
INSTRUMENT_ID = HRSC
INSTRUMENT_NAME = "HIGH RESOLUTION STEREO CAMERA"
MISSION_NAME = "MARS EXPRESS"
MISSION_PHASE_NAME = MR_Phase_6
PROCESSING_LEVEL_ID = 3
PRODUCT_CREATION_TIME = 2016-03-08T06:50:01.000Z
PRODUCT_ID = "H1550_0021_SR3.JP2"
RELEASE_ID = 0020
REVISION_ID = 0000
/* QUALITY DATA ELEMENTS */
DATA_QUALITY_ID = 1
DATA_QUALITY_DESC = "Data calculated based on original SPICE kernels"
/* TIME DATA ELEMENTS */
SPACECRAFT_CLOCK_START_COUNT = "1/0060460791.56189"
SPACECRAFT_CLOCK_STOP_COUNT = "1/0060461497.02968"
IMAGE_TIME = 2005-04-01T18:49:53.128Z
START_TIME = 2005-04-01T18:49:53.126Z
STOP_TIME = 2005-04-01T18:49:53.131Z
/* ORBITAL DATA ELEMENTS */
ASCENDING_NODE_LONGITUDE = 196.0
MAXIMUM_RESOLUTION = 7.101
FOOTPRINT_POINT_LATITUDE = (46.7486,46.7444,46.7396,46.732,46.7284 ,46.7218,46.7159,46.7113,46.7065,46.702 ,46.6983,46.6916,46.6872,46.6814, 46.6769,46.6732,46.6678,46.6644,46.6577 ,46.653,46.647,46.6428,46.6393,46.6357, 46.6314,46.6312,46.631,46.6309,46.6307, 46.6305,46.6304,46.6302,46.63,46.6298, 46.6297,46.6295,46.6293,46.6292,46.629, 46.6288,46.6287,46.6285,46.6283,46.6281 ,46.628,46.6278,46.6276,46.6274,46.6273 ,46.6271,46.6313,46.6346,46.64,46.6441, 46.6501,46.6579,46.663,46.6672,46.6733, 46.678,46.6839,46.6895,46.6945,46.6982, 46.7022,46.7072,46.711,46.7159,46.7213, 46.7283,46.7315,46.7351,46.7401,46.7458 ,46.7482,46.7484,46.7486,46.7487, 46.7489,46.7491,46.7493,46.7494,46.7496 ,46.7498,46.75,46.7501,46.7503,46.7505, 46.7506,46.7508,46.751,46.7511,46.7513, 46.7515,46.7516,46.7518,46.752,46.7521, 46.7523,46.7486)
FOOTPRINT_POINT_LONGITUDE = (275.605,275.606,275.606,275.606, 275.606,275.607,275.607,275.607,275.607 ,275.608,275.608,275.608,275.608, 275.609,275.609,275.609,275.609,275.61, 275.61,275.61,275.61,275.611,275.611, 275.611,275.609,275.602,275.595,275.588 ,275.581,275.574,275.567,275.56,275.553 ,275.546,275.539,275.532,275.525, 275.518,275.511,275.504,275.497,275.49, 275.483,275.476,275.469,275.462,275.455 ,275.448,275.441,275.434,275.433, 275.433,275.433,275.432,275.432,275.432 ,275.431,275.431,275.431,275.431,275.43 ,275.43,275.43,275.43,275.429,275.429, 275.429,275.429,275.428,275.428,275.428 ,275.428,275.427,275.427,275.436, 275.443,275.45,275.457,275.464,275.471, 275.478,275.485,275.492,275.499,275.506 ,275.513,275.52,275.527,275.534,275.541 ,275.548,275.555,275.562,275.569, 275.576,275.583,275.59,275.597,275.604, 275.605)
ORBIT_NUMBER = 1550
ORBITAL_ECCENTRICITY = 0.566
ORBITAL_INCLINATION = 86.59
ORBITAL_SEMIMAJOR_AXIS = 8532.44
PERIAPSIS_ALTITUDE = 327.89
PERIAPSIS_ARGUMENT_ANGLE = 87.45
PERIAPSIS_TIME = 2005-04-01T18:37:20.000Z
SPACECRAFT_ORIENTATION = (0.0,1.0,0.0)
^MEX_ORIENTATION_DESC = "MEX_ORIENTATION_DESC.TXT"
SPACECRAFT_POINTING_MODE = ACROSSTRACK
^MEX_POINTING_DESC = "MEX_POINTING_DESC.TXT"
RIGHT_ASCENSION = -1e+32
DECLINATION = -1e+32
OFFSET_ANGLE = -0.1
SPACECRAFT_SOLAR_DISTANCE = 2.17507e+08
TARGET_NAME = MARS
/* CAMERA DATA ELEMENTS */
BUFFER_MODE_ID = DIRECT
EXPOSURE_DURATION = 5.04
INST_CMPRS_NAME = NONE
INST_CMPRS_RATIO = 1.0
INST_CMPRS_QUALITY = -2147483648
INST_CMPRS_QUANTZ_TBL_ID = -2147483648
INSTRUMENT_TEMPERATURE = 17.2727
MISSING_FRAMES = 0
START_BIT = 0
/* RADIOMETRIC DATA ELEMENTS */
BANDWIDTH = 250.0
CENTER_FILTER_WAVELENGTH = 600.0
RADIANCE_OFFSET = -9.99e+31
RADIANCE_SCALING_FACTOR = -9.99e+31
REFLECTANCE_SCALING_FACTOR = -9.99e+31
MEX:REFLECTANCE_OFFSET = -9.99e+31
/* IMAGE OBJECT DEFINITIONS */
OBJECT = IMAGE
  INTERCHANGE_FORMAT = BINARY
  LINES = 1546
  LINE_SAMPLES = 1552
  SAMPLE_TYPE = UNSIGNED_INTEGER
  SAMPLE_BITS = 8
  BANDS = 1
  BAND_STORAGE_TYPE = BAND_SEQUENTIAL
  MAXIMUM = 6747
  MEAN = 6107.19
  MINIMUM = 5035
  STANDARD_DEVIATION = 135.817
END_OBJECT = IMAGE
/* MAP OBJECT DEFINITIONS */
OBJECT = IMAGE_MAP_PROJECTION
  ^DATA_SET_MAP_PROJECTION_CATALOG= "DSMAP.CAT"
  A_AXIS_RADIUS = 3396.19
  B_AXIS_RADIUS = 3396.19
  C_AXIS_RADIUS = 3396.19
  CENTER_LATITUDE = 0.0
  CENTER_LONGITUDE = 276.0
  COORDINATE_SYSTEM_NAME = PLANETOGRAPHIC
  COORDINATE_SYSTEM_TYPE = "BODY-FIXED ROTATING"
  EASTERNMOST_LONGITUDE = 275.611
  FIRST_STANDARD_PARALLEL = "N/A"
  LINE_FIRST_PIXEL = 1
  LINE_LAST_PIXEL = 1546
  LINE_PROJECTION_OFFSET = 553652.0
  MAP_PROJECTION_ROTATION = 0.0
  MAP_PROJECTION_TYPE = SINUSOIDAL
  MAP_RESOLUTION = 11854.9393024378
  MAP_SCALE = 0.005
  MAXIMUM_LATITUDE = 46.7523
  MINIMUM_LATITUDE = 46.6271
  POSITIVE_LONGITUDE_DIRECTION = EAST
  REFERENCE_LATITUDE = "N/A"
  REFERENCE_LONGITUDE = "N/A"
  SAMPLE_FIRST_PIXEL = 1
  SAMPLE_LAST_PIXEL = 1552
  SAMPLE_PROJECTION_OFFSET = 4695.0
  SECOND_STANDARD_PARALLEL = "N/A"
  WESTERNMOST_LONGITUDE = 275.427
END_OBJECT = IMAGE_MAP_PROJECTION
/* The JPEG2000 image data file associated with this label. */
OBJECT = COMPRESSED_FILE
  FILE_NAME = "H1550_0021_SR3.JP2"
  RECORD_TYPE = UNDEFINED
  FILE_RECORDS = UNK
  ENCODING_TYPE = "JP2"
  INTERCHANGE_FORMAT = BINARY
  UNCOMPRESSED_FILE_NAME = "H1550_0021_SR3.IMG"
  REQUIRED_STORAGE_BYTES = "2418016"
  ^DESCRIPTION = "JP2INFO.TXT"
END_OBJECT = COMPRESSED_FILE
END
