PDS_VERSION_ID = PDS3
/* FILE DATA ELEMENTS */
RECORD_TYPE = STREAM
/* POINTERS TO DATA OBJECTS */
^COMPRESSED_FILE = "H1550_0025_SR3.JP2"
/* IDENTIFICATION DATA ELEMENTS */
DATA_SET_ID = "MEX-M-HRSC-5-REFDR-MAPPROJECTED-V3.0"
DATA_SET_NAME = "MARS EXPRESS HRSC MAP PROJECTED REFDR V3.0"
DETECTOR_ID = MEX_HRSC_SRC
EVENT_TYPE = "MARS-LOCAL-STEREO-Vo-Te-Pf"
INSTRUMENT_HOST_ID = MEX
INSTRUMENT_HOST_NAME = "MARS EXPRESS"
INSTRUMENT_ID = HRSC
INSTRUMENT_NAME = "HIGH RESOLUTION STEREO CAMERA"
MISSION_NAME = "MARS EXPRESS"
MISSION_PHASE_NAME = MR_Phase_6
PROCESSING_LEVEL_ID = 3
PRODUCT_CREATION_TIME = 2016-03-08T06:50:01.000Z
PRODUCT_ID = "H1550_0025_SR3.JP2"
RELEASE_ID = 0020
REVISION_ID = 0000
/* QUALITY DATA ELEMENTS */
DATA_QUALITY_ID = 1
DATA_QUALITY_DESC = "Data calculated based on original SPICE kernels"
/* TIME DATA ELEMENTS */
SPACECRAFT_CLOCK_START_COUNT = "1/0060460791.56189"
SPACECRAFT_CLOCK_STOP_COUNT = "1/0060461497.02968"
IMAGE_TIME = 2005-04-01T18:50:01.848Z
START_TIME = 2005-04-01T18:50:01.846Z
STOP_TIME = 2005-04-01T18:50:01.851Z
/* ORBITAL DATA ELEMENTS */
ASCENDING_NODE_LONGITUDE = 196.0
MAXIMUM_RESOLUTION = 7.189
FOOTPRINT_POINT_LATITUDE = (46.2988,46.2938,46.2886,46.2849, 46.2799,46.2733,46.2679,46.2632,46.2596 ,46.2539,46.2498,46.2424,46.2363, 46.2324,46.2269,46.2195,46.2147,46.2102 ,46.2064,46.2006,46.1968,46.1922, 46.1863,46.1824,46.1789,46.1788,46.1786 ,46.1784,46.1783,46.1781,46.1779, 46.1778,46.1776,46.1775,46.1773,46.1771 ,46.177,46.1768,46.1766,46.1765,46.1763 ,46.1761,46.176,46.1758,46.1756,46.1754 ,46.1753,46.1751,46.1749,46.1748, 46.1785,46.1839,46.1895,46.1934,46.1972 ,46.2027,46.2061,46.2117,46.2151, 46.2203,46.2264,46.234,46.2384,46.2424, 46.2459,46.2506,46.2569,46.2608,46.2647 ,46.2703,46.2742,46.2789,46.2841, 46.2913,46.2971,46.2973,46.2975,46.2976 ,46.2978,46.298,46.2982,46.2983,46.2985 ,46.2987,46.2988,46.299,46.2992,46.2993 ,46.2995,46.2997,46.2998,46.3,46.3001, 46.3003,46.3005,46.3006,46.3008,46.301, 46.3011,46.2988)
FOOTPRINT_POINT_LONGITUDE = (275.628,275.629,275.629,275.629, 275.629,275.629,275.63,275.63,275.63, 275.63,275.631,275.631,275.631,275.631, 275.632,275.632,275.632,275.633,275.633 ,275.633,275.633,275.633,275.634, 275.634,275.634,275.627,275.62,275.613, 275.606,275.599,275.592,275.585,275.578 ,275.571,275.564,275.557,275.55,275.543 ,275.535,275.528,275.521,275.514, 275.507,275.5,275.493,275.486,275.479, 275.472,275.465,275.458,275.455,275.455 ,275.455,275.454,275.454,275.454, 275.454,275.454,275.453,275.453,275.453 ,275.452,275.452,275.452,275.452, 275.452,275.451,275.451,275.451,275.451 ,275.45,275.45,275.45,275.449,275.449, 275.456,275.463,275.47,275.478,275.485, 275.492,275.499,275.506,275.513,275.52, 275.527,275.534,275.541,275.548,275.555 ,275.562,275.569,275.576,275.583,275.59 ,275.597,275.604,275.611,275.618, 275.628)
ORBIT_NUMBER = 1550
ORBITAL_ECCENTRICITY = 0.566
ORBITAL_INCLINATION = 86.59
ORBITAL_SEMIMAJOR_AXIS = 8532.44
PERIAPSIS_ALTITUDE = 327.89
PERIAPSIS_ARGUMENT_ANGLE = 87.45
PERIAPSIS_TIME = 2005-04-01T18:37:20.000Z
SPACECRAFT_ORIENTATION = (0.0,1.0,0.0)
^MEX_ORIENTATION_DESC = "MEX_ORIENTATION_DESC.TXT"
SPACECRAFT_POINTING_MODE = ACROSSTRACK
^MEX_POINTING_DESC = "MEX_POINTING_DESC.TXT"
RIGHT_ASCENSION = -1e+32
DECLINATION = -1e+32
OFFSET_ANGLE = -0.1
SPACECRAFT_SOLAR_DISTANCE = 2.17507e+08
TARGET_NAME = MARS
/* CAMERA DATA ELEMENTS */
BUFFER_MODE_ID = DIRECT
EXPOSURE_DURATION = 5.04
INST_CMPRS_NAME = NONE
INST_CMPRS_RATIO = 1.0
INST_CMPRS_QUALITY = -2147483648
INST_CMPRS_QUANTZ_TBL_ID = -2147483648
INSTRUMENT_TEMPERATURE = 17.2727
MISSING_FRAMES = 0
START_BIT = 0
/* RADIOMETRIC DATA ELEMENTS */
BANDWIDTH = 250.0
CENTER_FILTER_WAVELENGTH = 600.0
RADIANCE_OFFSET = -9.99e+31
RADIANCE_SCALING_FACTOR = -9.99e+31
REFLECTANCE_SCALING_FACTOR = -9.99e+31
MEX:REFLECTANCE_OFFSET = -9.99e+31
/* IMAGE OBJECT DEFINITIONS */
OBJECT = IMAGE
  INTERCHANGE_FORMAT = BINARY
  LINES = 1562
  LINE_SAMPLES = 1568
  SAMPLE_TYPE = UNSIGNED_INTEGER
  SAMPLE_BITS = 8
  BANDS = 1
  BAND_STORAGE_TYPE = BAND_SEQUENTIAL
  MAXIMUM = 6988
  MEAN = 6355.08
  MINIMUM = 5335
  STANDARD_DEVIATION = 157.033
END_OBJECT = IMAGE
/* MAP OBJECT DEFINITIONS */
OBJECT = IMAGE_MAP_PROJECTION
  ^DATA_SET_MAP_PROJECTION_CATALOG= "DSMAP.CAT"
  A_AXIS_RADIUS = 3396.19
  B_AXIS_RADIUS = 3396.19
  C_AXIS_RADIUS = 3396.19
  CENTER_LATITUDE = 0.0
  CENTER_LONGITUDE = 276.0
  COORDINATE_SYSTEM_NAME = PLANETOGRAPHIC
  COORDINATE_SYSTEM_TYPE = "BODY-FIXED ROTATING"
  EASTERNMOST_LONGITUDE = 275.634
  FIRST_STANDARD_PARALLEL = "N/A"
  LINE_FIRST_PIXEL = 1
  LINE_LAST_PIXEL = 1562
  LINE_PROJECTION_OFFSET = 548322.0
  MAP_PROJECTION_ROTATION = 0.0
  MAP_PROJECTION_TYPE = SINUSOIDAL
  MAP_RESOLUTION = 11854.9393024378
  MAP_SCALE = 0.005
  MAXIMUM_LATITUDE = 46.3011
  MINIMUM_LATITUDE = 46.1748
  POSITIVE_LONGITUDE_DIRECTION = EAST
  REFERENCE_LATITUDE = "N/A"
  REFERENCE_LONGITUDE = "N/A"
  SAMPLE_FIRST_PIXEL = 1
  SAMPLE_LAST_PIXEL = 1568
  SAMPLE_PROJECTION_OFFSET = 4551.0
  SECOND_STANDARD_PARALLEL = "N/A"
  WESTERNMOST_LONGITUDE = 275.449
END_OBJECT = IMAGE_MAP_PROJECTION
/* The JPEG2000 image data file associated with this label. */
OBJECT = COMPRESSED_FILE
  FILE_NAME = "H1550_0025_SR3.JP2"
  RECORD_TYPE = UNDEFINED
  FILE_RECORDS = UNK
  ENCODING_TYPE = "JP2"
  INTERCHANGE_FORMAT = BINARY
  UNCOMPRESSED_FILE_NAME = "H1550_0025_SR3.IMG"
  REQUIRED_STORAGE_BYTES = "2468032"
  ^DESCRIPTION = "JP2INFO.TXT"
END_OBJECT = COMPRESSED_FILE
END
