PDS_VERSION_ID = PDS3
/* FILE DATA ELEMENTS */
RECORD_TYPE = STREAM
/* POINTERS TO DATA OBJECTS */
^COMPRESSED_FILE = "H1550_0040_SR3.JP2"
/* IDENTIFICATION DATA ELEMENTS */
DATA_SET_ID = "MEX-M-HRSC-5-REFDR-MAPPROJECTED-V3.0"
DATA_SET_NAME = "MARS EXPRESS HRSC MAP PROJECTED REFDR V3.0"
DETECTOR_ID = MEX_HRSC_SRC
EVENT_TYPE = "MARS-LOCAL-STEREO-Vo-Te-Pf"
INSTRUMENT_HOST_ID = MEX
INSTRUMENT_HOST_NAME = "MARS EXPRESS"
INSTRUMENT_ID = HRSC
INSTRUMENT_NAME = "HIGH RESOLUTION STEREO CAMERA"
MISSION_NAME = "MARS EXPRESS"
MISSION_PHASE_NAME = MR_Phase_6
PROCESSING_LEVEL_ID = 3
PRODUCT_CREATION_TIME = 2016-03-08T06:50:01.000Z
PRODUCT_ID = "H1550_0040_SR3.JP2"
RELEASE_ID = 0020
REVISION_ID = 0000
/* QUALITY DATA ELEMENTS */
DATA_QUALITY_ID = 1
DATA_QUALITY_DESC = "Data calculated based on original SPICE kernels"
/* TIME DATA ELEMENTS */
SPACECRAFT_CLOCK_START_COUNT = "1/0060460791.56189"
SPACECRAFT_CLOCK_STOP_COUNT = "1/0060461497.02968"
IMAGE_TIME = 2005-04-01T18:50:48.721Z
START_TIME = 2005-04-01T18:50:48.718Z
STOP_TIME = 2005-04-01T18:50:48.723Z
/* ORBITAL DATA ELEMENTS */
ASCENDING_NODE_LONGITUDE = 196.0
MAXIMUM_RESOLUTION = 7.64
FOOTPRINT_POINT_LATITUDE = (43.9119,43.9084,43.9036,43.8963, 43.8929,43.8896,43.8841,43.88,43.8741, 43.8699,43.8649,43.8576,43.8526,43.8467 ,43.8413,43.8372,43.8289,43.8221, 43.8177,43.8113,43.8057,43.7991,43.794, 43.7859,43.7819,43.7818,43.7816,43.7815 ,43.7814,43.7812,43.7811,43.781,43.7809 ,43.7807,43.7806,43.7805,43.7803, 43.7802,43.7801,43.7799,43.7798,43.7796 ,43.7795,43.7794,43.7792,43.7791, 43.7789,43.7788,43.7787,43.7785,43.7848 ,43.7901,43.7936,43.7977,43.8026, 43.8061,43.8098,43.8154,43.8223,43.8308 ,43.835,43.8416,43.8473,43.8525,43.8573 ,43.8619,43.8679,43.8714,43.875,43.8803 ,43.8866,43.8911,43.8965,43.9029, 43.9069,43.9087,43.9089,43.909,43.9092, 43.9093,43.9095,43.9096,43.9097,43.9099 ,43.91,43.9102,43.9103,43.9104,43.9106, 43.9107,43.9108,43.911,43.9111,43.9111, 43.9112,43.9114,43.9115,43.9116,43.9118 ,43.9119)
FOOTPRINT_POINT_LONGITUDE = (275.732,275.732,275.733,275.733, 275.733,275.733,275.733,275.733,275.734 ,275.734,275.734,275.734,275.734, 275.735,275.735,275.735,275.735,275.735 ,275.736,275.736,275.736,275.736, 275.736,275.737,275.737,275.729,275.722 ,275.715,275.708,275.701,275.694, 275.687,275.679,275.672,275.665,275.658 ,275.651,275.644,275.636,275.629, 275.622,275.615,275.608,275.601,275.593 ,275.586,275.579,275.572,275.565, 275.556,275.555,275.554,275.554,275.554 ,275.554,275.554,275.554,275.553, 275.553,275.553,275.553,275.552,275.552 ,275.552,275.552,275.552,275.551, 275.551,275.551,275.551,275.551,275.55, 275.55,275.55,275.55,275.559,275.566, 275.573,275.58,275.588,275.595,275.602, 275.609,275.616,275.623,275.631,275.638 ,275.645,275.652,275.659,275.667, 275.674,275.681,275.69,275.697,275.704, 275.711,275.719,275.726,275.732)
ORBIT_NUMBER = 1550
ORBITAL_ECCENTRICITY = 0.566
ORBITAL_INCLINATION = 86.59
ORBITAL_SEMIMAJOR_AXIS = 8532.44
PERIAPSIS_ALTITUDE = 327.89
PERIAPSIS_ARGUMENT_ANGLE = 87.45
PERIAPSIS_TIME = 2005-04-01T18:37:20.000Z
SPACECRAFT_ORIENTATION = (0.0,1.0,0.0)
^MEX_ORIENTATION_DESC = "MEX_ORIENTATION_DESC.TXT"
SPACECRAFT_POINTING_MODE = ACROSSTRACK
^MEX_POINTING_DESC = "MEX_POINTING_DESC.TXT"
RIGHT_ASCENSION = -1e+32
DECLINATION = -1e+32
OFFSET_ANGLE = -0.1
SPACECRAFT_SOLAR_DISTANCE = 2.17507e+08
TARGET_NAME = MARS
/* CAMERA DATA ELEMENTS */
BUFFER_MODE_ID = DIRECT
EXPOSURE_DURATION = 5.04
INST_CMPRS_NAME = NONE
INST_CMPRS_RATIO = 1.0
INST_CMPRS_QUALITY = -2147483648
INST_CMPRS_QUANTZ_TBL_ID = -2147483648
INSTRUMENT_TEMPERATURE = 17.2727
MISSING_FRAMES = 0
START_BIT = 0
/* RADIOMETRIC DATA ELEMENTS */
BANDWIDTH = 250.0
CENTER_FILTER_WAVELENGTH = 600.0
RADIANCE_OFFSET = -9.99e+31
RADIANCE_SCALING_FACTOR = -9.99e+31
REFLECTANCE_SCALING_FACTOR = -9.99e+31
MEX:REFLECTANCE_OFFSET = -9.99e+31
/* IMAGE OBJECT DEFINITIONS */
OBJECT = IMAGE
  INTERCHANGE_FORMAT = BINARY
  LINES = 842
  LINE_SAMPLES = 846
  SAMPLE_TYPE = UNSIGNED_INTEGER
  SAMPLE_BITS = 8
  BANDS = 1
  BAND_STORAGE_TYPE = BAND_SEQUENTIAL
  MAXIMUM = 8129
  MEAN = 6688.2
  MINIMUM = 4972
  STANDARD_DEVIATION = 295.414
END_OBJECT = IMAGE
/* MAP OBJECT DEFINITIONS */
OBJECT = IMAGE_MAP_PROJECTION
  ^DATA_SET_MAP_PROJECTION_CATALOG= "DSMAP.CAT"
  A_AXIS_RADIUS = 3396.19
  B_AXIS_RADIUS = 3396.19
  C_AXIS_RADIUS = 3396.19
  CENTER_LATITUDE = 0.0
  CENTER_LONGITUDE = 276.0
  COORDINATE_SYSTEM_NAME = PLANETOGRAPHIC
  COORDINATE_SYSTEM_TYPE = "BODY-FIXED ROTATING"
  EASTERNMOST_LONGITUDE = 275.737
  FIRST_STANDARD_PARALLEL = "N/A"
  LINE_FIRST_PIXEL = 1
  LINE_LAST_PIXEL = 842
  LINE_PROJECTION_OFFSET = 260051.0
  MAP_PROJECTION_ROTATION = 0.0
  MAP_PROJECTION_TYPE = SINUSOIDAL
  MAP_RESOLUTION = 5927.46965121889
  MAP_SCALE = 0.01
  MAXIMUM_LATITUDE = 43.9119
  MINIMUM_LATITUDE = 43.7785
  POSITIVE_LONGITUDE_DIRECTION = EAST
  REFERENCE_LATITUDE = "N/A"
  REFERENCE_LONGITUDE = "N/A"
  SAMPLE_FIRST_PIXEL = 1
  SAMPLE_LAST_PIXEL = 846
  SAMPLE_PROJECTION_OFFSET = 1952.0
  SECOND_STANDARD_PARALLEL = "N/A"
  WESTERNMOST_LONGITUDE = 275.55
END_OBJECT = IMAGE_MAP_PROJECTION
/* The JPEG2000 image data file associated with this label. */
OBJECT = COMPRESSED_FILE
  FILE_NAME = "H1550_0040_SR3.JP2"
  RECORD_TYPE = UNDEFINED
  FILE_RECORDS = UNK
  ENCODING_TYPE = "JP2"
  INTERCHANGE_FORMAT = BINARY
  UNCOMPRESSED_FILE_NAME = "H1550_0040_SR3.IMG"
  REQUIRED_STORAGE_BYTES = "730098"
  ^DESCRIPTION = "JP2INFO.TXT"
END_OBJECT = COMPRESSED_FILE
END
