PDS_VERSION_ID = PDS3
/* FILE DATA ELEMENTS */
RECORD_TYPE = STREAM
/* POINTERS TO DATA OBJECTS */
^COMPRESSED_FILE = "H1550_0041_SR3.JP2"
/* IDENTIFICATION DATA ELEMENTS */
DATA_SET_ID = "MEX-M-HRSC-5-REFDR-MAPPROJECTED-V3.0"
DATA_SET_NAME = "MARS EXPRESS HRSC MAP PROJECTED REFDR V3.0"
DETECTOR_ID = MEX_HRSC_SRC
EVENT_TYPE = "MARS-LOCAL-STEREO-Vo-Te-Pf"
INSTRUMENT_HOST_ID = MEX
INSTRUMENT_HOST_NAME = "MARS EXPRESS"
INSTRUMENT_ID = HRSC
INSTRUMENT_NAME = "HIGH RESOLUTION STEREO CAMERA"
MISSION_NAME = "MARS EXPRESS"
MISSION_PHASE_NAME = MR_Phase_6
PROCESSING_LEVEL_ID = 3
PRODUCT_CREATION_TIME = 2016-03-08T06:50:01.000Z
PRODUCT_ID = "H1550_0041_SR3.JP2"
RELEASE_ID = 0020
REVISION_ID = 0000
/* QUALITY DATA ELEMENTS */
DATA_QUALITY_ID = 1
DATA_QUALITY_DESC = "Data calculated based on original SPICE kernels"
/* TIME DATA ELEMENTS */
SPACECRAFT_CLOCK_START_COUNT = "1/0060460791.56189"
SPACECRAFT_CLOCK_STOP_COUNT = "1/0060461497.02968"
IMAGE_TIME = 2005-04-01T18:50:50.901Z
START_TIME = 2005-04-01T18:50:50.898Z
STOP_TIME = 2005-04-01T18:50:50.903Z
/* ORBITAL DATA ELEMENTS */
ASCENDING_NODE_LONGITUDE = 196.0
MAXIMUM_RESOLUTION = 7.664
FOOTPRINT_POINT_LATITUDE = (43.7952,43.791,43.7865,43.7801,43.7761 ,43.7721,43.7682,43.7625,43.758,43.7545 ,43.7495,43.7438,43.7369,43.7319, 43.7278,43.7242,43.7162,43.709,43.7029, 43.6993,43.6945,43.691,43.6835,43.6787, 43.6719,43.6718,43.6717,43.6716,43.6714 ,43.6713,43.6712,43.671,43.6708,43.6707 ,43.6706,43.6704,43.6703,43.6702,43.67, 43.6699,43.6697,43.6696,43.6695,43.6693 ,43.6692,43.6691,43.6689,43.6688, 43.6686,43.6702,43.6749,43.679,43.6833, 43.6903,43.6954,43.7002,43.706,43.7101, 43.7162,43.7221,43.7267,43.7338,43.7389 ,43.7435,43.7498,43.7545,43.758,43.7642 ,43.7715,43.7767,43.7834,43.7886, 43.7941,43.7991,43.7992,43.7993,43.7995 ,43.7996,43.7998,43.7999,43.8,43.8002, 43.8003,43.8004,43.8006,43.8007,43.8009 ,43.801,43.8011,43.8013,43.8014,43.8013 ,43.8015,43.8016,43.8017,43.8019,43.802 ,43.8021,43.8023,43.7952)
FOOTPRINT_POINT_LONGITUDE = (275.737,275.737,275.737,275.737, 275.737,275.737,275.737,275.738,275.738 ,275.738,275.738,275.738,275.738, 275.739,275.739,275.739,275.739,275.739 ,275.74,275.74,275.74,275.74,275.74, 275.741,275.741,275.733,275.726,275.719 ,275.712,275.705,275.698,275.69,275.68, 275.672,275.665,275.658,275.651,275.644 ,275.637,275.629,275.622,275.615, 275.608,275.601,275.593,275.586,275.579 ,275.572,275.565,275.558,275.558, 275.558,275.558,275.557,275.557,275.557 ,275.557,275.557,275.556,275.556, 275.556,275.556,275.556,275.555,275.555 ,275.555,275.555,275.555,275.554, 275.554,275.554,275.554,275.554,275.557 ,275.565,275.572,275.579,275.586, 275.593,275.6,275.608,275.615,275.622, 275.629,275.636,275.644,275.651,275.658 ,275.665,275.672,275.679,275.685, 275.692,275.699,275.707,275.714,275.721 ,275.728,275.735,275.737)
ORBIT_NUMBER = 1550
ORBITAL_ECCENTRICITY = 0.566
ORBITAL_INCLINATION = 86.59
ORBITAL_SEMIMAJOR_AXIS = 8532.44
PERIAPSIS_ALTITUDE = 327.89
PERIAPSIS_ARGUMENT_ANGLE = 87.45
PERIAPSIS_TIME = 2005-04-01T18:37:20.000Z
SPACECRAFT_ORIENTATION = (0.0,1.0,0.0)
^MEX_ORIENTATION_DESC = "MEX_ORIENTATION_DESC.TXT"
SPACECRAFT_POINTING_MODE = ACROSSTRACK
^MEX_POINTING_DESC = "MEX_POINTING_DESC.TXT"
RIGHT_ASCENSION = -1e+32
DECLINATION = -1e+32
OFFSET_ANGLE = -0.1
SPACECRAFT_SOLAR_DISTANCE = 2.17507e+08
TARGET_NAME = MARS
/* CAMERA DATA ELEMENTS */
BUFFER_MODE_ID = DIRECT
EXPOSURE_DURATION = 5.04
INST_CMPRS_NAME = NONE
INST_CMPRS_RATIO = 1.0
INST_CMPRS_QUALITY = -2147483648
INST_CMPRS_QUANTZ_TBL_ID = -2147483648
INSTRUMENT_TEMPERATURE = 17.2727
MISSING_FRAMES = 0
START_BIT = 0
/* RADIOMETRIC DATA ELEMENTS */
BANDWIDTH = 250.0
CENTER_FILTER_WAVELENGTH = 600.0
RADIANCE_OFFSET = -9.99e+31
RADIANCE_SCALING_FACTOR = -9.99e+31
REFLECTANCE_SCALING_FACTOR = -9.99e+31
MEX:REFLECTANCE_OFFSET = -9.99e+31
/* IMAGE OBJECT DEFINITIONS */
OBJECT = IMAGE
  INTERCHANGE_FORMAT = BINARY
  LINES = 844
  LINE_SAMPLES = 849
  SAMPLE_TYPE = UNSIGNED_INTEGER
  SAMPLE_BITS = 8
  BANDS = 1
  BAND_STORAGE_TYPE = BAND_SEQUENTIAL
  MAXIMUM = 8171
  MEAN = 6623.08
  MINIMUM = 5179
  STANDARD_DEVIATION = 201.45
END_OBJECT = IMAGE
/* MAP OBJECT DEFINITIONS */
OBJECT = IMAGE_MAP_PROJECTION
  ^DATA_SET_MAP_PROJECTION_CATALOG= "DSMAP.CAT"
  A_AXIS_RADIUS = 3396.19
  B_AXIS_RADIUS = 3396.19
  C_AXIS_RADIUS = 3396.19
  CENTER_LATITUDE = 0.0
  CENTER_LONGITUDE = 276.0
  COORDINATE_SYSTEM_NAME = PLANETOGRAPHIC
  COORDINATE_SYSTEM_TYPE = "BODY-FIXED ROTATING"
  EASTERNMOST_LONGITUDE = 275.741
  FIRST_STANDARD_PARALLEL = "N/A"
  LINE_FIRST_PIXEL = 1
  LINE_LAST_PIXEL = 844
  LINE_PROJECTION_OFFSET = 259403.0
  MAP_PROJECTION_ROTATION = 0.0
  MAP_PROJECTION_TYPE = SINUSOIDAL
  MAP_RESOLUTION = 5927.46965121889
  MAP_SCALE = 0.01
  MAXIMUM_LATITUDE = 43.8023
  MINIMUM_LATITUDE = 43.6686
  POSITIVE_LONGITUDE_DIRECTION = EAST
  REFERENCE_LATITUDE = "N/A"
  REFERENCE_LONGITUDE = "N/A"
  SAMPLE_FIRST_PIXEL = 1
  SAMPLE_LAST_PIXEL = 849
  SAMPLE_PROJECTION_OFFSET = 1940.0
  SECOND_STANDARD_PARALLEL = "N/A"
  WESTERNMOST_LONGITUDE = 275.554
END_OBJECT = IMAGE_MAP_PROJECTION
/* The JPEG2000 image data file associated with this label. */
OBJECT = COMPRESSED_FILE
  FILE_NAME = "H1550_0041_SR3.JP2"
  RECORD_TYPE = UNDEFINED
  FILE_RECORDS = UNK
  ENCODING_TYPE = "JP2"
  INTERCHANGE_FORMAT = BINARY
  UNCOMPRESSED_FILE_NAME = "H1550_0041_SR3.IMG"
  REQUIRED_STORAGE_BYTES = "734385"
  ^DESCRIPTION = "JP2INFO.TXT"
END_OBJECT = COMPRESSED_FILE
END
