PDS_VERSION_ID = PDS3
/* FILE DATA ELEMENTS */
RECORD_TYPE = STREAM
/* POINTERS TO DATA OBJECTS */
^COMPRESSED_FILE = "H1562_0000_BL3.JP2"
/* IDENTIFICATION DATA ELEMENTS */
DATA_SET_ID = "MEX-M-HRSC-5-REFDR-MAPPROJECTED-V3.0"
DATA_SET_NAME = "MARS EXPRESS HRSC MAP PROJECTED REFDR V3.0"
DETECTOR_ID = MEX_HRSC_BLUE
EVENT_TYPE = "MARS-REGIONAL-MAPPING-Im-Pf-Eo"
INSTRUMENT_HOST_ID = MEX
INSTRUMENT_HOST_NAME = "MARS EXPRESS"
INSTRUMENT_ID = HRSC
INSTRUMENT_NAME = "HIGH RESOLUTION STEREO CAMERA"
MISSION_NAME = "MARS EXPRESS"
MISSION_PHASE_NAME = MR_Phase_6
PROCESSING_LEVEL_ID = 3
PRODUCT_CREATION_TIME = 2016-03-08T06:50:01.000Z
PRODUCT_ID = "H1562_0000_BL3.JP2"
RELEASE_ID = 0020
REVISION_ID = 0000
/* QUALITY DATA ELEMENTS */
DATA_QUALITY_ID = 1
DATA_QUALITY_DESC = "Data calculated based on original SPICE kernels"
/* TIME DATA ELEMENTS */
SPACECRAFT_CLOCK_START_COUNT = "1/0060751268.57963"
SPACECRAFT_CLOCK_STOP_COUNT = "1/0060751935.16096"
START_TIME = 2005-04-05T03:21:46.054Z
STOP_TIME = 2005-04-05T03:30:11.906Z
/* ORBITAL DATA ELEMENTS */
ASCENDING_NODE_LONGITUDE = 195.74
MAXIMUM_RESOLUTION = 63.3
FOOTPRINT_POINT_LATITUDE = (76.0756,76.38,75.8218,75.3903,74.9508, 74.5065,74.0618,73.3799,72.9236,72.2242 ,71.7556,71.2783,70.5583,69.9992, 69.2568,68.7564,68.2477,67.4768,66.9561 ,66.4273,65.895,65.3546,64.8075,64.2551 ,63.696,63.1284,62.5542,61.9734,61.3855 ,60.79,60.1855,59.5725,58.9513,58.322, 57.6836,57.0354,56.3776,55.7105,55.0339 ,54.3476,53.6493,52.9409,52.2212, 51.4892,50.7456,49.9905,49.2216,48.4397 ,47.6443,47.1096,47.042,47.0054,46.9642 ,47.3313,48.1232,48.9017,49.666,50.4182 ,51.1591,51.8864,52.6037,53.3083, 54.0033,54.6873,55.361,56.0245,56.6782, 57.3232,57.9585,58.585,59.2025,59.8116, 60.4121,61.0042,61.5887,62.166,62.7367, 63.3002,63.8544,64.4027,64.9458,65.4808 ,66.0088,66.5331,67.0478,67.8108, 68.3144,68.8083,69.5414,70.0923,70.8022 ,71.2733,71.7337,72.4211,72.8689, 73.5369,73.9709,74.4044,75.2537, 76.0756)
FOOTPRINT_POINT_LONGITUDE = (158.765,161.991,164.279,164.819, 165.333,165.822,166.283,166.939,167.349 ,167.927,168.288,168.638,169.13,169.487 ,169.928,170.207,170.477,170.86,171.104 ,171.339,171.565,171.783,171.993, 172.196,172.392,172.581,172.764,172.94, 173.111,173.276,173.436,173.59,173.74, 173.885,174.025,174.161,174.293,174.421 ,174.545,174.665,174.782,174.894, 175.004,175.11,175.212,175.312,175.408, 175.502,175.593,174.855,173.358,172.695 ,172.027,171.465,171.397,171.324, 171.244,171.161,171.072,170.977,170.877 ,170.772,170.662,170.546,170.427, 170.298,170.163,170.024,169.876,169.724 ,169.565,169.4,169.227,169.048,168.861, 168.666,168.463,168.25,168.031,167.802, 167.563,167.315,167.056,166.785,166.505 ,166.061,165.747,165.423,164.907, 164.492,163.914,163.507,163.084,162.405 ,161.929,161.154,160.613,160.042, 158.812,158.765)
ORBIT_NUMBER = 1562
ORBITAL_ECCENTRICITY = 0.566
ORBITAL_INCLINATION = 86.59
ORBITAL_SEMIMAJOR_AXIS = 8533.38
PERIAPSIS_ALTITUDE = 328.28
PERIAPSIS_ARGUMENT_ANGLE = 85.31
PERIAPSIS_TIME = 2005-04-05T03:17:23.000Z
SPACECRAFT_ORIENTATION = (0.0,1.0,0.0)
^MEX_ORIENTATION_DESC = "MEX_ORIENTATION_DESC.TXT"
SPACECRAFT_POINTING_MODE = ACROSSTRACK
^MEX_POINTING_DESC = "MEX_POINTING_DESC.TXT"
RIGHT_ASCENSION = -1e+32
DECLINATION = -1e+32
OFFSET_ANGLE = -1.47
SPACECRAFT_SOLAR_DISTANCE = 2.16913e+08
TARGET_NAME = MARS
/* CAMERA DATA ELEMENTS */
DETECTOR_TEMPERATURE = 19.1861
FOCAL_PLANE_TEMPERATURE = 8.3794
INST_CMPRS_NAME = "DISCRETE COSINE TRANSFORMATION (DCT)"
INST_CMPRS_RATIO = 7.69714
INST_CMPRS_QUALITY = 0
INST_CMPRS_QUANTZ_TBL_ID = 0
INSTRUMENT_TEMPERATURE = 11.4379
LENS_TEMPERATURE = 8.5833
MACROPIXEL_SIZE = 4
MISSING_FRAMES = 36
PIXEL_SUBSAMPLING_FLAG = N
SIGNAL_CHAIN_ID = 2
/* RADIOMETRIC DATA ELEMENTS */
BANDWIDTH = 76.0
CENTER_FILTER_WAVELENGTH = 444.0
RADIANCE_OFFSET = 0.293913
RADIANCE_SCALING_FACTOR = 0.00259975
REFLECTANCE_SCALING_FACTOR = 0.000125678
MEX:REFLECTANCE_OFFSET = 0.0142084
/* IMAGE OBJECT DEFINITIONS */
OBJECT = IMAGE
  INTERCHANGE_FORMAT = BINARY
  LINES = 34995
  LINE_SAMPLES = 8092
  SAMPLE_TYPE = UNSIGNED_INTEGER
  SAMPLE_BITS = 8
  BANDS = 1
  BAND_STORAGE_TYPE = BAND_SEQUENTIAL
  MAXIMUM = 296
  MEAN = 184.969
  MINIMUM = 86
  STANDARD_DEVIATION = 87.026
END_OBJECT = IMAGE
/* MAP OBJECT DEFINITIONS */
OBJECT = IMAGE_MAP_PROJECTION
  ^DATA_SET_MAP_PROJECTION_CATALOG= "DSMAP.CAT"
  A_AXIS_RADIUS = 3396.0
  B_AXIS_RADIUS = 3396.0
  C_AXIS_RADIUS = 3396.0
  CENTER_LATITUDE = 0.0
  CENTER_LONGITUDE = 170.0
  COORDINATE_SYSTEM_NAME = PLANETOGRAPHIC
  COORDINATE_SYSTEM_TYPE = "BODY-FIXED ROTATING"
  EASTERNMOST_LONGITUDE = 175.593
  FIRST_STANDARD_PARALLEL = "N/A"
  LINE_FIRST_PIXEL = 1
  LINE_LAST_PIXEL = 34995
  LINE_PROJECTION_OFFSET = 90651.875
  MAP_PROJECTION_ROTATION = 0.0
  MAP_PROJECTION_TYPE = SINUSOIDAL
  MAP_RESOLUTION = 1185.42760773333
  MAP_SCALE = 0.05
  MAXIMUM_LATITUDE = 76.38
  MINIMUM_LATITUDE = 46.9642
  POSITIVE_LONGITUDE_DIRECTION = EAST
  REFERENCE_LATITUDE = "N/A"
  REFERENCE_LONGITUDE = "N/A"
  SAMPLE_FIRST_PIXEL = 1
  SAMPLE_LAST_PIXEL = 8092
  SAMPLE_PROJECTION_OFFSET = 3477.625
  SECOND_STANDARD_PARALLEL = "N/A"
  WESTERNMOST_LONGITUDE = 158.765
END_OBJECT = IMAGE_MAP_PROJECTION
/* The JPEG2000 image data file associated with this label. */
OBJECT = COMPRESSED_FILE
  FILE_NAME = "H1562_0000_BL3.JP2"
  RECORD_TYPE = UNDEFINED
  FILE_RECORDS = UNK
  ENCODING_TYPE = "JP2"
  INTERCHANGE_FORMAT = BINARY
  UNCOMPRESSED_FILE_NAME = "H1562_0000_BL3.IMG"
  REQUIRED_STORAGE_BYTES = "283211908"
  ^DESCRIPTION = "JP2INFO.TXT"
END_OBJECT = COMPRESSED_FILE
END
