PDS_VERSION_ID = PDS3
/* FILE DATA ELEMENTS */
RECORD_TYPE = STREAM
/* POINTERS TO DATA OBJECTS */
^COMPRESSED_FILE = "H1562_0000_RE3.JP2"
/* IDENTIFICATION DATA ELEMENTS */
DATA_SET_ID = "MEX-M-HRSC-5-REFDR-MAPPROJECTED-V3.0"
DATA_SET_NAME = "MARS EXPRESS HRSC MAP PROJECTED REFDR V3.0"
DETECTOR_ID = MEX_HRSC_RED
EVENT_TYPE = "MARS-REGIONAL-MAPPING-Im-Pf-Eo"
INSTRUMENT_HOST_ID = MEX
INSTRUMENT_HOST_NAME = "MARS EXPRESS"
INSTRUMENT_ID = HRSC
INSTRUMENT_NAME = "HIGH RESOLUTION STEREO CAMERA"
MISSION_NAME = "MARS EXPRESS"
MISSION_PHASE_NAME = MR_Phase_6
PROCESSING_LEVEL_ID = 3
PRODUCT_CREATION_TIME = 2016-03-08T06:50:01.000Z
PRODUCT_ID = "H1562_0000_RE3.JP2"
RELEASE_ID = 0020
REVISION_ID = 0000
/* QUALITY DATA ELEMENTS */
DATA_QUALITY_ID = 1
DATA_QUALITY_DESC = "Data calculated based on original SPICE kernels"
/* TIME DATA ELEMENTS */
SPACECRAFT_CLOCK_START_COUNT = "1/0060751268.57963"
SPACECRAFT_CLOCK_STOP_COUNT = "1/0060751935.16096"
START_TIME = 2005-04-05T03:21:22.310Z
STOP_TIME = 2005-04-05T03:29:17.652Z
/* ORBITAL DATA ELEMENTS */
ASCENDING_NODE_LONGITUDE = 195.74
MAXIMUM_RESOLUTION = 64.5
FOOTPRINT_POINT_LATITUDE = (76.3123,76.498,76.0574,75.6149,75.172, 74.7274,74.2825,73.8376,73.3824,72.9256 ,72.4646,71.7569,71.2847,70.5609, 70.0763,69.5805,68.8345,68.2539,67.4832 ,66.9639,66.4346,65.6326,65.0907, 64.5391,63.9838,63.4202,62.8486,62.2711 ,61.6865,61.0925,60.4907,59.8814,59.264 ,58.6389,58.0027,57.3574,56.7028, 56.0387,55.3648,54.6801,53.9841,53.2776 ,52.5604,51.8306,51.0893,50.3348, 49.5679,48.7871,47.9927,47.1848,47.1043 ,47.0104,46.9313,46.8657,47.6696,48.46, 49.2366,50.0007,50.7501,51.4886,52.2142 ,52.9266,53.63,54.3225,55.0051,55.6766, 56.3338,56.9845,57.6257,58.2572,58.8792 ,59.4923,60.0976,60.6949,61.2852, 61.8654,62.4384,63.0058,63.5646,64.1152 ,64.6616,65.1985,65.9927,66.5164, 67.0302,67.792,68.3656,69.1027,69.5908, 70.0686,70.7813,71.2467,71.9413,72.3931 ,72.8434,73.2882,74.5902,75.4499, 75.8801,76.3123)
FOOTPRINT_POINT_LONGITUDE = (160.28,163.303,163.913,164.484,165.021 ,165.525,165.999,166.447,166.877, 167.287,167.673,168.226,168.571,169.066 ,169.376,169.675,170.1,170.408,170.791, 171.033,171.268,171.603,171.816,172.022 ,172.22,172.412,172.597,172.776,172.949 ,173.116,173.278,173.434,173.585, 173.732,173.873,174.01,174.143,174.272, 174.397,174.518,174.635,174.748,174.858 ,174.964,175.066,175.166,175.262, 175.355,175.445,175.532,174.433,173.206 ,172.326,171.644,171.574,171.5,171.419, 171.335,171.244,171.149,171.05,170.942, 170.832,170.716,170.595,170.469,170.333 ,170.193,170.048,169.896,169.739, 169.575,169.404,169.225,169.04,168.847, 168.647,168.438,168.221,167.995,167.76, 167.516,167.13,166.858,166.578,166.133, 165.773,165.278,164.927,164.565,163.985 ,163.582,162.933,162.482,162.004, 161.498,159.829,158.537,157.835,160.28)
ORBIT_NUMBER = 1562
ORBITAL_ECCENTRICITY = 0.566
ORBITAL_INCLINATION = 86.59
ORBITAL_SEMIMAJOR_AXIS = 8533.38
PERIAPSIS_ALTITUDE = 328.28
PERIAPSIS_ARGUMENT_ANGLE = 85.31
PERIAPSIS_TIME = 2005-04-05T03:17:23.000Z
SPACECRAFT_ORIENTATION = (0.0,1.0,0.0)
^MEX_ORIENTATION_DESC = "MEX_ORIENTATION_DESC.TXT"
SPACECRAFT_POINTING_MODE = ACROSSTRACK
^MEX_POINTING_DESC = "MEX_POINTING_DESC.TXT"
RIGHT_ASCENSION = -1e+32
DECLINATION = -1e+32
OFFSET_ANGLE = -1.47
SPACECRAFT_SOLAR_DISTANCE = 2.16913e+08
TARGET_NAME = MARS
/* CAMERA DATA ELEMENTS */
DETECTOR_TEMPERATURE = 18.5744
FOCAL_PLANE_TEMPERATURE = 8.3794
INST_CMPRS_NAME = "DISCRETE COSINE TRANSFORMATION (DCT)"
INST_CMPRS_RATIO = 25.5005
INST_CMPRS_QUALITY = 0
INST_CMPRS_QUANTZ_TBL_ID = 0
INSTRUMENT_TEMPERATURE = 11.4379
LENS_TEMPERATURE = 8.5833
MACROPIXEL_SIZE = 4
MISSING_FRAMES = 36
PIXEL_SUBSAMPLING_FLAG = N
SIGNAL_CHAIN_ID = 2
/* RADIOMETRIC DATA ELEMENTS */
BANDWIDTH = 48.0
CENTER_FILTER_WAVELENGTH = 748.0
RADIANCE_OFFSET = 0.307236
RADIANCE_SCALING_FACTOR = 0.00675763
REFLECTANCE_SCALING_FACTOR = 0.000725588
MEX:REFLECTANCE_OFFSET = 0.0329889
/* IMAGE OBJECT DEFINITIONS */
OBJECT = IMAGE
  INTERCHANGE_FORMAT = BINARY
  LINES = 34995
  LINE_SAMPLES = 8092
  SAMPLE_TYPE = UNSIGNED_INTEGER
  SAMPLE_BITS = 8
  BANDS = 1
  BAND_STORAGE_TYPE = BAND_SEQUENTIAL
  MAXIMUM = 316
  MEAN = 153.261
  MINIMUM = 46
  STANDARD_DEVIATION = 61.8377
END_OBJECT = IMAGE
/* MAP OBJECT DEFINITIONS */
OBJECT = IMAGE_MAP_PROJECTION
  ^DATA_SET_MAP_PROJECTION_CATALOG= "DSMAP.CAT"
  A_AXIS_RADIUS = 3396.0
  B_AXIS_RADIUS = 3396.0
  C_AXIS_RADIUS = 3396.0
  CENTER_LATITUDE = 0.0
  CENTER_LONGITUDE = 170.0
  COORDINATE_SYSTEM_NAME = PLANETOGRAPHIC
  COORDINATE_SYSTEM_TYPE = "BODY-FIXED ROTATING"
  EASTERNMOST_LONGITUDE = 175.532
  FIRST_STANDARD_PARALLEL = "N/A"
  LINE_FIRST_PIXEL = 1
  LINE_LAST_PIXEL = 34995
  LINE_PROJECTION_OFFSET = 90651.875
  MAP_PROJECTION_ROTATION = 0.0
  MAP_PROJECTION_TYPE = SINUSOIDAL
  MAP_RESOLUTION = 1185.42760773333
  MAP_SCALE = 0.05
  MAXIMUM_LATITUDE = 76.498
  MINIMUM_LATITUDE = 46.8657
  POSITIVE_LONGITUDE_DIRECTION = EAST
  REFERENCE_LATITUDE = "N/A"
  REFERENCE_LONGITUDE = "N/A"
  SAMPLE_FIRST_PIXEL = 1
  SAMPLE_LAST_PIXEL = 8092
  SAMPLE_PROJECTION_OFFSET = 3477.625
  SECOND_STANDARD_PARALLEL = "N/A"
  WESTERNMOST_LONGITUDE = 157.835
END_OBJECT = IMAGE_MAP_PROJECTION
/* The JPEG2000 image data file associated with this label. */
OBJECT = COMPRESSED_FILE
  FILE_NAME = "H1562_0000_RE3.JP2"
  RECORD_TYPE = UNDEFINED
  FILE_RECORDS = UNK
  ENCODING_TYPE = "JP2"
  INTERCHANGE_FORMAT = BINARY
  UNCOMPRESSED_FILE_NAME = "H1562_0000_RE3.IMG"
  REQUIRED_STORAGE_BYTES = "283211908"
  ^DESCRIPTION = "JP2INFO.TXT"
END_OBJECT = COMPRESSED_FILE
END
