PDS_VERSION_ID = PDS3
/* FILE DATA ELEMENTS */
RECORD_TYPE = STREAM
/* POINTERS TO DATA OBJECTS */
^COMPRESSED_FILE = "H1562_0008_ND3.JP2"
/* IDENTIFICATION DATA ELEMENTS */
DATA_SET_ID = "MEX-M-HRSC-5-REFDR-MAPPROJECTED-V3.0"
DATA_SET_NAME = "MARS EXPRESS HRSC MAP PROJECTED REFDR V3.0"
DETECTOR_ID = MEX_HRSC_NADIR
EVENT_TYPE = "MARS-LOCAL-COLOR-Vo-Te-Mw"
INSTRUMENT_HOST_ID = MEX
INSTRUMENT_HOST_NAME = "MARS EXPRESS"
INSTRUMENT_ID = HRSC
INSTRUMENT_NAME = "HIGH RESOLUTION STEREO CAMERA"
MISSION_NAME = "MARS EXPRESS"
MISSION_PHASE_NAME = MR_Phase_6
PROCESSING_LEVEL_ID = 3
PRODUCT_CREATION_TIME = 2016-03-08T06:50:01.000Z
PRODUCT_ID = "H1562_0008_ND3.JP2"
RELEASE_ID = 0020
REVISION_ID = 0000
/* QUALITY DATA ELEMENTS */
DATA_QUALITY_ID = 1
DATA_QUALITY_DESC = "Data calculated based on original SPICE kernels"
/* TIME DATA ELEMENTS */
SPACECRAFT_CLOCK_START_COUNT = "1/0060752106.57163"
SPACECRAFT_CLOCK_STOP_COUNT = "1/0060753250.00773"
START_TIME = 2005-04-05T03:38:02.847Z
STOP_TIME = 2005-04-05T03:43:27.837Z
/* ORBITAL DATA ELEMENTS */
ASCENDING_NODE_LONGITUDE = 195.74
MAXIMUM_RESOLUTION = 56.2
FOOTPRINT_POINT_LATITUDE = (26.5994,26.6017,26.6027,26.6023, 26.6005,26.5974,26.5929,26.5872,26.5801 ,26.5718,26.5621,26.5555,26.5438, 26.1523,25.8974,25.6435,25.3905,25.1385 ,24.8874,24.6373,24.3881,24.1399, 23.8924,23.646,23.4006,23.1559,22.9122, 22.6694,22.4275,22.1865,21.9463,21.4688 ,20.9947,20.5242,20.0571,19.5935, 19.1333,18.6764,18.2229,17.7726,17.3257 ,16.882,16.4416,16.0043,15.5701,15.1391 ,14.7989,14.8159,14.8452,14.8615, 14.8775,14.8932,14.9086,14.9311,14.9457 ,14.96,14.974,14.9944,15.0077,15.0238, 15.0455,15.0575,15.0807,15.0944,15.105, 15.1204,15.1303,15.3439,15.7609,16.1811 ,16.6046,17.0315,17.4617,17.8953, 18.3324,18.7729,19.2169,19.6644,20.1154 ,20.5701,21.0283,21.4903,21.9558, 22.4251,22.8982,23.375,23.6148,23.8556, 24.0973,24.34,24.5837,24.8283,25.0739, 25.3205,25.568,25.8166,26.0661,26.3166, 26.5681,26.5994)
FOOTPRINT_POINT_LONGITUDE = (171.784,172.227,172.667,173.106, 173.543,173.978,174.412,174.843,175.274 ,175.703,176.131,176.399,176.826, 177.031,177.039,177.047,177.055,177.062 ,177.069,177.076,177.083,177.089, 177.096,177.103,177.109,177.115,177.121 ,177.127,177.133,177.139,177.145, 177.156,177.166,177.176,177.186,177.195 ,177.204,177.212,177.22,177.228,177.235 ,177.242,177.249,177.255,177.262, 177.267,177.205,176.94,176.472,176.205, 175.938,175.67,175.403,175.001,174.733, 174.464,174.196,173.791,173.521,173.183 ,172.707,172.435,171.889,171.547, 171.271,170.857,170.581,170.433,170.487 ,170.535,170.585,170.635,170.683, 170.731,170.779,170.826,170.871,170.916 ,170.96,171.003,171.046,171.088,171.128 ,171.169,171.209,171.249,171.265, 171.285,171.302,171.32,171.338,171.355, 171.373,171.39,171.405,171.423,171.438, 171.454,171.47,171.784)
ORBIT_NUMBER = 1562
ORBITAL_ECCENTRICITY = 0.566
ORBITAL_INCLINATION = 86.59
ORBITAL_SEMIMAJOR_AXIS = 8533.38
PERIAPSIS_ALTITUDE = 328.28
PERIAPSIS_ARGUMENT_ANGLE = 85.31
PERIAPSIS_TIME = 2005-04-05T03:17:23.000Z
SPACECRAFT_ORIENTATION = (0.0,1.0,0.0)
^MEX_ORIENTATION_DESC = "MEX_ORIENTATION_DESC.TXT"
SPACECRAFT_POINTING_MODE = ACROSSTRACK
^MEX_POINTING_DESC = "MEX_POINTING_DESC.TXT"
RIGHT_ASCENSION = -1e+32
DECLINATION = -1e+32
OFFSET_ANGLE = -1.47
SPACECRAFT_SOLAR_DISTANCE = 2.16913e+08
TARGET_NAME = MARS
/* CAMERA DATA ELEMENTS */
DETECTOR_TEMPERATURE = 20.2056
FOCAL_PLANE_TEMPERATURE = 8.7872
INST_CMPRS_NAME = "DISCRETE COSINE TRANSFORMATION (DCT)"
INST_CMPRS_RATIO = 6.95291
INST_CMPRS_QUALITY = 0
INST_CMPRS_QUANTZ_TBL_ID = 0
INSTRUMENT_TEMPERATURE = 14.2925
LENS_TEMPERATURE = 9.195
MACROPIXEL_SIZE = 1
MISSING_FRAMES = 0
PIXEL_SUBSAMPLING_FLAG = N
SIGNAL_CHAIN_ID = 0
/* RADIOMETRIC DATA ELEMENTS */
BANDWIDTH = 177.0
CENTER_FILTER_WAVELENGTH = 677.5
RADIANCE_OFFSET = 6.30954
RADIANCE_SCALING_FACTOR = 0.0288247
REFLECTANCE_SCALING_FACTOR = 0.000720461
MEX:REFLECTANCE_OFFSET = 0.157705
/* IMAGE OBJECT DEFINITIONS */
OBJECT = IMAGE
  INTERCHANGE_FORMAT = BINARY
  LINES = 13997
  LINE_SAMPLES = 7909
  SAMPLE_TYPE = UNSIGNED_INTEGER
  SAMPLE_BITS = 8
  BANDS = 1
  BAND_STORAGE_TYPE = BAND_SEQUENTIAL
  MAXIMUM = 219
  MEAN = 155.891
  MINIMUM = 89
  STANDARD_DEVIATION = 11.8247
END_OBJECT = IMAGE
/* MAP OBJECT DEFINITIONS */
OBJECT = IMAGE_MAP_PROJECTION
  ^DATA_SET_MAP_PROJECTION_CATALOG= "DSMAP.CAT"
  A_AXIS_RADIUS = 3396.0
  B_AXIS_RADIUS = 3396.0
  C_AXIS_RADIUS = 3396.0
  CENTER_LATITUDE = 0.0
  CENTER_LONGITUDE = 174.0
  COORDINATE_SYSTEM_NAME = PLANETOGRAPHIC
  COORDINATE_SYSTEM_TYPE = "BODY-FIXED ROTATING"
  EASTERNMOST_LONGITUDE = 177.267
  FIRST_STANDARD_PARALLEL = "N/A"
  LINE_FIRST_PIXEL = 1
  LINE_LAST_PIXEL = 13997
  LINE_PROJECTION_OFFSET = 31535.0
  MAP_PROJECTION_ROTATION = 0.0
  MAP_PROJECTION_TYPE = SINUSOIDAL
  MAP_RESOLUTION = 1185.42760773333
  MAP_SCALE = 0.05
  MAXIMUM_LATITUDE = 26.6027
  MINIMUM_LATITUDE = 14.7989
  POSITIVE_LONGITUDE_DIRECTION = EAST
  REFERENCE_LATITUDE = "N/A"
  REFERENCE_LONGITUDE = "N/A"
  SAMPLE_FIRST_PIXEL = 1
  SAMPLE_LAST_PIXEL = 7909
  SAMPLE_PROJECTION_OFFSET = 4134.0
  SECOND_STANDARD_PARALLEL = "N/A"
  WESTERNMOST_LONGITUDE = 170.433
END_OBJECT = IMAGE_MAP_PROJECTION
/* The JPEG2000 image data file associated with this label. */
OBJECT = COMPRESSED_FILE
  FILE_NAME = "H1562_0008_ND3.JP2"
  RECORD_TYPE = UNDEFINED
  FILE_RECORDS = UNK
  ENCODING_TYPE = "JP2"
  INTERCHANGE_FORMAT = BINARY
  UNCOMPRESSED_FILE_NAME = "H1562_0008_ND3.IMG"
  REQUIRED_STORAGE_BYTES = "110733909"
  ^DESCRIPTION = "JP2INFO.TXT"
END_OBJECT = COMPRESSED_FILE
END
