PDS_VERSION_ID = PDS3
/* FILE DATA ELEMENTS */
RECORD_TYPE = STREAM
/* POINTERS TO DATA OBJECTS */
^COMPRESSED_FILE = "H1562_0009_SR3.JP2"
/* IDENTIFICATION DATA ELEMENTS */
DATA_SET_ID = "MEX-M-HRSC-5-REFDR-MAPPROJECTED-V3.0"
DATA_SET_NAME = "MARS EXPRESS HRSC MAP PROJECTED REFDR V3.0"
DETECTOR_ID = MEX_HRSC_SRC
EVENT_TYPE = "MARS-LOCAL-COLOR-Vo-Te-Mw"
INSTRUMENT_HOST_ID = MEX
INSTRUMENT_HOST_NAME = "MARS EXPRESS"
INSTRUMENT_ID = HRSC
INSTRUMENT_NAME = "HIGH RESOLUTION STEREO CAMERA"
MISSION_NAME = "MARS EXPRESS"
MISSION_PHASE_NAME = MR_Phase_6
PROCESSING_LEVEL_ID = 3
PRODUCT_CREATION_TIME = 2016-03-08T06:50:01.000Z
PRODUCT_ID = "H1562_0009_SR3.JP2"
RELEASE_ID = 0020
REVISION_ID = 0000
/* QUALITY DATA ELEMENTS */
DATA_QUALITY_ID = 1
DATA_QUALITY_DESC = "Data calculated based on original SPICE kernels"
/* TIME DATA ELEMENTS */
SPACECRAFT_CLOCK_START_COUNT = "1/0060752106.57163"
SPACECRAFT_CLOCK_STOP_COUNT = "1/0060753250.00773"
IMAGE_TIME = 2005-04-05T03:38:59.152Z
START_TIME = 2005-04-05T03:38:58.894Z
STOP_TIME = 2005-04-05T03:38:59.410Z
/* ORBITAL DATA ELEMENTS */
ASCENDING_NODE_LONGITUDE = 195.74
MAXIMUM_RESOLUTION = 13.605
FOOTPRINT_POINT_LATITUDE = (24.6312,24.6206,24.6146,24.6038, 24.5976,24.5891,24.5822,24.5735,24.5611 ,24.5528,24.5443,24.5321,24.5259, 24.5134,24.5015,24.4895,24.4822,24.4709 ,24.4601,24.452,24.4435,24.4284,24.4189 ,24.4132,24.4134,24.4135,24.4137, 24.4139,24.4141,24.4143,24.4144,24.4146 ,24.4148,24.415,24.4151,24.4153,24.4155 ,24.4157,24.4158,24.416,24.4162,24.4163 ,24.4165,24.4167,24.4168,24.417,24.4172 ,24.4174,24.4222,24.4321,24.4406, 24.4466,24.4542,24.4604,24.47,24.4834, 24.4926,24.5009,24.5108,24.5198,24.5262 ,24.5361,24.5449,24.5508,24.5612,24.569 ,24.5755,24.5824,24.5932,24.6012, 24.6114,24.6252,24.6323,24.6452,24.6492 ,24.649,24.6488,24.6486,24.6484,24.6483 ,24.6481,24.6479,24.6477,24.6475, 24.6474,24.6472,24.647,24.6468,24.6466, 24.6465,24.6463,24.6461,24.6459,24.6457 ,24.6455,24.6454,24.6452,24.645,24.6448 ,24.6312)
FOOTPRINT_POINT_LONGITUDE = (174.354,174.354,174.353,174.353, 174.353,174.353,174.353,174.353,174.352 ,174.352,174.352,174.352,174.352, 174.351,174.351,174.351,174.351,174.35, 174.35,174.35,174.35,174.349,174.349, 174.349,174.339,174.329,174.318,174.308 ,174.298,174.288,174.278,174.268, 174.258,174.247,174.237,174.227,174.217 ,174.207,174.197,174.187,174.176, 174.166,174.156,174.146,174.136,174.126 ,174.113,174.103,174.091,174.092, 174.092,174.092,174.092,174.092,174.092 ,174.093,174.093,174.093,174.093, 174.093,174.093,174.094,174.094,174.094 ,174.094,174.094,174.094,174.094, 174.095,174.095,174.095,174.095,174.095 ,174.096,174.104,174.114,174.129, 174.139,174.149,174.16,174.17,174.18, 174.19,174.2,174.21,174.221,174.231, 174.241,174.251,174.261,174.271,174.282 ,174.292,174.302,174.312,174.322, 174.332,174.342,174.353,174.354)
ORBIT_NUMBER = 1562
ORBITAL_ECCENTRICITY = 0.566
ORBITAL_INCLINATION = 86.59
ORBITAL_SEMIMAJOR_AXIS = 8533.38
PERIAPSIS_ALTITUDE = 328.28
PERIAPSIS_ARGUMENT_ANGLE = 85.31
PERIAPSIS_TIME = 2005-04-05T03:17:23.000Z
SPACECRAFT_ORIENTATION = (0.0,1.0,0.0)
^MEX_ORIENTATION_DESC = "MEX_ORIENTATION_DESC.TXT"
SPACECRAFT_POINTING_MODE = ACROSSTRACK
^MEX_POINTING_DESC = "MEX_POINTING_DESC.TXT"
RIGHT_ASCENSION = -1e+32
DECLINATION = -1e+32
OFFSET_ANGLE = -1.47
SPACECRAFT_SOLAR_DISTANCE = 2.16913e+08
TARGET_NAME = MARS
/* CAMERA DATA ELEMENTS */
BUFFER_MODE_ID = BUFFER_8
EXPOSURE_DURATION = 516.096
INST_CMPRS_NAME = NONE
INST_CMPRS_RATIO = 1.0
INST_CMPRS_QUALITY = -2147483648
INST_CMPRS_QUANTZ_TBL_ID = -2147483648
INSTRUMENT_TEMPERATURE = 22.8571
MISSING_FRAMES = 0
START_BIT = 0
/* RADIOMETRIC DATA ELEMENTS */
BANDWIDTH = 250.0
CENTER_FILTER_WAVELENGTH = 600.0
RADIANCE_OFFSET = -9.99e+31
RADIANCE_SCALING_FACTOR = -9.99e+31
REFLECTANCE_SCALING_FACTOR = -9.99e+31
MEX:REFLECTANCE_OFFSET = -9.99e+31
/* IMAGE OBJECT DEFINITIONS */
OBJECT = IMAGE
  INTERCHANGE_FORMAT = BINARY
  LINES = 1444
  LINE_SAMPLES = 1460
  SAMPLE_TYPE = UNSIGNED_INTEGER
  SAMPLE_BITS = 8
  BANDS = 1
  BAND_STORAGE_TYPE = BAND_SEQUENTIAL
  MAXIMUM = 11380
  MEAN = 11252.5
  MINIMUM = 11166
  STANDARD_DEVIATION = 112.161
END_OBJECT = IMAGE
/* MAP OBJECT DEFINITIONS */
OBJECT = IMAGE_MAP_PROJECTION
  ^DATA_SET_MAP_PROJECTION_CATALOG= "DSMAP.CAT"
  A_AXIS_RADIUS = 3396.19
  B_AXIS_RADIUS = 3396.19
  C_AXIS_RADIUS = 3396.19
  CENTER_LATITUDE = 0.0
  CENTER_LONGITUDE = 174.0
  COORDINATE_SYSTEM_NAME = PLANETOGRAPHIC
  COORDINATE_SYSTEM_TYPE = "BODY-FIXED ROTATING"
  EASTERNMOST_LONGITUDE = 174.354
  FIRST_STANDARD_PARALLEL = "N/A"
  LINE_FIRST_PIXEL = 1
  LINE_LAST_PIXEL = 1444
  LINE_PROJECTION_OFFSET = 146077.0
  MAP_PROJECTION_ROTATION = 0.0
  MAP_PROJECTION_TYPE = SINUSOIDAL
  MAP_RESOLUTION = 5927.46965121889
  MAP_SCALE = 0.01
  MAXIMUM_LATITUDE = 24.6492
  MINIMUM_LATITUDE = 24.4132
  POSITIVE_LONGITUDE_DIRECTION = EAST
  REFERENCE_LATITUDE = "N/A"
  REFERENCE_LONGITUDE = "N/A"
  SAMPLE_FIRST_PIXEL = 1
  SAMPLE_LAST_PIXEL = 1460
  SAMPLE_PROJECTION_OFFSET = -442.0
  SECOND_STANDARD_PARALLEL = "N/A"
  WESTERNMOST_LONGITUDE = 174.091
END_OBJECT = IMAGE_MAP_PROJECTION
/* The JPEG2000 image data file associated with this label. */
OBJECT = COMPRESSED_FILE
  FILE_NAME = "H1562_0009_SR3.JP2"
  RECORD_TYPE = UNDEFINED
  FILE_RECORDS = UNK
  ENCODING_TYPE = "JP2"
  INTERCHANGE_FORMAT = BINARY
  UNCOMPRESSED_FILE_NAME = "H1562_0009_SR3.IMG"
  REQUIRED_STORAGE_BYTES = "2128680"
  ^DESCRIPTION = "JP2INFO.TXT"
END_OBJECT = COMPRESSED_FILE
END
