PDS_VERSION_ID = PDS3
/* FILE DATA ELEMENTS */
RECORD_TYPE = STREAM
/* POINTERS TO DATA OBJECTS */
^COMPRESSED_FILE = "H1562_0012_SR3.JP2"
/* IDENTIFICATION DATA ELEMENTS */
DATA_SET_ID = "MEX-M-HRSC-5-REFDR-MAPPROJECTED-V3.0"
DATA_SET_NAME = "MARS EXPRESS HRSC MAP PROJECTED REFDR V3.0"
DETECTOR_ID = MEX_HRSC_SRC
EVENT_TYPE = "MARS-LOCAL-COLOR-Vo-Te-Mw"
INSTRUMENT_HOST_ID = MEX
INSTRUMENT_HOST_NAME = "MARS EXPRESS"
INSTRUMENT_ID = HRSC
INSTRUMENT_NAME = "HIGH RESOLUTION STEREO CAMERA"
MISSION_NAME = "MARS EXPRESS"
MISSION_PHASE_NAME = MR_Phase_6
PROCESSING_LEVEL_ID = 3
PRODUCT_CREATION_TIME = 2016-03-08T06:50:01.000Z
PRODUCT_ID = "H1562_0012_SR3.JP2"
RELEASE_ID = 0020
REVISION_ID = 0000
/* QUALITY DATA ELEMENTS */
DATA_QUALITY_ID = 1
DATA_QUALITY_DESC = "Data calculated based on original SPICE kernels"
/* TIME DATA ELEMENTS */
SPACECRAFT_CLOCK_START_COUNT = "1/0060752106.57163"
SPACECRAFT_CLOCK_STOP_COUNT = "1/0060753250.00773"
IMAGE_TIME = 2005-04-05T03:39:16.593Z
START_TIME = 2005-04-05T03:39:16.590Z
STOP_TIME = 2005-04-05T03:39:16.595Z
/* ORBITAL DATA ELEMENTS */
ASCENDING_NODE_LONGITUDE = 195.74
MAXIMUM_RESOLUTION = 13.835
FOOTPRINT_POINT_LATITUDE = (23.9869,23.9747,23.9637,23.9567, 23.9457,23.9363,23.9214,23.9099,23.9017 ,23.894,23.8833,23.8699,23.8622,23.8554 ,23.8468,23.8388,23.8276,23.8162, 23.8075,23.7981,23.7904,23.7839,23.7764 ,23.7654,23.7565,23.7546,23.7548,23.755 ,23.7552,23.7554,23.7556,23.7558,23.756 ,23.7562,23.7564,23.7566,23.7568,23.757 ,23.7572,23.7574,23.7576,23.7578,23.758 ,23.7582,23.7583,23.7585,23.7587, 23.7589,23.7591,23.7593,23.7611,23.7732 ,23.7826,23.7903,23.7994,23.8065, 23.8212,23.8317,23.8388,23.85,23.8586, 23.8668,23.8734,23.8856,23.898,23.9083, 23.9146,23.9246,23.938,23.9495,23.9616, 23.9696,23.9759,23.9853,23.9913,23.9948 ,23.9946,23.9944,23.9942,23.994,23.9938 ,23.9936,23.9933,23.9931,23.9929, 23.9927,23.9925,23.9923,23.9921,23.9919 ,23.9917,23.9915,23.9913,23.9911, 23.9909,23.9907,23.9905,23.9902,23.99, 23.9869)
FOOTPRINT_POINT_LONGITUDE = (174.341,174.34,174.34,174.34,174.34, 174.339,174.339,174.339,174.339,174.338 ,174.338,174.338,174.338,174.338, 174.337,174.337,174.337,174.337,174.336 ,174.336,174.336,174.336,174.336, 174.335,174.335,174.327,174.317,174.307 ,174.296,174.286,174.276,174.266, 174.255,174.245,174.235,174.225,174.214 ,174.204,174.194,174.184,174.173, 174.163,174.153,174.143,174.132,174.122 ,174.114,174.104,174.094,174.084, 174.074,174.075,174.075,174.075,174.075 ,174.075,174.076,174.076,174.076, 174.076,174.077,174.077,174.077,174.077 ,174.077,174.078,174.078,174.078, 174.078,174.078,174.079,174.079,174.079 ,174.079,174.079,174.093,174.103, 174.113,174.129,174.139,174.149,174.159 ,174.17,174.18,174.19,174.201,174.211, 174.221,174.231,174.242,174.252,174.262 ,174.273,174.283,174.293,174.303, 174.314,174.324,174.334,174.341)
ORBIT_NUMBER = 1562
ORBITAL_ECCENTRICITY = 0.566
ORBITAL_INCLINATION = 86.59
ORBITAL_SEMIMAJOR_AXIS = 8533.38
PERIAPSIS_ALTITUDE = 328.28
PERIAPSIS_ARGUMENT_ANGLE = 85.31
PERIAPSIS_TIME = 2005-04-05T03:17:23.000Z
SPACECRAFT_ORIENTATION = (0.0,1.0,0.0)
^MEX_ORIENTATION_DESC = "MEX_ORIENTATION_DESC.TXT"
SPACECRAFT_POINTING_MODE = ACROSSTRACK
^MEX_POINTING_DESC = "MEX_POINTING_DESC.TXT"
RIGHT_ASCENSION = -1e+32
DECLINATION = -1e+32
OFFSET_ANGLE = -1.47
SPACECRAFT_SOLAR_DISTANCE = 2.16913e+08
TARGET_NAME = MARS
/* CAMERA DATA ELEMENTS */
BUFFER_MODE_ID = BUFFER_8
EXPOSURE_DURATION = 5.04
INST_CMPRS_NAME = NONE
INST_CMPRS_RATIO = 1.0
INST_CMPRS_QUALITY = -2147483648
INST_CMPRS_QUANTZ_TBL_ID = -2147483648
INSTRUMENT_TEMPERATURE = 22.8571
MISSING_FRAMES = 0
START_BIT = 0
/* RADIOMETRIC DATA ELEMENTS */
BANDWIDTH = 250.0
CENTER_FILTER_WAVELENGTH = 600.0
RADIANCE_OFFSET = -9.99e+31
RADIANCE_SCALING_FACTOR = -9.99e+31
REFLECTANCE_SCALING_FACTOR = -9.99e+31
MEX:REFLECTANCE_OFFSET = -9.99e+31
/* IMAGE OBJECT DEFINITIONS */
OBJECT = IMAGE
  INTERCHANGE_FORMAT = BINARY
  LINES = 1471
  LINE_SAMPLES = 1487
  SAMPLE_TYPE = UNSIGNED_INTEGER
  SAMPLE_BITS = 8
  BANDS = 1
  BAND_STORAGE_TYPE = BAND_SEQUENTIAL
  MAXIMUM = 9283
  MEAN = 7834.38
  MINIMUM = 6148
  STANDARD_DEVIATION = 322.911
END_OBJECT = IMAGE
/* MAP OBJECT DEFINITIONS */
OBJECT = IMAGE_MAP_PROJECTION
  ^DATA_SET_MAP_PROJECTION_CATALOG= "DSMAP.CAT"
  A_AXIS_RADIUS = 3396.19
  B_AXIS_RADIUS = 3396.19
  C_AXIS_RADIUS = 3396.19
  CENTER_LATITUDE = 0.0
  CENTER_LONGITUDE = 174.0
  COORDINATE_SYSTEM_NAME = PLANETOGRAPHIC
  COORDINATE_SYSTEM_TYPE = "BODY-FIXED ROTATING"
  EASTERNMOST_LONGITUDE = 174.341
  FIRST_STANDARD_PARALLEL = "N/A"
  LINE_FIRST_PIXEL = 1
  LINE_LAST_PIXEL = 1471
  LINE_PROJECTION_OFFSET = 142203.0
  MAP_PROJECTION_ROTATION = 0.0
  MAP_PROJECTION_TYPE = SINUSOIDAL
  MAP_RESOLUTION = 5927.46965121889
  MAP_SCALE = 0.01
  MAXIMUM_LATITUDE = 23.9948
  MINIMUM_LATITUDE = 23.7546
  POSITIVE_LONGITUDE_DIRECTION = EAST
  REFERENCE_LATITUDE = "N/A"
  REFERENCE_LONGITUDE = "N/A"
  SAMPLE_FIRST_PIXEL = 1
  SAMPLE_LAST_PIXEL = 1487
  SAMPLE_PROJECTION_OFFSET = -355.0
  SECOND_STANDARD_PARALLEL = "N/A"
  WESTERNMOST_LONGITUDE = 174.074
END_OBJECT = IMAGE_MAP_PROJECTION
/* The JPEG2000 image data file associated with this label. */
OBJECT = COMPRESSED_FILE
  FILE_NAME = "H1562_0012_SR3.JP2"
  RECORD_TYPE = UNDEFINED
  FILE_RECORDS = UNK
  ENCODING_TYPE = "JP2"
  INTERCHANGE_FORMAT = BINARY
  UNCOMPRESSED_FILE_NAME = "H1562_0012_SR3.IMG"
  REQUIRED_STORAGE_BYTES = "2206708"
  ^DESCRIPTION = "JP2INFO.TXT"
END_OBJECT = COMPRESSED_FILE
END
