PDS_VERSION_ID = PDS3
/* FILE DATA ELEMENTS */
RECORD_TYPE = STREAM
/* POINTERS TO DATA OBJECTS */
^COMPRESSED_FILE = "H1564_0008_IR3.JP2"
/* IDENTIFICATION DATA ELEMENTS */
DATA_SET_ID = "MEX-M-HRSC-5-REFDR-MAPPROJECTED-V3.0"
DATA_SET_NAME = "MARS EXPRESS HRSC MAP PROJECTED REFDR V3.0"
DETECTOR_ID = MEX_HRSC_IR
EVENT_TYPE = "MARS-REGIONAL-COLOR-Fl-Eo-Mw"
INSTRUMENT_HOST_ID = MEX
INSTRUMENT_HOST_NAME = "MARS EXPRESS"
INSTRUMENT_ID = HRSC
INSTRUMENT_NAME = "HIGH RESOLUTION STEREO CAMERA"
MISSION_NAME = "MARS EXPRESS"
MISSION_PHASE_NAME = MR_Phase_6
PROCESSING_LEVEL_ID = 3
PRODUCT_CREATION_TIME = 2016-03-08T06:50:01.000Z
PRODUCT_ID = "H1564_0008_IR3.JP2"
RELEASE_ID = 0020
REVISION_ID = 0000
/* QUALITY DATA ELEMENTS */
DATA_QUALITY_ID = 1
DATA_QUALITY_DESC = "Data calculated based on original SPICE kernels"
/* TIME DATA ELEMENTS */
SPACECRAFT_CLOCK_START_COUNT = "1/0060800067.56197"
SPACECRAFT_CLOCK_STOP_COUNT = "1/0060801342.47554"
START_TIME = 2005-04-05T16:57:00.427Z
STOP_TIME = 2005-04-05T17:13:35.550Z
/* ORBITAL DATA ELEMENTS */
ASCENDING_NODE_LONGITUDE = 195.7
MAXIMUM_RESOLUTION = 68
FOOTPRINT_POINT_LATITUDE = (51.6575,51.6953,51.7202,51.8271, 51.2448,50.6541,49.7032,49.0939,48.4782 ,47.8534,47.2216,46.5818,45.9329, 45.2766,44.5597,43.4927,42.804,42.0909, 40.9634,40.2413,39.38,38.2607,37.5023, 36.7342,35.5872,34.8387,34.1027,33.3796 ,32.6684,31.9688,31.2812,30.6064, 29.9408,29.2881,28.6464,28.0143,27.3927 ,26.7795,26.1815,25.592,25.0139,24.4443 ,23.3381,22.2647,21.4781,20.7258, 19.7327,19.5406,19.6369,19.7034,19.8086 ,19.9115,19.9842,20.0781,20.1382, 20.2018,21.1256,22.0844,23.0781,24.1096 ,25.181,25.7313,26.2919,26.8637,27.4454 ,28.0385,28.6425,29.2585,29.8852, 30.5239,31.174,31.8369,32.5119,33.1993, 33.8997,34.6124,35.3383,36.0772,36.8302 ,37.9583,38.6984,39.4289,40.2757, 40.9869,42.0975,42.8005,43.4797,44.5336 ,45.2425,45.8904,46.5291,47.1636, 47.7893,48.4078,49.0174,49.6201,50.2684 ,50.8561,51.4377,51.6575)
FOOTPRINT_POINT_LONGITUDE = (336.729,338.131,339.481,340.487, 340.554,340.62,340.722,340.784,340.846, 340.907,340.966,341.025,341.083,341.14, 341.2,341.287,341.341,341.396,341.48, 341.532,341.593,341.67,341.721,341.773, 341.848,341.896,341.943,341.988,342.033 ,342.077,342.119,342.162,342.203, 342.244,342.284,342.324,342.362,342.4, 342.44,342.478,342.517,342.555,342.633, 342.709,342.764,342.826,342.899,342.27, 341.055,340.246,338.953,337.736,336.922 ,335.86,335.203,334.512,334.649,334.784 ,334.918,335.048,335.175,335.237, 335.298,335.358,335.417,335.475,335.532 ,335.586,335.64,335.692,335.742,335.791 ,335.837,335.881,335.923,335.963,336.0, 336.035,336.066,336.106,336.128,336.146 ,336.162,336.172,336.181,336.182,336.18 ,336.169,336.157,336.143,336.128, 336.105,336.081,336.054,336.024,335.992 ,335.952,335.912,335.869,336.729)
ORBIT_NUMBER = 1564
ORBITAL_ECCENTRICITY = 0.566
ORBITAL_INCLINATION = 86.61
ORBITAL_SEMIMAJOR_AXIS = 8531.33
PERIAPSIS_ALTITUDE = 327.91
PERIAPSIS_ARGUMENT_ANGLE = 84.94
PERIAPSIS_TIME = 2005-04-05T16:44:04.000Z
SPACECRAFT_ORIENTATION = (0.0,1.0,0.0)
^MEX_ORIENTATION_DESC = "MEX_ORIENTATION_DESC.TXT"
SPACECRAFT_POINTING_MODE = ACROSSTRACK
^MEX_POINTING_DESC = "MEX_POINTING_DESC.TXT"
RIGHT_ASCENSION = -1e+32
DECLINATION = -1e+32
OFFSET_ANGLE = -0.458
SPACECRAFT_SOLAR_DISTANCE = 2.16815e+08
TARGET_NAME = MARS
/* CAMERA DATA ELEMENTS */
DETECTOR_TEMPERATURE = 18.7783
FOCAL_PLANE_TEMPERATURE = 8.3794
INST_CMPRS_NAME = "DISCRETE COSINE TRANSFORMATION (DCT)"
INST_CMPRS_RATIO = 7.34821
INST_CMPRS_QUALITY = 0
INST_CMPRS_QUANTZ_TBL_ID = 0
INSTRUMENT_TEMPERATURE = 12.8652
LENS_TEMPERATURE = 8.7872
MACROPIXEL_SIZE = 2
MISSING_FRAMES = 48
PIXEL_SUBSAMPLING_FLAG = N
SIGNAL_CHAIN_ID = 3
/* RADIOMETRIC DATA ELEMENTS */
BANDWIDTH = 81.0
CENTER_FILTER_WAVELENGTH = 955.5
RADIANCE_OFFSET = 0.847145
RADIANCE_SCALING_FACTOR = 0.0070973
REFLECTANCE_SCALING_FACTOR = 0.000719772
MEX:REFLECTANCE_OFFSET = 0.0859132
/* IMAGE OBJECT DEFINITIONS */
OBJECT = IMAGE
  INTERCHANGE_FORMAT = BINARY
  LINES = 38167
  LINE_SAMPLES = 7070
  SAMPLE_TYPE = UNSIGNED_INTEGER
  SAMPLE_BITS = 8
  BANDS = 1
  BAND_STORAGE_TYPE = BAND_SEQUENTIAL
  MAXIMUM = 279
  MEAN = 142.409
  MINIMUM = 84
  STANDARD_DEVIATION = 28.6433
END_OBJECT = IMAGE
/* MAP OBJECT DEFINITIONS */
OBJECT = IMAGE_MAP_PROJECTION
  ^DATA_SET_MAP_PROJECTION_CATALOG= "DSMAP.CAT"
  A_AXIS_RADIUS = 3396.0
  B_AXIS_RADIUS = 3396.0
  C_AXIS_RADIUS = 3396.0
  CENTER_LATITUDE = 0.0
  CENTER_LONGITUDE = 339.0
  COORDINATE_SYSTEM_NAME = PLANETOGRAPHIC
  COORDINATE_SYSTEM_TYPE = "BODY-FIXED ROTATING"
  EASTERNMOST_LONGITUDE = 342.899
  FIRST_STANDARD_PARALLEL = "N/A"
  LINE_FIRST_PIXEL = 1
  LINE_LAST_PIXEL = 38167
  LINE_PROJECTION_OFFSET = 61421.25
  MAP_PROJECTION_ROTATION = 0.0
  MAP_PROJECTION_TYPE = SINUSOIDAL
  MAP_RESOLUTION = 1185.42760773333
  MAP_SCALE = 0.05
  MAXIMUM_LATITUDE = 51.8271
  MINIMUM_LATITUDE = 19.5406
  POSITIVE_LONGITUDE_DIRECTION = EAST
  REFERENCE_LATITUDE = "N/A"
  REFERENCE_LONGITUDE = "N/A"
  SAMPLE_FIRST_PIXEL = 1
  SAMPLE_LAST_PIXEL = 7070
  SAMPLE_PROJECTION_OFFSET = 4058.75
  SECOND_STANDARD_PARALLEL = "N/A"
  WESTERNMOST_LONGITUDE = 334.512
END_OBJECT = IMAGE_MAP_PROJECTION
/* The JPEG2000 image data file associated with this label. */
OBJECT = COMPRESSED_FILE
  FILE_NAME = "H1564_0008_IR3.JP2"
  RECORD_TYPE = UNDEFINED
  FILE_RECORDS = UNK
  ENCODING_TYPE = "JP2"
  INTERCHANGE_FORMAT = BINARY
  UNCOMPRESSED_FILE_NAME = "H1564_0008_IR3.IMG"
  REQUIRED_STORAGE_BYTES = "269876040"
  ^DESCRIPTION = "JP2INFO.TXT"
END_OBJECT = COMPRESSED_FILE
END
