PDS_VERSION_ID = PDS3
/* FILE DATA ELEMENTS */
RECORD_TYPE = STREAM
/* POINTERS TO DATA OBJECTS */
^COMPRESSED_FILE = "H1566_0000_IR3.JP2"
/* IDENTIFICATION DATA ELEMENTS */
DATA_SET_ID = "MEX-M-HRSC-5-REFDR-MAPPROJECTED-V3.0"
DATA_SET_NAME = "MARS EXPRESS HRSC MAP PROJECTED REFDR V3.0"
DETECTOR_ID = MEX_HRSC_IR
EVENT_TYPE = "MARS-REGIONAL-MAPPING-Te-Im-Pf"
INSTRUMENT_HOST_ID = MEX
INSTRUMENT_HOST_NAME = "MARS EXPRESS"
INSTRUMENT_ID = HRSC
INSTRUMENT_NAME = "HIGH RESOLUTION STEREO CAMERA"
MISSION_NAME = "MARS EXPRESS"
MISSION_PHASE_NAME = MR_Phase_6
PROCESSING_LEVEL_ID = 3
PRODUCT_CREATION_TIME = 2016-03-08T06:50:01.000Z
PRODUCT_ID = "H1566_0000_IR3.JP2"
RELEASE_ID = 0020
REVISION_ID = 0000
/* QUALITY DATA ELEMENTS */
DATA_QUALITY_ID = 1
DATA_QUALITY_DESC = "Data calculated based on original SPICE kernels"
/* TIME DATA ELEMENTS */
SPACECRAFT_CLOCK_START_COUNT = "1/0060848156.57952"
SPACECRAFT_CLOCK_STOP_COUNT = "1/0060849430.45476"
START_TIME = 2005-04-06T06:17:23.381Z
STOP_TIME = 2005-04-06T06:35:53.105Z
/* ORBITAL DATA ELEMENTS */
ASCENDING_NODE_LONGITUDE = 195.66
MAXIMUM_RESOLUTION = 78.8
FOOTPRINT_POINT_LATITUDE = (71.2528,71.4869,70.2876,69.0551, 67.7905,66.4919,65.8287,65.1563,64.4744 ,63.7826,63.0813,62.3685,61.6443, 60.9104,60.1633,59.4062,58.6347,57.8516 ,57.0553,56.246,55.4219,54.5835,53.7308 ,52.8628,51.9787,51.0788,50.1614, 49.2264,48.2745,47.3043,46.3148,45.3061 ,44.2771,43.2287,42.1582,41.0662, 39.9524,38.815,37.6548,36.4705,35.2618, 34.028,32.7658,31.4722,30.153,28.8359, 27.569,26.3447,26.2255,26.3203,26.3782, 26.4516,26.5411,26.6654,27.8327,29.0391 ,30.9342,32.1952,33.4342,34.6509, 35.8457,37.0178,38.1681,39.2979,40.4062 ,41.493,42.5593,43.6061,44.6326,45.6398 ,46.6283,47.5988,48.551,49.486,50.4036, 51.3048,52.1898,53.0594,53.9129,54.7525 ,55.5773,56.3883,57.1856,57.9696, 58.7417,59.4983,60.2466,60.981,61.7053, 62.4167,63.1177,63.809,64.4902,65.1613, 65.8225,67.1161,68.3723,69.5946,70.7846 ,71.2528)
FOOTPRINT_POINT_LONGITUDE = (132.467,134.872,135.729,136.501,137.2, 137.834,138.13,138.413,138.684,138.943, 139.192,139.43,139.66,139.88,140.092, 140.295,140.492,140.681,140.863,141.039 ,141.209,141.373,141.532,141.685, 141.834,141.977,142.117,142.252,142.383 ,142.511,142.635,142.755,142.873, 142.988,143.1,143.209,143.317,143.422, 143.526,143.629,143.73,143.831,143.93, 144.029,144.127,144.224,144.319,144.411 ,143.509,142.123,141.259,140.187, 138.899,137.216,137.319,137.419,137.55, 137.623,137.684,137.733,137.77,137.797, 137.813,137.817,137.812,137.798,137.774 ,137.74,137.697,137.646,137.585,137.515 ,137.436,137.349,137.253,137.148, 137.034,136.911,136.778,136.637,136.486 ,136.325,136.154,135.973,135.781, 135.581,135.365,135.139,134.901,134.65, 134.386,134.107,133.813,133.504,133.178 ,132.473,131.69,130.817,129.842, 132.467)
ORBIT_NUMBER = 1566
ORBITAL_ECCENTRICITY = 0.566
ORBITAL_INCLINATION = 86.6
ORBITAL_SEMIMAJOR_AXIS = 8533.16
PERIAPSIS_ALTITUDE = 328.57
PERIAPSIS_ARGUMENT_ANGLE = 84.59
PERIAPSIS_TIME = 2005-04-06T06:10:43.000Z
SPACECRAFT_ORIENTATION = (0.0,1.0,0.0)
^MEX_ORIENTATION_DESC = "MEX_ORIENTATION_DESC.TXT"
SPACECRAFT_POINTING_MODE = ACROSSTRACK
^MEX_POINTING_DESC = "MEX_POINTING_DESC.TXT"
RIGHT_ASCENSION = -1e+32
DECLINATION = -1e+32
OFFSET_ANGLE = -1.65
SPACECRAFT_SOLAR_DISTANCE = 2.16717e+08
TARGET_NAME = MARS
/* CAMERA DATA ELEMENTS */
DETECTOR_TEMPERATURE = 17.351
FOCAL_PLANE_TEMPERATURE = 7.7677
INST_CMPRS_NAME = "DISCRETE COSINE TRANSFORMATION (DCT)"
INST_CMPRS_RATIO = 16.2004
INST_CMPRS_QUALITY = 0
INST_CMPRS_QUANTZ_TBL_ID = 0
INSTRUMENT_TEMPERATURE = 11.234
LENS_TEMPERATURE = 8.5833
MACROPIXEL_SIZE = 4
MISSING_FRAMES = 0
PIXEL_SUBSAMPLING_FLAG = N
SIGNAL_CHAIN_ID = 2
/* RADIOMETRIC DATA ELEMENTS */
BANDWIDTH = 81.0
CENTER_FILTER_WAVELENGTH = 955.5
RADIANCE_OFFSET = 0.394668
RADIANCE_SCALING_FACTOR = 0.00881252
REFLECTANCE_SCALING_FACTOR = 0.00089292
MEX:REFLECTANCE_OFFSET = 0.0399894
/* IMAGE OBJECT DEFINITIONS */
OBJECT = IMAGE
  INTERCHANGE_FORMAT = BINARY
  LINES = 53620
  LINE_SAMPLES = 8436
  SAMPLE_TYPE = UNSIGNED_INTEGER
  SAMPLE_BITS = 8
  BANDS = 1
  BAND_STORAGE_TYPE = BAND_SEQUENTIAL
  MAXIMUM = 345
  MEAN = 136.668
  MINIMUM = 48
  STANDARD_DEVIATION = 82.3499
END_OBJECT = IMAGE
/* MAP OBJECT DEFINITIONS */
OBJECT = IMAGE_MAP_PROJECTION
  ^DATA_SET_MAP_PROJECTION_CATALOG= "DSMAP.CAT"
  A_AXIS_RADIUS = 3396.0
  B_AXIS_RADIUS = 3396.0
  C_AXIS_RADIUS = 3396.0
  CENTER_LATITUDE = 0.0
  CENTER_LONGITUDE = 139.0
  COORDINATE_SYSTEM_NAME = PLANETOGRAPHIC
  COORDINATE_SYSTEM_TYPE = "BODY-FIXED ROTATING"
  EASTERNMOST_LONGITUDE = 144.411
  FIRST_STANDARD_PARALLEL = "N/A"
  LINE_FIRST_PIXEL = 1
  LINE_LAST_PIXEL = 53620
  LINE_PROJECTION_OFFSET = 84807.125
  MAP_PROJECTION_ROTATION = 0.0
  MAP_PROJECTION_TYPE = SINUSOIDAL
  MAP_RESOLUTION = 1185.42760773333
  MAP_SCALE = 0.05
  MAXIMUM_LATITUDE = 71.48690000000001
  MINIMUM_LATITUDE = 26.2255
  POSITIVE_LONGITUDE_DIRECTION = EAST
  REFERENCE_LATITUDE = "N/A"
  REFERENCE_LONGITUDE = "N/A"
  SAMPLE_FIRST_PIXEL = 1
  SAMPLE_LAST_PIXEL = 8436
  SAMPLE_PROJECTION_OFFSET = 3553.875
  SECOND_STANDARD_PARALLEL = "N/A"
  WESTERNMOST_LONGITUDE = 129.842
END_OBJECT = IMAGE_MAP_PROJECTION
/* The JPEG2000 image data file associated with this label. */
OBJECT = COMPRESSED_FILE
  FILE_NAME = "H1566_0000_IR3.JP2"
  RECORD_TYPE = UNDEFINED
  FILE_RECORDS = UNK
  ENCODING_TYPE = "JP2"
  INTERCHANGE_FORMAT = BINARY
  UNCOMPRESSED_FILE_NAME = "H1566_0000_IR3.IMG"
  REQUIRED_STORAGE_BYTES = "452372064"
  ^DESCRIPTION = "JP2INFO.TXT"
END_OBJECT = COMPRESSED_FILE
END
