PDS_VERSION_ID = PDS3
/* FILE DATA ELEMENTS */
RECORD_TYPE = STREAM
/* POINTERS TO DATA OBJECTS */
^COMPRESSED_FILE = "H1566_0004_SR3.JP2"
/* IDENTIFICATION DATA ELEMENTS */
DATA_SET_ID = "MEX-M-HRSC-5-REFDR-MAPPROJECTED-V3.0"
DATA_SET_NAME = "MARS EXPRESS HRSC MAP PROJECTED REFDR V3.0"
DETECTOR_ID = MEX_HRSC_SRC
EVENT_TYPE = "MARS-REGIONAL-MAPPING-Te-Im-Pf"
INSTRUMENT_HOST_ID = MEX
INSTRUMENT_HOST_NAME = "MARS EXPRESS"
INSTRUMENT_ID = HRSC
INSTRUMENT_NAME = "HIGH RESOLUTION STEREO CAMERA"
MISSION_NAME = "MARS EXPRESS"
MISSION_PHASE_NAME = MR_Phase_6
PROCESSING_LEVEL_ID = 3
PRODUCT_CREATION_TIME = 2016-03-08T06:50:01.000Z
PRODUCT_ID = "H1566_0004_SR3.JP2"
RELEASE_ID = 0020
REVISION_ID = 0000
/* QUALITY DATA ELEMENTS */
DATA_QUALITY_ID = 1
DATA_QUALITY_DESC = "Data calculated based on original SPICE kernels"
/* TIME DATA ELEMENTS */
SPACECRAFT_CLOCK_START_COUNT = "1/0060848156.57952"
SPACECRAFT_CLOCK_STOP_COUNT = "1/0060849430.45476"
IMAGE_TIME = 2005-04-06T06:23:39.129Z
START_TIME = 2005-04-06T06:23:39.126Z
STOP_TIME = 2005-04-06T06:23:39.131Z
/* ORBITAL DATA ELEMENTS */
ASCENDING_NODE_LONGITUDE = 195.66
MAXIMUM_RESOLUTION = 7.439
FOOTPRINT_POINT_LATITUDE = (48.321,48.3151,48.3113,48.3055,48.2982 ,48.2935,48.2897,48.2815,48.276,48.2723 ,48.2687,48.2634,48.2596,48.2526, 48.2476,48.2399,48.2344,48.2305,48.2253 ,48.2212,48.2145,48.2085,48.203,48.199, 48.1942,48.1938,48.1935,48.1932,48.1928 ,48.1925,48.1921,48.1917,48.1914,48.191 ,48.1906,48.1903,48.1899,48.1895, 48.1892,48.1888,48.1884,48.1881,48.1877 ,48.1873,48.1869,48.1866,48.1862, 48.1858,48.1855,48.1851,48.1909,48.1969 ,48.2014,48.2086,48.2121,48.2157, 48.2201,48.2261,48.2308,48.2347,48.2414 ,48.245,48.2505,48.2546,48.2593,48.2651 ,48.273,48.2784,48.284,48.291,48.2968, 48.3006,48.3042,48.3078,48.3121,48.3125 ,48.3128,48.3132,48.3136,48.3139, 48.3143,48.3146,48.315,48.3154,48.3157, 48.3161,48.3165,48.3168,48.3172,48.3175 ,48.3179,48.3183,48.3186,48.319,48.3193 ,48.3197,48.32,48.3204,48.3207,48.321)
FOOTPRINT_POINT_LONGITUDE = (140.035,140.036,140.036,140.037, 140.037,140.038,140.038,140.039,140.04, 140.04,140.04,140.041,140.041,140.042, 140.043,140.043,140.044,140.044,140.045 ,140.045,140.046,140.047,140.047, 140.048,140.044,140.037,140.031,140.023 ,140.016,140.008,140.0,139.993,139.985, 139.977,139.97,139.962,139.955,139.947, 139.939,139.932,139.924,139.916,139.909 ,139.901,139.893,139.886,139.878,139.87 ,139.863,139.855,139.851,139.851,139.85 ,139.849,139.849,139.849,139.848, 139.848,139.847,139.847,139.846,139.846 ,139.845,139.845,139.844,139.843, 139.843,139.842,139.841,139.841,139.84, 139.84,139.839,139.839,139.844,139.852, 139.86,139.867,139.875,139.883,139.89, 139.898,139.906,139.913,139.921,139.929 ,139.936,139.944,139.952,139.959, 139.967,139.975,139.982,139.99,139.998, 140.005,140.013,140.021,140.028, 140.035)
ORBIT_NUMBER = 1566
ORBITAL_ECCENTRICITY = 0.566
ORBITAL_INCLINATION = 86.6
ORBITAL_SEMIMAJOR_AXIS = 8533.16
PERIAPSIS_ALTITUDE = 328.57
PERIAPSIS_ARGUMENT_ANGLE = 84.59
PERIAPSIS_TIME = 2005-04-06T06:10:43.000Z
SPACECRAFT_ORIENTATION = (0.0,1.0,0.0)
^MEX_ORIENTATION_DESC = "MEX_ORIENTATION_DESC.TXT"
SPACECRAFT_POINTING_MODE = ACROSSTRACK
^MEX_POINTING_DESC = "MEX_POINTING_DESC.TXT"
RIGHT_ASCENSION = -1e+32
DECLINATION = -1e+32
OFFSET_ANGLE = -1.65
SPACECRAFT_SOLAR_DISTANCE = 2.16717e+08
TARGET_NAME = MARS
/* CAMERA DATA ELEMENTS */
BUFFER_MODE_ID = BUFFER_8
EXPOSURE_DURATION = 5.04
INST_CMPRS_NAME = NONE
INST_CMPRS_RATIO = 1.0
INST_CMPRS_QUALITY = -2147483648
INST_CMPRS_QUANTZ_TBL_ID = -2147483648
INSTRUMENT_TEMPERATURE = 14.2424
MISSING_FRAMES = 0
START_BIT = 0
/* RADIOMETRIC DATA ELEMENTS */
BANDWIDTH = 250.0
CENTER_FILTER_WAVELENGTH = 600.0
RADIANCE_OFFSET = -9.99e+31
RADIANCE_SCALING_FACTOR = -9.99e+31
REFLECTANCE_SCALING_FACTOR = -9.99e+31
MEX:REFLECTANCE_OFFSET = -9.99e+31
/* IMAGE OBJECT DEFINITIONS */
OBJECT = IMAGE
  INTERCHANGE_FORMAT = BINARY
  LINES = 1677
  LINE_SAMPLES = 1707
  SAMPLE_TYPE = UNSIGNED_INTEGER
  SAMPLE_BITS = 8
  BANDS = 1
  BAND_STORAGE_TYPE = BAND_SEQUENTIAL
  MAXIMUM = 6380
  MEAN = 5133.83
  MINIMUM = 0
  STANDARD_DEVIATION = 302.719
END_OBJECT = IMAGE
/* MAP OBJECT DEFINITIONS */
OBJECT = IMAGE_MAP_PROJECTION
  ^DATA_SET_MAP_PROJECTION_CATALOG= "DSMAP.CAT"
  A_AXIS_RADIUS = 3396.19
  B_AXIS_RADIUS = 3396.19
  C_AXIS_RADIUS = 3396.19
  CENTER_LATITUDE = 0.0
  CENTER_LONGITUDE = 140.0
  COORDINATE_SYSTEM_NAME = PLANETOGRAPHIC
  COORDINATE_SYSTEM_TYPE = "BODY-FIXED ROTATING"
  EASTERNMOST_LONGITUDE = 140.048
  FIRST_STANDARD_PARALLEL = "N/A"
  LINE_FIRST_PIXEL = 1
  LINE_LAST_PIXEL = 1677
  LINE_PROJECTION_OFFSET = 572149.0
  MAP_PROJECTION_ROTATION = 0.0
  MAP_PROJECTION_TYPE = SINUSOIDAL
  MAP_RESOLUTION = 11854.9393024378
  MAP_SCALE = 0.005
  MAXIMUM_LATITUDE = 48.321
  MINIMUM_LATITUDE = 48.1851
  POSITIVE_LONGITUDE_DIRECTION = EAST
  REFERENCE_LATITUDE = "N/A"
  REFERENCE_LONGITUDE = "N/A"
  SAMPLE_FIRST_PIXEL = 1
  SAMPLE_LAST_PIXEL = 1707
  SAMPLE_PROJECTION_OFFSET = 1645.0
  SECOND_STANDARD_PARALLEL = "N/A"
  WESTERNMOST_LONGITUDE = 139.839
END_OBJECT = IMAGE_MAP_PROJECTION
/* The JPEG2000 image data file associated with this label. */
OBJECT = COMPRESSED_FILE
  FILE_NAME = "H1566_0004_SR3.JP2"
  RECORD_TYPE = UNDEFINED
  FILE_RECORDS = UNK
  ENCODING_TYPE = "JP2"
  INTERCHANGE_FORMAT = BINARY
  UNCOMPRESSED_FILE_NAME = "H1566_0004_SR3.IMG"
  REQUIRED_STORAGE_BYTES = "2883123"
  ^DESCRIPTION = "JP2INFO.TXT"
END_OBJECT = COMPRESSED_FILE
END
