PDS_VERSION_ID = PDS3
/* FILE DATA ELEMENTS */
RECORD_TYPE = STREAM
/* POINTERS TO DATA OBJECTS */
^COMPRESSED_FILE = "H1566_0005_SR3.JP2"
/* IDENTIFICATION DATA ELEMENTS */
DATA_SET_ID = "MEX-M-HRSC-5-REFDR-MAPPROJECTED-V3.0"
DATA_SET_NAME = "MARS EXPRESS HRSC MAP PROJECTED REFDR V3.0"
DETECTOR_ID = MEX_HRSC_SRC
EVENT_TYPE = "MARS-REGIONAL-MAPPING-Te-Im-Pf"
INSTRUMENT_HOST_ID = MEX
INSTRUMENT_HOST_NAME = "MARS EXPRESS"
INSTRUMENT_ID = HRSC
INSTRUMENT_NAME = "HIGH RESOLUTION STEREO CAMERA"
MISSION_NAME = "MARS EXPRESS"
MISSION_PHASE_NAME = MR_Phase_6
PROCESSING_LEVEL_ID = 3
PRODUCT_CREATION_TIME = 2016-03-08T06:50:01.000Z
PRODUCT_ID = "H1566_0005_SR3.JP2"
RELEASE_ID = 0020
REVISION_ID = 0000
/* QUALITY DATA ELEMENTS */
DATA_QUALITY_ID = 1
DATA_QUALITY_DESC = "Data calculated based on original SPICE kernels"
/* TIME DATA ELEMENTS */
SPACECRAFT_CLOCK_START_COUNT = "1/0060848156.57952"
SPACECRAFT_CLOCK_STOP_COUNT = "1/0060849430.45476"
IMAGE_TIME = 2005-04-06T06:23:41.309Z
START_TIME = 2005-04-06T06:23:41.306Z
STOP_TIME = 2005-04-06T06:23:41.311Z
/* ORBITAL DATA ELEMENTS */
ASCENDING_NODE_LONGITUDE = 195.66
MAXIMUM_RESOLUTION = 7.461
FOOTPRINT_POINT_LATITUDE = (48.2092,48.205,48.1992,48.1945,48.1889 ,48.1834,48.1789,48.1735,48.1688, 48.1648,48.1589,48.1533,48.1484,48.1439 ,48.1361,48.1304,48.1242,48.1179, 48.1143,48.1102,48.1059,48.102,48.0971, 48.0924,48.0871,48.0828,48.0824,48.0821 ,48.0817,48.0813,48.081,48.0806,48.0803 ,48.0799,48.0795,48.0792,48.0788, 48.0784,48.0781,48.0777,48.0773,48.077, 48.0766,48.0762,48.0759,48.0755,48.0751 ,48.0747,48.0744,48.074,48.0747,48.0784 ,48.0844,48.0892,48.0968,48.1028, 48.1089,48.1127,48.1197,48.124,48.13, 48.1341,48.14,48.1447,48.1506,48.1549, 48.1591,48.166,48.1711,48.1755,48.1823, 48.1867,48.1915,48.1974,48.2012,48.2015 ,48.2019,48.2023,48.2026,48.203,48.2034 ,48.2037,48.2041,48.2044,48.2048, 48.2052,48.2055,48.2059,48.2062,48.2066 ,48.207,48.2073,48.2077,48.208,48.2084, 48.2087,48.2091,48.2094,48.2097, 48.2092)
FOOTPRINT_POINT_LONGITUDE = (140.047,140.047,140.048,140.048, 140.049,140.05,140.05,140.051,140.051, 140.052,140.048,140.049,140.049,140.05, 140.051,140.051,140.052,140.052,140.053 ,140.053,140.054,140.054,140.055, 140.055,140.056,140.056,140.048,140.041 ,140.033,140.025,140.017,140.01,140.002 ,139.994,139.987,139.979,139.971, 139.964,139.956,139.949,139.941,139.933 ,139.926,139.918,139.91,139.903,139.895 ,139.887,139.88,139.872,139.861,139.861 ,139.86,139.859,139.859,139.858,139.857 ,139.857,139.856,139.856,139.855, 139.855,139.854,139.854,139.853,139.852 ,139.855,139.854,139.853,139.853, 139.852,139.852,139.851,139.85,139.856, 139.864,139.871,139.879,139.887,139.894 ,139.902,139.91,139.917,139.925,139.933 ,139.94,139.948,139.956,139.963,139.971 ,139.979,139.986,139.994,140.002, 140.009,140.017,140.025,140.032,140.04, 140.047)
ORBIT_NUMBER = 1566
ORBITAL_ECCENTRICITY = 0.566
ORBITAL_INCLINATION = 86.6
ORBITAL_SEMIMAJOR_AXIS = 8533.16
PERIAPSIS_ALTITUDE = 328.57
PERIAPSIS_ARGUMENT_ANGLE = 84.59
PERIAPSIS_TIME = 2005-04-06T06:10:43.000Z
SPACECRAFT_ORIENTATION = (0.0,1.0,0.0)
^MEX_ORIENTATION_DESC = "MEX_ORIENTATION_DESC.TXT"
SPACECRAFT_POINTING_MODE = ACROSSTRACK
^MEX_POINTING_DESC = "MEX_POINTING_DESC.TXT"
RIGHT_ASCENSION = -1e+32
DECLINATION = -1e+32
OFFSET_ANGLE = -1.65
SPACECRAFT_SOLAR_DISTANCE = 2.16717e+08
TARGET_NAME = MARS
/* CAMERA DATA ELEMENTS */
BUFFER_MODE_ID = BUFFER_8
EXPOSURE_DURATION = 5.04
INST_CMPRS_NAME = NONE
INST_CMPRS_RATIO = 1.0
INST_CMPRS_QUALITY = -2147483648
INST_CMPRS_QUANTZ_TBL_ID = -2147483648
INSTRUMENT_TEMPERATURE = 14.2424
MISSING_FRAMES = 0
START_BIT = 0
/* RADIOMETRIC DATA ELEMENTS */
BANDWIDTH = 250.0
CENTER_FILTER_WAVELENGTH = 600.0
RADIANCE_OFFSET = -9.99e+31
RADIANCE_SCALING_FACTOR = -9.99e+31
REFLECTANCE_SCALING_FACTOR = -9.99e+31
MEX:REFLECTANCE_OFFSET = -9.99e+31
/* IMAGE OBJECT DEFINITIONS */
OBJECT = IMAGE
  INTERCHANGE_FORMAT = BINARY
  LINES = 1682
  LINE_SAMPLES = 1712
  SAMPLE_TYPE = UNSIGNED_INTEGER
  SAMPLE_BITS = 8
  BANDS = 1
  BAND_STORAGE_TYPE = BAND_SEQUENTIAL
  MAXIMUM = 6014
  MEAN = 4908.63
  MINIMUM = 0
  STANDARD_DEVIATION = 331.537
END_OBJECT = IMAGE
/* MAP OBJECT DEFINITIONS */
OBJECT = IMAGE_MAP_PROJECTION
  ^DATA_SET_MAP_PROJECTION_CATALOG= "DSMAP.CAT"
  A_AXIS_RADIUS = 3396.19
  B_AXIS_RADIUS = 3396.19
  C_AXIS_RADIUS = 3396.19
  CENTER_LATITUDE = 0.0
  CENTER_LONGITUDE = 140.0
  COORDINATE_SYSTEM_NAME = PLANETOGRAPHIC
  COORDINATE_SYSTEM_TYPE = "BODY-FIXED ROTATING"
  EASTERNMOST_LONGITUDE = 140.056
  FIRST_STANDARD_PARALLEL = "N/A"
  LINE_FIRST_PIXEL = 1
  LINE_LAST_PIXEL = 1682
  LINE_PROJECTION_OFFSET = 570837.0
  MAP_PROJECTION_ROTATION = 0.0
  MAP_PROJECTION_TYPE = SINUSOIDAL
  MAP_RESOLUTION = 11854.9393024378
  MAP_SCALE = 0.005
  MAXIMUM_LATITUDE = 48.2097
  MINIMUM_LATITUDE = 48.074
  POSITIVE_LONGITUDE_DIRECTION = EAST
  REFERENCE_LATITUDE = "N/A"
  REFERENCE_LONGITUDE = "N/A"
  SAMPLE_FIRST_PIXEL = 1
  SAMPLE_LAST_PIXEL = 1712
  SAMPLE_PROJECTION_OFFSET = 1573.0
  SECOND_STANDARD_PARALLEL = "N/A"
  WESTERNMOST_LONGITUDE = 139.85
END_OBJECT = IMAGE_MAP_PROJECTION
/* The JPEG2000 image data file associated with this label. */
OBJECT = COMPRESSED_FILE
  FILE_NAME = "H1566_0005_SR3.JP2"
  RECORD_TYPE = UNDEFINED
  FILE_RECORDS = UNK
  ENCODING_TYPE = "JP2"
  INTERCHANGE_FORMAT = BINARY
  UNCOMPRESSED_FILE_NAME = "H1566_0005_SR3.IMG"
  REQUIRED_STORAGE_BYTES = "2900128"
  ^DESCRIPTION = "JP2INFO.TXT"
END_OBJECT = COMPRESSED_FILE
END
