PDS_VERSION_ID = PDS3
/* FILE DATA ELEMENTS */
RECORD_TYPE = STREAM
/* POINTERS TO DATA OBJECTS */
^COMPRESSED_FILE = "H1566_0006_SR3.JP2"
/* IDENTIFICATION DATA ELEMENTS */
DATA_SET_ID = "MEX-M-HRSC-5-REFDR-MAPPROJECTED-V3.0"
DATA_SET_NAME = "MARS EXPRESS HRSC MAP PROJECTED REFDR V3.0"
DETECTOR_ID = MEX_HRSC_SRC
EVENT_TYPE = "MARS-REGIONAL-MAPPING-Te-Im-Pf"
INSTRUMENT_HOST_ID = MEX
INSTRUMENT_HOST_NAME = "MARS EXPRESS"
INSTRUMENT_ID = HRSC
INSTRUMENT_NAME = "HIGH RESOLUTION STEREO CAMERA"
MISSION_NAME = "MARS EXPRESS"
MISSION_PHASE_NAME = MR_Phase_6
PROCESSING_LEVEL_ID = 3
PRODUCT_CREATION_TIME = 2016-03-08T06:50:01.000Z
PRODUCT_ID = "H1566_0006_SR3.JP2"
RELEASE_ID = 0020
REVISION_ID = 0000
/* QUALITY DATA ELEMENTS */
DATA_QUALITY_ID = 1
DATA_QUALITY_DESC = "Data calculated based on original SPICE kernels"
/* TIME DATA ELEMENTS */
SPACECRAFT_CLOCK_START_COUNT = "1/0060848156.57952"
SPACECRAFT_CLOCK_STOP_COUNT = "1/0060849430.45476"
IMAGE_TIME = 2005-04-06T06:23:43.489Z
START_TIME = 2005-04-06T06:23:43.487Z
STOP_TIME = 2005-04-06T06:23:43.492Z
/* ORBITAL DATA ELEMENTS */
ASCENDING_NODE_LONGITUDE = 195.66
MAXIMUM_RESOLUTION = 7.493
FOOTPRINT_POINT_LATITUDE = (48.0992,48.0958,48.0901,48.0818, 48.0747,48.0695,48.0623,48.0588,48.0526 ,48.0489,48.045,48.0381,48.0332,48.0285 ,48.0225,48.0171,48.0132,48.0085, 48.0023,47.9987,47.9944,47.9882,47.9845 ,47.98,47.9753,47.9716,47.9712,47.9709, 47.9705,47.97,47.9696,47.9692,47.9689, 47.9685,47.9682,47.9678,47.9674,47.9671 ,47.9667,47.9663,47.966,47.9656,47.9652 ,47.9649,47.9645,47.9641,47.9638, 47.9634,47.963,47.9627,47.9638,47.9716, 47.9767,47.9812,47.9846,47.9901,47.9957 ,47.9995,48.0046,48.011,48.0151,48.0187 ,48.0236,48.027,48.0322,48.0397,48.0467 ,48.0529,48.0563,48.0623,48.0661, 48.0718,48.0788,48.0835,48.0903,48.0906 ,48.091,48.0914,48.0917,48.0921,48.0925 ,48.0928,48.0932,48.0935,48.0939, 48.0943,48.0946,48.095,48.0953,48.0957, 48.096,48.0964,48.0968,48.0971,48.0975, 48.0978,48.0982,48.0985,48.0989, 48.0992)
FOOTPRINT_POINT_LONGITUDE = (140.055,140.055,140.056,140.057, 140.057,140.058,140.059,140.059,140.06, 140.06,140.06,140.061,140.062,140.062, 140.063,140.063,140.064,140.064,140.065 ,140.065,140.066,140.066,140.067, 140.067,140.067,140.068,140.06,140.052, 140.045,140.033,140.025,140.018,140.01, 140.002,139.995,139.987,139.979,139.972 ,139.964,139.956,139.949,139.941, 139.933,139.926,139.918,139.91,139.903, 139.895,139.887,139.88,139.873,139.872, 139.871,139.871,139.87,139.87,139.869, 139.869,139.868,139.868,139.867,139.867 ,139.866,139.866,139.865,139.865, 139.864,139.863,139.863,139.862,139.862 ,139.861,139.86,139.86,139.863,139.871, 139.879,139.886,139.894,139.902,139.909 ,139.917,139.925,139.932,139.94,139.948 ,139.955,139.963,139.971,139.978, 139.986,139.994,140.002,140.009,140.017 ,140.025,140.032,140.04,140.048, 140.055)
ORBIT_NUMBER = 1566
ORBITAL_ECCENTRICITY = 0.566
ORBITAL_INCLINATION = 86.6
ORBITAL_SEMIMAJOR_AXIS = 8533.16
PERIAPSIS_ALTITUDE = 328.57
PERIAPSIS_ARGUMENT_ANGLE = 84.59
PERIAPSIS_TIME = 2005-04-06T06:10:43.000Z
SPACECRAFT_ORIENTATION = (0.0,1.0,0.0)
^MEX_ORIENTATION_DESC = "MEX_ORIENTATION_DESC.TXT"
SPACECRAFT_POINTING_MODE = ACROSSTRACK
^MEX_POINTING_DESC = "MEX_POINTING_DESC.TXT"
RIGHT_ASCENSION = -1e+32
DECLINATION = -1e+32
OFFSET_ANGLE = -1.65
SPACECRAFT_SOLAR_DISTANCE = 2.16717e+08
TARGET_NAME = MARS
/* CAMERA DATA ELEMENTS */
BUFFER_MODE_ID = BUFFER_8
EXPOSURE_DURATION = 5.04
INST_CMPRS_NAME = NONE
INST_CMPRS_RATIO = 1.0
INST_CMPRS_QUALITY = -2147483648
INST_CMPRS_QUANTZ_TBL_ID = -2147483648
INSTRUMENT_TEMPERATURE = 14.2424
MISSING_FRAMES = 0
START_BIT = 0
/* RADIOMETRIC DATA ELEMENTS */
BANDWIDTH = 250.0
CENTER_FILTER_WAVELENGTH = 600.0
RADIANCE_OFFSET = -9.99e+31
RADIANCE_SCALING_FACTOR = -9.99e+31
REFLECTANCE_SCALING_FACTOR = -9.99e+31
MEX:REFLECTANCE_OFFSET = -9.99e+31
/* IMAGE OBJECT DEFINITIONS */
OBJECT = IMAGE
  INTERCHANGE_FORMAT = BINARY
  LINES = 1686
  LINE_SAMPLES = 1717
  SAMPLE_TYPE = UNSIGNED_INTEGER
  SAMPLE_BITS = 8
  BANDS = 1
  BAND_STORAGE_TYPE = BAND_SEQUENTIAL
  MAXIMUM = 5706
  MEAN = 4770.32
  MINIMUM = 0
  STANDARD_DEVIATION = 358.716
END_OBJECT = IMAGE
/* MAP OBJECT DEFINITIONS */
OBJECT = IMAGE_MAP_PROJECTION
  ^DATA_SET_MAP_PROJECTION_CATALOG= "DSMAP.CAT"
  A_AXIS_RADIUS = 3396.19
  B_AXIS_RADIUS = 3396.19
  C_AXIS_RADIUS = 3396.19
  CENTER_LATITUDE = 0.0
  CENTER_LONGITUDE = 140.0
  COORDINATE_SYSTEM_NAME = PLANETOGRAPHIC
  COORDINATE_SYSTEM_TYPE = "BODY-FIXED ROTATING"
  EASTERNMOST_LONGITUDE = 140.068
  FIRST_STANDARD_PARALLEL = "N/A"
  LINE_FIRST_PIXEL = 1
  LINE_LAST_PIXEL = 1686
  LINE_PROJECTION_OFFSET = 569528.0
  MAP_PROJECTION_ROTATION = 0.0
  MAP_PROJECTION_TYPE = SINUSOIDAL
  MAP_RESOLUTION = 11854.9393024378
  MAP_SCALE = 0.005
  MAXIMUM_LATITUDE = 48.0992
  MINIMUM_LATITUDE = 47.9627
  POSITIVE_LONGITUDE_DIRECTION = EAST
  REFERENCE_LATITUDE = "N/A"
  REFERENCE_LONGITUDE = "N/A"
  SAMPLE_FIRST_PIXEL = 1
  SAMPLE_LAST_PIXEL = 1717
  SAMPLE_PROJECTION_OFFSET = 1482.0
  SECOND_STANDARD_PARALLEL = "N/A"
  WESTERNMOST_LONGITUDE = 139.86
END_OBJECT = IMAGE_MAP_PROJECTION
/* The JPEG2000 image data file associated with this label. */
OBJECT = COMPRESSED_FILE
  FILE_NAME = "H1566_0006_SR3.JP2"
  RECORD_TYPE = UNDEFINED
  FILE_RECORDS = UNK
  ENCODING_TYPE = "JP2"
  INTERCHANGE_FORMAT = BINARY
  UNCOMPRESSED_FILE_NAME = "H1566_0006_SR3.IMG"
  REQUIRED_STORAGE_BYTES = "2915466"
  ^DESCRIPTION = "JP2INFO.TXT"
END_OBJECT = COMPRESSED_FILE
END
