PDS_VERSION_ID = PDS3
/* FILE DATA ELEMENTS */
RECORD_TYPE = STREAM
/* POINTERS TO DATA OBJECTS */
^COMPRESSED_FILE = "H1571_0000_ND3.JP2"
/* IDENTIFICATION DATA ELEMENTS */
DATA_SET_ID = "MEX-M-HRSC-5-REFDR-MAPPROJECTED-V3.0"
DATA_SET_NAME = "MARS EXPRESS HRSC MAP PROJECTED REFDR V3.0"
DETECTOR_ID = MEX_HRSC_NADIR
EVENT_TYPE = "MARS-REGIONAL-MAPPING-Te-Fl-Eo"
INSTRUMENT_HOST_ID = MEX
INSTRUMENT_HOST_NAME = "MARS EXPRESS"
INSTRUMENT_ID = HRSC
INSTRUMENT_NAME = "HIGH RESOLUTION STEREO CAMERA"
MISSION_NAME = "MARS EXPRESS"
MISSION_PHASE_NAME = MR_Phase_6
PROCESSING_LEVEL_ID = 3
PRODUCT_CREATION_TIME = 2016-03-08T06:50:01.000Z
PRODUCT_ID = "H1571_0000_ND3.JP2"
RELEASE_ID = 0020
REVISION_ID = 0000
/* QUALITY DATA ELEMENTS */
DATA_QUALITY_ID = 1
DATA_QUALITY_DESC = "Data calculated based on original SPICE kernels"
/* TIME DATA ELEMENTS */
SPACECRAFT_CLOCK_START_COUNT = "1/0060969077.57286"
SPACECRAFT_CLOCK_STOP_COUNT = "1/0060969977.11390"
START_TIME = 2005-04-07T15:52:00.318Z
STOP_TIME = 2005-04-07T16:06:22.372Z
/* ORBITAL DATA ELEMENTS */
ASCENDING_NODE_LONGITUDE = 195.55
MAXIMUM_RESOLUTION = 14.1
FOOTPRINT_POINT_LATITUDE = (78.1691,77.6853,76.4884,74.9503, 73.6805,72.7123,71.3912,70.7167,70.034, 69.3417,68.6366,67.922,67.1967,66.4603, 65.7122,64.9519,64.1789,63.3931,62.5935 ,61.7785,60.9495,60.1055,58.8084, 57.7291,56.8227,55.8975,54.9525,53.9879 ,53.0028,51.995,50.9654,49.9119,48.8341 ,47.7305,46.6002,45.442,44.2553,43.0376 ,41.7885,40.5071,39.1908,37.8385, 37.1484,36.4511,35.7589,35.0732,34.3932 ,33.7194,32.3898,32.3943,32.4212, 32.4313,32.4296,33.7414,35.0779,35.7557 ,36.4398,37.1292,37.8125,39.1523, 40.4568,41.7282,42.9674,44.1763,45.3546 ,46.5051,47.6283,48.7254,49.797,50.8448 ,51.8687,52.8712,53.8516,54.8113, 55.7517,56.672,57.5741,58.6482,59.9388, 60.7788,61.6035,62.4142,63.2099,63.9913 ,64.7599,65.5157,66.2592,66.9909, 67.7112,68.4208,69.1206,69.8071,70.4841 ,71.1526,72.4603,73.734,74.6707,76.185, 77.3587,78.1691)
FOOTPRINT_POINT_LONGITUDE = (363.621,367.017,367.936,368.893, 369.541,369.968,370.476,370.707,370.923 ,371.127,371.32,371.503,371.675,371.838 ,371.992,372.139,372.277,372.41,372.536 ,372.656,372.771,372.88,373.034,373.151 ,373.241,373.328,373.411,373.49,373.566 ,373.638,373.707,373.772,373.835, 373.894,373.949,374.002,374.053,374.1, 374.147,374.184,374.225,374.261,374.279 ,374.301,374.318,374.328,374.342, 374.355,374.379,373.033,371.592,370.308 ,369.154,369.23,369.296,369.329,369.358 ,369.387,369.411,369.455,369.488, 369.512,369.527,369.534,369.532,369.523 ,369.506,369.482,369.449,369.409, 369.362,369.307,369.245,369.175,369.097 ,369.012,368.918,368.793,368.621, 368.496,368.361,368.216,368.062,367.896 ,367.719,367.531,367.329,367.114, 366.885,366.64,366.379,366.101,365.803, 365.484,364.778,363.963,363.266,361.912 ,360.613,363.621)
ORBIT_NUMBER = 1571
ORBITAL_ECCENTRICITY = 0.566
ORBITAL_INCLINATION = 86.59
ORBITAL_SEMIMAJOR_AXIS = 8532.74
PERIAPSIS_ALTITUDE = 328.45
PERIAPSIS_ARGUMENT_ANGLE = 83.68
PERIAPSIS_TIME = 2005-04-07T15:47:27.000Z
SPACECRAFT_ORIENTATION = (0.0,1.0,0.0)
^MEX_ORIENTATION_DESC = "MEX_ORIENTATION_DESC.TXT"
SPACECRAFT_POINTING_MODE = ACROSSTRACK
^MEX_POINTING_DESC = "MEX_POINTING_DESC.TXT"
RIGHT_ASCENSION = -1e+32
DECLINATION = -1e+32
OFFSET_ANGLE = 0.5
SPACECRAFT_SOLAR_DISTANCE = 2.16474e+08
TARGET_NAME = MARS
/* CAMERA DATA ELEMENTS */
DETECTOR_TEMPERATURE = 18.3705
FOCAL_PLANE_TEMPERATURE = 8.1755
INST_CMPRS_NAME = "DISCRETE COSINE TRANSFORMATION (DCT)"
INST_CMPRS_RATIO = 7.20675
INST_CMPRS_QUALITY = 0
INST_CMPRS_QUANTZ_TBL_ID = 0
INSTRUMENT_TEMPERATURE = 11.4379
LENS_TEMPERATURE = 8.5833
MACROPIXEL_SIZE = 1
MISSING_FRAMES = 221
PIXEL_SUBSAMPLING_FLAG = N
SIGNAL_CHAIN_ID = 0
/* RADIOMETRIC DATA ELEMENTS */
BANDWIDTH = 177.0
CENTER_FILTER_WAVELENGTH = 677.5
RADIANCE_OFFSET = 0.511003
RADIANCE_SCALING_FACTOR = 0.0367388
REFLECTANCE_SCALING_FACTOR = 0.000914579
MEX:REFLECTANCE_OFFSET = 0.012721
/* IMAGE OBJECT DEFINITIONS */
OBJECT = IMAGE
  INTERCHANGE_FORMAT = BINARY
  LINES = 217729
  LINE_SAMPLES = 24701
  SAMPLE_TYPE = UNSIGNED_INTEGER
  SAMPLE_BITS = 8
  BANDS = 1
  BAND_STORAGE_TYPE = BAND_SEQUENTIAL
  MAXIMUM = 312
  MEAN = 124.921
  MINIMUM = 10
  STANDARD_DEVIATION = 62.5343
END_OBJECT = IMAGE
/* MAP OBJECT DEFINITIONS */
OBJECT = IMAGE_MAP_PROJECTION
  ^DATA_SET_MAP_PROJECTION_CATALOG= "DSMAP.CAT"
  A_AXIS_RADIUS = 3396.0
  B_AXIS_RADIUS = 3396.0
  C_AXIS_RADIUS = 3396.0
  CENTER_LATITUDE = 0.0
  CENTER_LONGITUDE = 11.0
  COORDINATE_SYSTEM_NAME = PLANETOGRAPHIC
  COORDINATE_SYSTEM_TYPE = "BODY-FIXED ROTATING"
  EASTERNMOST_LONGITUDE = 14.379
  FIRST_STANDARD_PARALLEL = "N/A"
  LINE_FIRST_PIXEL = 1
  LINE_LAST_PIXEL = 217729
  LINE_PROJECTION_OFFSET = 371152.0
  MAP_PROJECTION_ROTATION = 0.0
  MAP_PROJECTION_TYPE = SINUSOIDAL
  MAP_RESOLUTION = 4741.71043093333
  MAP_SCALE = 0.0125
  MAXIMUM_LATITUDE = 78.1691
  MINIMUM_LATITUDE = 32.3898
  POSITIVE_LONGITUDE_DIRECTION = EAST
  REFERENCE_LATITUDE = "N/A"
  REFERENCE_LONGITUDE = "N/A"
  SAMPLE_FIRST_PIXEL = 1
  SAMPLE_LAST_PIXEL = 24701
  SAMPLE_PROJECTION_OFFSET = 11013.0
  SECOND_STANDARD_PARALLEL = "N/A"
  WESTERNMOST_LONGITUDE = 0.613
END_OBJECT = IMAGE_MAP_PROJECTION
/* The JPEG2000 image data file associated with this label. */
OBJECT = COMPRESSED_FILE
  FILE_NAME = "H1571_0000_ND3.JP2"
  RECORD_TYPE = UNDEFINED
  FILE_RECORDS = UNK
  ENCODING_TYPE = "JP2"
  INTERCHANGE_FORMAT = BINARY
  UNCOMPRESSED_FILE_NAME = "H1571_0000_ND3.IMG"
  REQUIRED_STORAGE_BYTES = "5378198132"
  ^DESCRIPTION = "JP2INFO.TXT"
END_OBJECT = COMPRESSED_FILE
END
